Workbook

Sheet 22 priedas
E2: Energetikos, geriamojo vandens tiekimo ir nuotekų tvarkymo, paviršinių nuotekų tvarkymo įmonių informacijos teikimo taisyklių
E4: 22 priedas
B7: Duomenys apie ūkio subjektą: | E7: Duomenys apie kontaktinį asmenį:
B8: Pavadinimas | D8: UAB "Visagino energija" | E8: V., pavardė | F8: Olga Lukjanova
B9: Kodas | D9: 110087517 | E9: Pareigos | F9: Ekonomikos skyriaus vadovė
B10: Buveinės adresas | D10: Taikos pr. 26A, p/d Nr. 3, 31002 Visaginas | E10: Telefonas | F10: (8 386) 25 911
B11: Telefonas | D11: (8 386) 25 901 | E11: El. paštas | F11: o_lukjanova@visaginoenergija.lt
B12: Faksas | D12: (8 386) 60 860
B13: El. paštas | D13: visagino_energija@visaginoenergija.lt
D16: ŠILUMOS KAINOS SKAIČIAVIMAS | E16: 2024 METŲ BIRŽELIO MĖNESIUI
B18: Eil. Nr. | C18: Pavadinimas | D18: Mato vnt. | E18: Rodiklis / pastaba | F18: Kainos
B19: 1 | C19: 2 | D19: 3 | E19: 4 | F19: 5
B20: 1. | C20: ŠILUMOS (PRODUKTO) GAMYBOS (ĮSIGIJIMO) KAINOS DEDAMOSIOS
B21: 1.1. | C21: Šilumos (produkto) gamybos (įsigijimo) vienanarė kaina (kainos dedamosios) (1.1.1 + 1.1.2) | D21: ct/kWh | E21: TH = TH, PD + TH, KD | F21: =F22+F23 -> 4.55
B22: 1.1.1. | C22: vienanarės kainos pastovioji dedamoji | D22: ct/kWh | E22: TH, PD | F22: =ROUND(1915931*100/189379991,2) -> 1.01 | G22: =2508*100/189379991 -> 0.0013243215
B23: 1.1.2. | C23: vienanarės kainos kintamoji dedamoji | D23: ct/kWh | E23: TH, KD | F23: =ROUND(((2508+(32557.44*F25+539213*0.2125+5812*1.509))*100+156060432*F36)/189379991,2) -> 3.54
D24: formulė | E24: T H,KD = (2 508 + (32 557,44 × pF + 539 213 × pE + 5 812 × pW + 156 060 432 × pHP))*100 / 189 379 991 | G24: =(32557.44*F25)*100/189379991 -> 1.0238867
B25: 1.1.3. | C25: Vidutinė svertinė kuro kaina, taikoma šilumos kainos skaičiavime | D25: Eur/MWh | F25: =F27 -> 59.557405 | G25: =156060432*F36/189379991 -> 2.4474575
B26: 2.1.3.1. 1.1.3.1. | C26: Gamtinės dujos
B27: 1.1.3.1.1. | C27: Gamtinių dujų kuro kaina, taikoma šilumos kainos skaičiavimuose | D27: Eur/MWh | F27: =53.71/9.4296*10.4562 -> 59.557405 | G27: =539213*0.2125*100/189379991 -> 0.060504155
B28: 1.1.3.1.2. | C28: Gamtinių dujų kuro kiekis, taikomas šilumos kainos skaičiavimuose | D28: MWh | F28: 32557.44 | G28: =5812*1.509*100/189379991 -> 0.0046310637
B29: 1.1.3.2. | C29: Medienos kilmės biokuras
B30: 1.1.3.2.1. | C30: kuro kaina, taikoma šilumos kainos skaičiavimuose | D30: Eur/MWh
B31: 1.1.3.2.2. | C31: kuro kiekis, taikomas šilumos kainos skaičiavimuose | D31: MWh
B32: 1.1.3.3. | C32: Kuro rūšis (įvardinti)
B33: 1.1.3.3.1. | C33: kuro kaina, taikoma šilumos kainos skaičiavimuose | D33: Eur/MWh
B34: 1.1.3.3.2. | C34: kuro kiekis, taikomas šilumos kainos skaičiavime | D34: MWh
B35: ... | C35: ...
B36: 1.1.4. | C36: Šilumos įsigijimo šilumos aukcione kaina taikoma šilumos kainos skaičiavime | D36: ct/kWh | E36: – | F36: 2.97
B37: 1.2. | C37: Šilumos (produkto) gamybos (įsigijimo) dvinarė kaina (kainos dedamosios):
B38: 1.2.1. | C38: pastovioji kainos dalis (mėnesio užmokestis) | D38: Eur/mėn./kW | E38: TH, MU | F38: 6.36
B39: 1.2.2. | C39: kintamoji kainos dalis | D39: ct/kWh | E39: TH, KD, dv | F39: =F23 -> 3.54
B40: 2. | C40: ŠILUMOS PERDAVIMO KAINOS DEDAMOSIOS
B41: 2.1. | C41: Šilumos perdavimo vienanarė kaina (kainos dedamosios) (2.1.1 + 2.1.2) | D41: ct/kWh | E41: THT = THT, PD + THT, KD | F41: =F42+F43 -> 2.64
B42: 2.1.1. | C42: vienanarės šilumos perdavimo kainos pastovioji dedamoji | D42: ct/kWh | E42: THT, PD | F42: =ROUND(2074342*100/163674587,2) -> 1.27 | G42: =(189379.991*2.853*0.208)*100/163674587 -> 0.068662236
B43: 2.1.2. | C43: vienanarės šilumos perdavimo kainos kintamoji dedamoji | D43: ct/kWh | E43: THT, KD | F43: =ROUND((189379.991*2.853*0.208+15272*1.38+26550262*F21/100)*100/163674587,2)+0.55 -> 1.37 | G43: =(15272*1.38)*100/163674587 -> 0.012876379
D44: formulė | E44: THT,KD = (540 301 × pE + 15 272 × pW + 26 550 262× RH) / 163 674 587 | G44: =(26550262*F21/100)*100/163674587+0.55 -> 1.2880724
B45: 2.2. | C45: Šilumos perdavimo dvinarė kaina (kainos dedamosios):
B46: 2.2.1. | C46: pastovioji kainos dalis (mėnesio užmokestis) | D46: Eur/mėn./kW | E46: THT, MU | F46: 8
B47: 2.2.2. | C47: kintamoji kainos dalis | D47: ct/kWh | E47: THT, KD, dv | F47: =F43 -> 1.37
B48: 3. | C48: MAŽMENINIO APTARNAVIMO KAINA (KAINOS DEDAMOSIOS)
B49: 3.1. | C49: Mažmeninio aptarnavimo kaina vartotojams už suvartotą šilumos kiekį | D49: ct/kWh | E49: THS, PD | F49: 0.17
B50: 3.2. | C50: Mažmeninio aptarnavimo pastovus (mėnesio) užmokestis) | D50: Eur/mėn./kW | E50: THS, MU | F50: 1.08
B51: 4. | C51: NEPADENGTŲ SĄNAUDŲ IR (AR) PAPILDOMAI GAUTŲ PAJAMŲ DEDAMOJI (4.1. + 4.2. + ...) | D51: ct/kWh | E51: – | F51: =ROUND(F52+F55,2) -> -1.39
B52: 4.1. | C52: Papildoma dedamoji dėl papildomai gautų pajamų dalyvaujant šilumos aukcione, dėl šilumos kainoje įskaitytų ir faktiškai patirtų sąnaudų kurui įsigyti neatitikties, dėl šilumos kainoje įskaitytų ir faktiškai patirtų sąnaudų elektros energijai technologinėms reikmėms įsigyti neatitikties (2632,21 tūkst. Eur), nustatyta Visagino savivaldybės tarybos 2024 m. sausio 26 d. sprendimu Nr.TS-18 | D52: ct/kWh | E52: Taikymo laikotarpis nuo (2024-03-01) iki (2025-02-28) | F52: =(-1205085.86-541216-1066217+176923+3390)*100/189174801 -> -1.3914146
B55: 4.2. | C55: Papildoma dedamoji dėl nesusigrąžintų mokestinių įsipareigojimų sąnaudų sumą (11,49 tūkst. Eur), nustatyta Visagino savivaldybės tarybos 2024 m. sausio 26 d. sprendimu Nr.TS-18 | D55: ct/kWh | E55: Taikymo laikotarpis nuo (2024-03-01) iki (2025-02-28) | F55: =(11490)*100/189174801 -> 0.0060737476
B56: ... | C56: ... | D56: ct/kWh | E56: ...
B57: 5. | C57: APSKAIČIUOTA ŠILUMOS VIENANARĖ KAINA (1.1 + 2.1 + 3.1 + 4) | D57: ct/kWh | F57: =F21+F41+F49+F51 -> 5.97
B58: 6. | C58: Subsidijos dydis | D58: ct/kWh | E58: Savivaldybės sprendimas, kuriuo vadovaujantis taikoma subsidija ___________________ (įrašyti sprendimo datą ir numerį )
B59: 7. | C59: Galutinė šilumos vienanarė kaina (be PVM) | D59: ct/kWh | E59: – | F59: =F57 -> 5.97
B60: 8. | C60: Galutinė šilumos vienanarė kaina (su PVM) | D60: ct/kWh | E60: – | F60: =F59*1.09 -> 6.5073
B61: 9. | C61: Praėjusį mėnesį savuose šaltiniuose faktiškai pagamintas šilumos kiekis | D61: kWh | E61: 2024 m. balandžio mėn. | F61: 6230215
B62: 10. | C62: Praėjusį mėnesį faktiškai į tinklą patiektas šilumos kiekis | D62: kWh | F62: =F63 -> 11139685
B63: 10.1. | C63: Savivaldybė (Visagino sav.) | D63: kWh | F63: 11139685
B64: ...
B65: 11. | C65: Praėjusį mėnesį faktiškai realizuotas šilumos kiekis | D65: kWh | F65: =F66 -> 9321577.5
B66: 11.1. | C66: Savivaldybė (Visagino sav.) | D66: kWh | F66: 9321577.5
B67: ...
B68: 12. | C68: Sprendimas, nutarimas ar ūkio subjekto įstatuose nustatytas dokumentas, kuriuo nustatytas šilumos gamybos ir (ar) tiekimo pajamų lygis | D68: Visagino savivaldybės tarybos 2024 m. sausio 26 d. sprendimas Nr.TS-18
B69: Paaiškinimai: 1. Žymėjimai, nurodyti 4 stulpelyje, atitinka Šilumos kainų nustatymo metodikos, patvirtintos Valstybinės energetikos reguliavimo tarybos 2009 m. liepos 8 d. nutarimu Nr. O3-96 „Dėl Šilumos kainų nustatymo metodikos“, nustatytus žymėjimus. 2. 4 stulpelio 1.1.2 eil., 2.1.2 eil. įrašomos šilumos kainos kintamųjų dedamųjų formulės, šilumos tiekėjo taikomos apskaičiuojant galutinę mėnesio šilumos kainą. 3. Esant poreikiui 4 stulpelyje nurodoma kaip apskaičiuota vidutinė svertinė kuro kaina atitinkamos kuro rūšies kaina ir kiekis, kitos prielaidos ir pan. 4. Lentelės 1.1.3 dalyje nurodoma galutinės šilumos kainos skaičiavimuose taikoma kuro kaina, apskaičiuota kaip CŠT sistemų, kuriose neveikia NŠG, ir šilumos poreikio piko pajėgumų užtikrinimo CŠT sistemose, kuriose veikia NŠG, vidutinė svertinė kuro kaina.
B78: Tvirtinu: | C78: Generalinis direktorius | D78: ________ | E78: Zigmas Jurgutavičius
C79: Pareigos | D79: Parašas | E79: Vardas, pavardė

Sheet 23 priedas
E2: Energetikos, geriamojo vandens tiekimo ir nuotekų tvarkymo, paviršinių nuotekų tvarkymo įmonių informacijos teikimo taisyklių
E4: 23 priedas
B7: Duomenys apie ūkio subjektą: | D7: ='22 priedas'!D8 -> UAB "Visagino energija" | E7: Duomenys apie kontaktinį asmenį:
B8: Pavadinimas | D8: ='22 priedas'!D9 -> 110087517 | E8: V., pavardė | F8: ='22 priedas'!F8 -> Olga Lukjanova
B9: Kodas | D9: ='22 priedas'!D10 -> Taikos pr. 26A, p/d Nr. 3, 31002 Visaginas | E9: Pareigos | F9: ='22 priedas'!F9 -> Ekonomikos skyriaus vadovė
B10: Buveinės adresas | D10: ='22 priedas'!D11 -> (8 386) 25 901 | E10: Telefonas | F10: ='22 priedas'!F10 -> (8 386) 25 911
B11: Telefonas | D11: ='22 priedas'!D12 -> (8 386) 60 860 | E11: El. paštas | F11: ='22 priedas'!F11 -> o_lukjanova@visaginoenergija.lt
B12: Faksas | D12: ='22 priedas'!D13 -> visagino_energija@visaginoenergija.lt
B13: El. paštas | D13: ='22 priedas'!D13 -> visagino_energija@visaginoenergija.lt
D16: KARŠTO VANDENS KAINOS SKAIČIAVIMAS | E16: ='22 priedas'!E16 -> 2024 METŲ BIRŽELIO MĖNESIUI
B18: Karšto vandens kainos skaičiavimas (esant uždarai sistemai, daugiabučių namų vartotojams)
B20: Eil. Nr. | C20: Pavadinimas | D20: Mato vnt. | E20: Rodiklis / pastaba | F20: Kainos / kiekiai
B21: 1 | C21: 2 | D21: 3 | E21: 4 | F21: 5
B22: 1. | C22: KARŠTO VANDENS KAINOS DEDAMOSIOS:
B23: 1.1. | C23: karšto vandens kainos pastovioji dedamoji | D23: Eur/m3 | E23: Tkv pd | F23: 0.15
B24: 1.2. | C24: karšto vandens kainos kintamoji dedamoji | D24: Eur/m3 | E24: Tkv kd | F24: =ROUND((52.57*F26/100)+(1.03*F27)+(0.016*F28),2) -> 6.25
D25: formulė | E25: (52,57 x Tš) + (1,03 x Tgv) + (0,016 x Tgv pard)
B26: 2. | C26: Šilumos kaina, naudojama karšto vandens kainos skaičiavimuose | D26: ct/kWh | E26: - | F26: =ROUND('22 priedas'!F59,2) -> 5.97
B27: 3. | C27: Geriamojo vandens tiekimo ir nuotekų tvarkymo paslaugų kaina | D27: Eur/m3 | E27: Valstybės energetikos reguliavimo tarnybos 2023 m. gegužės 26 d. nutarimu Nr.O3E-681 | F27: 2.98
B28: 4. | C28: Geriamojo vandens pardavimo kaina | D28: Eur/apsk. pr. per mėn. | E28: Visagino savivaldybės tarybos 2020 m. lapkričio 20 d. sprendimas Nr. TS-256 | F28: 2.37
B29: 5. | C29: PAPILDOMA DEDAMOJI (5.1. + 5.2. + ...) | D29: Eur/m3 | E29: -
B30: 5.1. | C30: Papildoma dedamoji dėl _____________________________ (įrašyti), nustatyta _____________________________ (įrašyti nutarimo ar ūkio subjekto įstatuose nustatyto dokumento datą ir numerį) | D30: Eur/m3 | E30: Taikymo laikotarpis nuo_________________ (įrašyti laikotarpį) iki_________________ (įrašyti laikotarpį)
B35: 5.2. | C35: ... | D35: Eur/m3 | E35: ...
B36: ... | C36: ... | D36: Eur/m3 | E36: ...
B37: 6. | C37: Galutinė karšto vandens kaina | D37: Eur/m3 | E37: - | F37: =F23+F24 -> 6.4
C38: (be PVM) (1.1.+1.2.+5)
B39: 7. | C39: Galutinė karšto vandens kaina | D39: Eur/m3 | E39: - | F39: =F37*1.09 -> 6.976
C40: (su PVM)
B41: 8. | C41: Nutarimas ar ūkio subjekto įstatuose nustatytas dokumentas, kuriuo nustatytos karšto vandens kainos dedamosios | D41: Valstybinė energetikos reguliavimo taryba 2023 m. gruodžio 28 d. nutarimas Nr. O3E-1896
B44: Karšto vandens kainos skaičiavimas (esant uždarai sistemai, kitiems daugiabučių namų vartotojams - įmonėms, organizacijoms)
B46: Eil. Nr. | C46: Pavadinimas | D46: Mato vnt. | E46: Rodiklis / pastaba | F46: Kainos / kiekiai
B47: 1 | C47: 2 | D47: 3 | E47: 4 | F47: 5
B48: 1. | C48: KARŠTO VANDENS KAINOS DEDAMOSIOS:
B49: 1.1. | C49: karšto vandens kainos pastovioji dedamoji | D49: Eur/m3 | E49: Tkv pd | F49: =F23 -> 0.15
B50: 1.2. | C50: karšto vandens kainos kintamoji dedamoji | D50: Eur/m3 | E50: Tkv kd | F50: =ROUND((52.57*F52/100)+(1.03*F53)+(0.016*F54),2) -> 6.34
D51: formulė | E51: (52,57 x Tš) + (1,03 x Tgv) + (0,016 x Tgv pard)
B52: 2. | C52: Šilumos kaina, naudojama karšto vandens kainos skaičiavimuose | D52: ct/kWh | E52: - | F52: =ROUND('22 priedas'!F59,2) -> 5.97
B53: 3. | C53: Geriamojo vandens tiekimo ir nuotekų tvarkymo paslaugų kaina | D53: Eur/m3 | E53: Valstybės energetikos reguliavimo tarnybos 2023 m. gegužės 26 d. nutarimu Nr.O3E-681 | F53: 3.07
B54: 4. | C54: Geriamojo vandens pardavimo kaina | D54: Eur/apsk. pr. per mėn. | E54: Visagino savivaldybės tarybos 2020 m. lapkričio 20 d. sprendimas Nr. TS-256 | F54: 2.37
B55: 5. | C55: PAPILDOMA DEDAMOJI (5.1. + 5.2. + ...) | D55: Eur/m3 | E55: -
B56: 5.1. | C56: Papildoma dedamoji dėl _____________________________ (įrašyti), nustatyta _____________________________ (įrašyti nutarimo ar ūkio subjekto įstatuose nustatyto dokumento datą ir numerį) | D56: Eur/m3 | E56: Taikymo laikotarpis nuo_________________ (įrašyti laikotarpį) iki_________________ (įrašyti laikotarpį)
B61: 5.2. | C61: ... | D61: Eur/m3 | E61: ...
B62: ... | C62: ... | D62: Eur/m3 | E62: ...
B63: 6. | C63: Galutinė karšto vandens kaina | D63: Eur/m3 | E63: - | F63: =F49+F50 -> 6.49
C64: (be PVM) (1.1.+1.2.+5)
B65: 7. | C65: Galutinė karšto vandens kaina | D65: Eur/m3 | E65: - | F65: =F63*1.09 -> 7.0741
C66: (su PVM)
B67: 8. | C67: Galutinė karšto vandens kaina | D67: Eur/m3 | E67: - | F67: =F63*1.21 -> 7.8529
C68: (su PVM)
B69: 9. | C69: Nutarimas ar ūkio subjekto įstatuose nustatytas dokumentas, kuriuo nustatytos karšto vandens kainos dedamosios | D69: Valstybinė energetikos reguliavimo taryba 2023 m. gruodžio 28 d. nutarimas Nr. O3E-1896
B73: Karšto vandens kainos skaičiavimas (esant uždarai sistemai, kitiems vartotojams)
B75: Eil. Nr. | C75: Pavadinimas | D75: Mato vnt. | E75: Rodiklis / pastaba | F75: Kainos / kiekiai
B76: 1 | C76: 2 | D76: 3 | E76: 4 | F76: 5
B77: 1. | C77: KARŠTO VANDENS KAINOS DEDAMOSIOS:
B78: 1.1. | C78: karšto vandens kainos pastovioji dedamoji | D78: Eur/m3 | E78: Tkv pd | F78: =F49 -> 0.15
B79: 1.2. | C79: karšto vandens kainos kintamoji dedamoji | D79: Eur/m3 | E79: Tkv kd | F79: =ROUND((51*F81/100)+(1*F82)+(0.016*F83),2) -> 6.15
D80: formulė | E80: (51 x Tš) + (1,00 x Tgv) + (0,016 x Tgv pard)
B81: 2. | C81: Šilumos kaina, naudojama karšto vandens kainos skaičiavimuose | D81: ct/kWh | E81: - | F81: =ROUND('22 priedas'!F59,2) -> 5.97
B82: 3. | C82: Geriamojo vandens tiekimo ir nuotekų tvarkymo paslaugų kaina | D82: Eur/m3 | E82: Valstybės energetikos reguliavimo tarnybos 2023 m. gegužės 26 d. nutarimu Nr.O3E-681 | F82: 3.07
B83: 4. | C83: Geriamojo vandens pardavimo kaina | D83: Eur/apsk. pr. per mėn. | E83: Visagino savivaldybės tarybos 2020 m. lapkričio 20 d. sprendimas Nr. TS-256 | F83: 2.37
B84: 5. | C84: PAPILDOMA DEDAMOJI (5.1. + 5.2. + ...) | D84: Eur/m3 | E84: -
B85: 5.1. | C85: Papildoma dedamoji dėl _____________________________ (įrašyti), nustatyta _____________________________ (įrašyti nutarimo ar ūkio subjekto įstatuose nustatyto dokumento datą ir numerį) | D85: Eur/m3 | E85: Taikymo laikotarpis nuo_________________ (įrašyti laikotarpį) iki_________________ (įrašyti laikotarpį)
B90: 5.2. | C90: ... | D90: Eur/m3 | E90: ...
B91: ... | C91: ... | D91: Eur/m3 | E91: ...
B92: 6. | C92: Galutinė karšto vandens kaina | D92: Eur/m3 | E92: - | F92: =F78+F79 -> 6.3
C93: (be PVM) (1.1.+1.2.+5)
B94: 7. | C94: Galutinė karšto vandens kaina | D94: Eur/m3 | E94: - | F94: =F92*1.21 -> 7.623
C95: (su PVM)
B96: 8. | C96: Nutarimas ar ūkio subjekto įstatuose nustatytas dokumentas, kuriuo nustatytos karšto vandens kainos dedamosios | D96: Valstybinė energetikos reguliavimo taryba 2023 m. gruodžio 28 d. nutarimas Nr. O3E-1896
B97: Paaiškinimai: 1. Žymėjimai, nurodyti 4 stulpelyje, atitinka Karšto vandens kainų nustatymo metodikos, patvirtintos Tarybos 2009 m. liepos 21 d. nutarimu Nr. O3-106, nustatytus žymėjimus. 2. 4 stulpelio 1.2. eil. įrašoma karšto vandens kainos kintamosios dedamosios formulė, nustatyta reguliuojančios institucijos nutarimu ar ūkio subjekto įstatuose nustatytu dokumentu. 3. 4 stulpelio 3 eil. nurodomas institucijos nutarimas, sprendimas ar ūkio subjekto įstatuose nustatytas dokumentas, kuriuo nustatytos geriamojo vandens tiekimo, nuotekų tvarkymo paslaugų ir pardavimo kainos.
B104: Tvirtinu: | C104: ='22 priedas'!C78 -> Generalinis direktorius | D104: ________ | E104: ='22 priedas'!E78 -> Zigmas Jurgutavičius
C105: Pareigos | D105: Parašas | E105: Vardas, pavardė
