Workbook
Name _Hlk122275804: 'II skyrius'!$Q$126
Name _Hlk89418331: 'V skyrius VŠĮ+UAB rodikliai'!#REF!
Name _Hlk92374825: 'V skyrius VŠĮ+UAB rodikliai'!#REF!
Name _Hlk92374960: 'V skyrius VŠĮ+UAB rodikliai'!$C$22
Name _Hlk92375563: 'V skyrius VŠĮ+UAB rodikliai'!$C$38
Name _Hlk92375700: 'V skyrius VŠĮ+UAB rodikliai'!$C$63
Name _Hlk92375786: 'V skyrius VŠĮ+UAB rodikliai'!#REF!
Name _Hlk92376639: 'V skyrius VŠĮ+UAB rodikliai'!$C$51
Name _Toc123901348: 'VI skyrius. Kita svarbi info-AN'!#REF!
Name _Toc123901357: 'VI skyrius. Kita svarbi info-AN'!#REF!
Name _Toc123901359: 'V skyrius VŠĮ+UAB rodikliai'!$C$169
Name _Toc506024955: 'Vertinimo kriterijai'!$A$1
Name Excel_BuiltIn__FilterDatabase_2: #REF!

Sheet I skyrius 
I1: PROJEKTAS PATVIRTINTA Visagino savivaldybės tarybos 2024 m. ______ d. sprendimu Nr. TS-_____
B4: VISAGINO SAVIVALDYBĖS ADMINISTRACIJOS 2024-2026 METŲ STRATEGINIS VEIKLOS PLANAS
B7: I SKYRIUS SAVIVALDYBĖS MISIJA IR VEIKLOS PRIORITETAI
B9: MISIJA
B11: Sėkmingai plėtoti ir įgyvendinti savivaldos teisę, užtikrinti subalansuotą plėtrą bei kokybiškai vykdyti viešojo administravimo ir viešųjų paslaugų teikimo funkcijas, tenkinant Visagino savivaldybės bendruomenės viešuosius poreikius ir interesus
B17: SAVIVALDYBĖS PRIORITETAI
B19: 1. Konkurencingo verslo skatinimas ir vietinės ekonomikos tvari plėtra 2. Socialinės gerovės kūrimas, sumaniai, pažangiai, besimokančiai, moderniai ir laimingai bendruomenei 3. Tvarus, subalansuotas savivaldybės aplinkos vystymas ir plėtra

Sheet II skyrius
B3: II SKYRIUS
B4: SAVIVALDYBĖS PLĖTROS TIKSLAI, UŽDAVINIAI IR JŲ STEBĖSENOS RODIKLIAI
C6: 1 lentelė. Tikslai, uždaviniai ir jų stebėsenos rodikliai
C7: SSPP tikslų ir uždavinių kodas | D7: SSPP tikslai ir uždaviniai | E7: Stebėsenos rodiklis (matavimo vnt.) | F7: Pradinė stebėsenos rodiklio reikšmė (2022) | G7: Siektinos stebėsenos rodiklio reikšmės | J7: Faktinė stebėsenos rodiklio reikšmė (2023) | K7: Siekiama stebėsenos rodiklio reikšmė (2030)
G8: 2024 metai | H8: 2025 metai | I8: 2026 metai
C9: 1 | D9: 2 | E9: 3 | F9: 4 | G9: 5 | H9: 6 | I9: 7 | J9: 8 | K9: 9
C10: 1.1. | D10: Gerinti investicinės aplinkos patrauklumą ir didinti ekonominį potencialą | E10: E-1.1-1 Dirbančiųjų skaičius (tūkst. asm.) | F10: 7470 | G10: 7450 | H10: 7460 | I10: 7470 | J10: 7470 | K10: 8000
C11: 1.1.-1 | D11: Pagerinti investicijų pritraukimo ir verslo plėtros sąlygas | E11: Materialinės investicijos, tenkančios 1-am gyventojui (Eur) | F11: 1116 Eur (2020) | G11: 889 | H11: 890 | I11: 891 | J11: 1116 Eur (2020) | K11: Ne mažiau kaip 1200 Eur (2030 )
E12: Pritraukta naujų tiesioginių užsienio investicijų, tenkančių 1-am gyventojui (Eur) | F12: 571 Eur (2020) | G12: 739 | H12: 740 | I12: 741 | J12: 571 Eur (2020) | K12: 800 Eur (2030 m)
C13: 1.1.-2 | D13: Skatinti gyventojų verslumą ir ekonominį mobilumą | E13: Verslumo lygis (veikiančių SVV įmonių skaičius, tenkantis 1000 gyv., koef.) | F13: 15,5 (2022) | G13: 14.78 | H13: 14.8 | I13: 15 | J13: 15,5 (2022) | K13: Ne mažiau kaip 20 (2030)
E14: Gyventojų aktyvumas, vykdant individualią veiklą (gyventojų, besiverčiančių veikla pagal individualios veiklos pažymą ir verslo liudijimus, skaičius, tenkantis 1000-iui gyv., koef.) | F14: 1,52 (2022) | G14: 19.55 | H14: 20 | I14: 20 | J14: 1,52 (2022) | K14: Ne mažiau kaip 5 (2030)
E15: Sukurti ir įgyvendinti verslumo skatinimo programą | F15: 0 (2022) | G15: 1 | H15: 0 | I15: 0 | J15: 0 (2022) | K15: 1 (2024)
E16: Bendradarbystės centro „Spiečius“ narių skaičius | F16: 15 (2022) | G16: 25 | H16: 35 | I16: 45 | J16: 15 (2022) | K16: 100 (2030)
C17: 1.1.-3 | D17: Sukurti tinkamas sąlygas strateginėms verslo kryptims plėtotis Visagino savivaldybėje | E17: Strateginėse verslo kryptyse veikiančių verslo subjektų skaičius | F17: 2 (2022) | G17: 2 | H17: 2 | I17: 3 | J17: 2 (2022) | K17: 4 (2030)
C18: 1.2. | D18: Didinti turistinį savivaldybės patrauklumą, teikiant viešąsias paslaugas bei plėtojant viešąją turizmo infrastruktūrą | E18: Nakvynių skaičius apgyvendinimo įstaigose, vnt. | F18: 506 (2022) | G18: 7855 | H18: 8000 | I18: 8100 | J18: 506 (2022) | K18: 700 (2030)
C19: 1.2.-1 | D19: Skatinti turizmo konkurencingumą, teikiant viešąsias ir verslo paslaugas bei vykdant aktyvią paslaugų rinkodarą | E19: Turistų, apsilankiusių VTPC, dalis sezono metu (gegužės–rugpjūčio mėn.), palyginti su bendruoju metiniu turistų skaičiumi (proc.) | F19: 72 (2022) | G19: 72 | H19: 72 | I19: 72 | J19: 72 (2022) | K19: 50 (2030)
C20: 1.2.-2 | D20: Visagino turizmo, gamtos ir kultūros objektų pritaikymas lankymui, modernizuojant viešąją turizmo infrastruktūrą | E20: Suformuotų turistų traukos objektų skaičius (vnt.) | F20: 0 (2022) | G20: 4 | H20: 1 | I20: 1 | J20: 0 (2022) | K20: 3 (2030)
C21: 1.2.-3 | D21: Visagino kaip monoindustrinio miesto urbanistikos, daugiataučio kultūros paveldo ir tradicijų perdavimas per turizmo ir edukacines veiklas | E21: Asmenų, dalyvavusių perduodant Visagino daugiataučio kultūros paveldo ir tradicijų per turizmo ir edukacines veiklas, skaičius | F21: 0 (2022) | G21: 50 | H21: 100 | I21: 150 | J21: 0 (2022) | K21: 700 (2030)
C22: 2.1 | D22: Tikslingai naudojant švietimui skirtas lėšas bei kryptingai tobulinant darbuotojų kompetencijas, kiekvienam besimokančiajam sukurti lygiavertes ir šiuolaikiškas kokybiško ugdymo(si) sąlygas, lemiančias geresnius mokinių pasiekimus, optimalią, integracinę, darniai ir racionaliai veikiančią, nuolat atsinaujinančią savivaldybės švietimo sistemą | E22: Visagino savivaldybės bendrojo ugdymo mokyklų tinklo pertvarkos 2022–2026 metų bendrojo plano kokybinių pokyčių / priemonių įgyvendinimas, proc. | F22: 0 (2022) | G22: 50 | H22: 75 | I22: 98 | J22: 0 (2022) | K22: 98 (2026)
C23: 2.1.-1 | D23: Padidinti ugdymo paslaugų prieinamumą ir įtrauktį kuriant naujas ikimokyklinio ugdymo vietas ir efektyviai veikiančių mokyklų infrastruktūrą pritaikant vaikams su negalia bei bendriesiems ugdymo poreikiams gerinti | E23: Ikimokyklinio ugdymo įstaigų talpumas (vietų skaičius), vnt. | F23: 895 (2022) | G23: 895 | H23: 983 | I23: 983 | J23: 895 (2022) | K23: 983 (2027)
E24: Mokyklų, kuriose buvo įdiegtos universalaus dizaino ir kitos inžinerinės priemonės, aplinką pritaikant asmenims, turintiems negalią, dalis nuo visų mokyklų | F24: 0 (2022) | G24: 0 | H24: 40 | I24: 0 | J24: 0 (2022) | K24: 40 (2023)
C25: 2.1.-2 | D25: Plėtoti įvairialypį švietimą vykdant visos dienos mokyklų veiklą | E25: Neformaliojo vaikų švietimo galimybėmis pasinaudojusių mokinių dalis (išskyrus ikimokykliniame ir priešmokykliniame ugdyme dalyvaujančius vaikus) (proc.) | F25: 0 (2022) | G25: 0 | H25: 35 | I25: 45 | J25: 0 (2022) | K25: 46,9 (2027)
C26: 2.1.-3 | D26: Stiprinti mokyklas įgalinant dirbti su įvairių galių ir gebėjimų mokiniais, kurie mokyklų pedagogų, mokymosi aplinkos padedami ir motyvuojami įveikia barjerus ir pasiekia maksimalų savo individualių galimybių mokymosi rezultatą | E26: Visagino savivaldybės ugdymo įstaigų, dalyvavusių Tūkstantmečio gimnazijų programos veiklose skaičius | F26: 0 (2022) | G26: 3 | H26: 3 | I26: 3 | J26: 0 (2022) | K26: 3 (2030)
C27: 2.1.-4 | D27: Skatinti mokinių domėjimąsi gamtos mokslais, matematika, technologijomis ir kt. veiklomis, išbandant save įvairiose praktinėse-tiriamosiose veiklose | E27: Pasirašytų bendradarbiavimo sutarčių su verslo atstovais skaičius | F27: 0 (2022) | G27: 1 | H27: 1 | I27: 1 | J27: 0 (2022) | K27: 3 (2030)
C28: 2.1.-5 | D28: Skatinti kokybinę kaitą bei lyderystės raišką švietimo įstaigose išbandant / taikant inovatyvius mokymo(si) modelius, aktyviai dalyvaujant projektinėje veikloje | E28: Įgyvendintų projektų skaičius | F28: 1(2022) | G28: 0 | H28: 1 | I28: 4 | J28: 1(2022) | K28: 5 (2030)
C29: 2.1.-6 | D29: Siekti, kad visi turėtų lanksčių kvalifikacijos kėlimo ir persikvalifikavimo galimybių, atsižvelgiant į verslumo ir skaitmeninius įgūdžius, geriau numatyti pokyčius ir naujų įgūdžių reikalavimus, grindžiamus darbo rinkos poreikiais, sudaryti palankesnes sąlygas keisti profesinę veiklą ir skatinti profesinį judumą | E29: Asmenų, kurie dalyvavę mokymuose įgijo kompetenciją, dalis proc. nuo visų besimokančiųjų VTVPMC | F29: 0 (2022) | G29: 80 | H29: 82 | I29: 85 | J29: 0 (2022) | K29: 98 (2030)
C30: 2.2. | D30: Sudaryti sąlygas visų amžiaus grupių ir galimybių visaginiečiams jų sveikai gyvensenai, fiziniam aktyvumui, sportavimui bei siekti, kad tai taptų savivaldybės bendruomenės gyvensenos dalimi | E30: Veikiančių atvirų sporto erdvių skaičius (vnt.) | F30: 10 (2022) | G30: 12 | H30: 12 | I30: 13 | J30: 10 (2022) | K30: 21 (2030)
C31: 2.2-1 | D31: Didinti fizinio aktyvumo lygį visose savivaldybės gyventojų amžiaus grupėse, plėsti galimybes bendruomenės fiziniam aktyvumui ir sveikatinimo veikloms | E31: Sporto varžybose ir sveikatingumo renginiuose dalyvavusių asmenų skaičius, vnt. per metus | F31: 2466 (2021) | G31: 3000 | H31: 3600 | I31: 4000 | J31: 2466 (2021) | K31: Kasmet, didėjantis ne mažiau kaip 20 proc.
C32: 2.2-2 | D32: Vykdyti talentingų sportininkų atranką, sudaryti jiems tinkamas sąlygas meistriškumui didinti | E32: Aukšto meistriškumo sportininkų dalis nuo visų sportininkų Visagino savivaldybėje (proc.) | F32: 20 (2022) | G32: 20 | H32: 20 | I32: 25 | J32: 20 (2022) | K32: 40 (2030)
C33: 2.2-3 | D33: Gerinti sporto ir fizinio aktyvumo specialistų kvalifikaciją ir pritraukti naujus specialistus, kurių kompetencijos reikalingos bendruomenės poreikiams tenkinti, sporto ir fizinio aktyvumo paslaugų plėtrai ir kokybės užtikrinimui | E33: Kvalifikaciją patobulinusių sportinio ugdymo specialistų, dirbančių Visagino savivaldybės įstaigose, skaičius (proc.) | F33: 30 (2022) | G33: 30 | H33: 30 | I33: 30 | J33: 30 2022) | K33: 80 (2030)
C34: 2.2-4 | D34: Didinti visuomenės informuotumą apie fizinio aktyvumo naudą ir vykdyti sporto informacijos sklaidą | E34: Informacinėmis priemonėmis pasiektų asmenų dalis proc. nuo visų gyventojų | F34: 0 (2022) | G34: 40 | H34: 50 | I34: 60 | J34: 0 (2022) | K34: 98 (2030)
C35: 2.2-5 | D35: Plėtoti ir atnaujinti sporto infrastruktūrą, aprūpinti poreikius atitinkančia įranga ir inventoriumi sudarant tinkamas sąlygas bendruomenės fiziniam aktyvumui, aukšto meistriškumo sportininkų rengimui bei varžybų nuo savivaldybės lygmens iki tarptautinių vykdymui | E35: Asmenų dalyvavusių aukšto lygio sporto varžybose dalis proc. nuo visų gyventojų | F35: 0 (2022) | G35: 1 | H35: 1 | I35: 1.5 | J35: 0 (2022) | K35: 5 (2030)
C36: 2.3. | D36: Įgyvendinti valstybinę kultūros politiką ir formuoti regioninį identitetą, stiprinti pilietiškumą ir bendruomenės į(si)traukimą į kūrybines, kultūrines veiklas | E36: Gyventojų, bent kartą per mėnesį besilankančių viešuose kultūros renginiuose, dalis proc. nuo bendro gyventojų skaičiaus | F36: 0 (2022) | G36: 40 | H36: 50 | I36: 60 | J36: 0 (2022) | K36: 70 (2030)
... C45: 2.4.-2 | D45: Išplėsti su visuomenės sveikatos stiprinimu susijusias paslaugas | E45: Visuomenės sveikatos stiprinimo veiklose dalyvavusios tikslinės grupės dalis (proc.): | F45: 50 (2021) | G45: 50 | H45: 55 | I45: 60 | J45: 50 (2021) | K45: Didėjantis arba ne mažesnis kaip 80,0 proc. (2030
E46: Ikimokyklinio ir mokyklinio amžiaus vaikai (0–18 m.) | F46: 12 (2021) | G46: 12 | H46: 15 | I46: 17 | J46: 12 (2021) | K46: Didėjantis arba ne mažesnis kaip 25 proc. (2030
C47: 2.5. | D47: Pagerinti ir plėsti socialinių paslaugų kokybę ir prieinamumą bei sukurti jų plėtrai reikalingą infrastruktūrą | E47: Socialines paslaugas gavusių asmenų skaičius proc. nuo bendro gyventojų skaičiaus | F47: 8 ( 2022) | G47: 8 | H47: 9 | I47: 9 | J47: 8 ( 2022) | K47: Ne mažiau kaip 12 (2030)
C48: 2.5-1 | D48: Pagerinti ir plėsti socialinių paslaugų kokybę ir prieinamumą bei sukurti jų plėtrai reikalingą infrastruktūrą | E48: Teikiamų socialinių paslaugų rūšių (bendrųjų socialinių paslaugų, socialinės priežiūros paslaugų, socialinės globos paslaugų ir kt. ) skaičius (vnt | F48: 21 proc. (2021) | G48: 25 | H48: 26 | I48: 27 | J48: 21 proc. (2021) | K48: Ne mažiau kaip 26 proc. (2030)
C49: 2.6. | D49: Sudaryti galimybes jaunimui atvykti, dirbti ir gyventi Visagino savivaldybėje | E49: Jaunimo (14–29 metų amžiaus) dalis nuo bendro Visagino savivaldybės gyventojų skaičiaus (proc.) | F49: 12,94 (2021) | G49: 12 | H49: 12.5 | I49: 12.7 | J49: 12,94 (2021) | K49: 13,5 (2030)
C50: 2.6-1 | D50: Pritaikyti viešąsias erdves jaunimo poreikiams | E50: Jaunimo poreikiams pritaikytų jaunimo erdvių skaičius (vnt.) | F50: 0 (2022) | G50: 0 | H50: 0 | I50: 1 | J50: 0 (2022) | K50: 3 (2030)
C51: 2.6-2 | D51: Sudaryti sąlygas jaunimo savirealizacijai | E51: Jaunuolių, turinčių Jaunimo savanoriškos tarnybos (JST) pažymėjimą, skaičius (per metus) | F51: 4 (2022) | G51: 2 | H51: 4 | I51: 6 | J51: 4 (2022) | K51: Ne mažiau kaip 30 (2030)
...

Sheet III skyrius
B3: III SKYRIUS PLANUOJAMI PASIEKTI REZULTATAI
C5: Didinant įstaigų veiklos efektyvumą, atsakomybę ir viešumą, 2024-2026 m. planuojama gerinti valdymo struktūrą ir stiprinti valdymo kokybę, didinti viešojo administravimo efektyvumą, ekonomiškai ir rezultatyviai valdyti ir naudoti savivaldybės turtą, biudžetą ir kitus piniginius išteklius. Numatoma vykdyti priemones ugdymo, kūno kultūros ir fizinio aktyvumo, socialinių paslaugų kokybei gerinti ir jų įvairovei didinti. Siekti, kad gerėtų viešųjų erdvių kokybė, sudaryti sąlygas inžinerinės infrastruktūros ir susisiekimo komunikacijų gerinimui, jų plėtrai padidinant miesto viešųjų erdvių patrauklumą, užtikrinant švarą ir tvarką, teikti gyventojams kokybiškas komunalines paslaugas, prižiūrėti ir modernizuoti miesto inžinerinės ir rekreacinės infrastruktūros objektus, suformuoti efektyviai veikiančią verslo paramos sistemą, skleisti verslo informaciją, skatinti verslumą bei iniciatyvas. Taip pat bus siekiama vykdyti architektūros ir teritorijų planavimo veiklą, kurti palankią aplinką turizmui, plėsti turizmo, rekreacijos, poilsio ir paslaugų infrastruktūrą, užtikrinti turizmo informacijos sklaidą.
C6: Įgyvendinant Visagino savivaldybės 2024-2026 m. strateginį veiklos planą, vadovaujamasi 2023-2030 m. strateginiame plėtros plane numatytais prioritetais tikslais ir planuojamais pasiekti rezultatais:
B7: 1 prioritetas | C7: Konkurencingo verslo skatinimas ir vietinės ekonomikos tvari plėtra
B8: 1.1. tikslas | C8: ='II skyrius'!D10 -> Gerinti investicinės aplinkos patrauklumą ir didinti ekonominį potencialą
C9: Investicijų pritraukimo ir verslumo skatinimo institucinės ekosistemos sukūrimas Visagino, Ignalinos ir Zarasų funkcinėje zonoje (VIZA funkcinės zonos strategijos parengimas ir patvirtinimas)
C10: Investicijoms pritaikytos verslo ir gamybos pastatų bei žemės infrastruktūros, skatinant apleistų/nenaudojamų/neefektyviai naudojamų teritorijų ir pastatų konversiją ir pritaikymą ekonominei veiklai, sukūrimas
B11: 1.2. tikslas | C11: ='II skyrius'!D18 -> Didinti turistinį savivaldybės patrauklumą, teikiant viešąsias paslaugas bei plėtojant viešąją turizmo infrastruktūrą
C12: Viešųjų paslaugų teikimas bei Visagino savivaldybės turizmo rinkodaros plėtojimas
C13: Žygių maršrutų "Visaginas. Miestas miške-miškas mieste" sukūrimas, įntegracija į funkcinės zonos VIZA ir Utenos regiono bendrus turizmo maršrutus, priėjimų prie lankomų/gamtos objektų įrengimas, atokvėpio/stebėjimo vietų įrengimas
C14: Visagino kaip post-branduolinės erdvės paveldo išsaugojimas, aktualizavimas, pristatymas
B15: 2 prioritetas | C15: Socialinės gerovės kūrimas, sumaniai, pažangiai, besimokančiai, moderniai ir laimingai bendruomenei
B16: 2.1. tikslas | C16: ='II skyrius'!D22 -> Tikslingai naudojant švietimui skirtas lėšas bei kryptingai tobulinant darbuotojų kompetencijas, kiekvienam besimokančiajam sukurti lygiavertes ir šiuolaikiškas kokybiško ugdymo(si) sąlygas, lemiančias geresnius mokinių pasiekimus, optimalią, integracinę, darniai ir racionaliai veikiančią, nuolat atsinaujinančią savivaldybės švietimo sistemą
C17: Ikimokyklinio ugdymo įstaigų tinklo, kuriant naujas ugdymo vietas stiprinimas
C18: Visagino progimnazijų erdvių pritaikymas negalią turinčių mokinių ugdymuisi įtraukiuoju būdu
C19: Visos dienos užimtumo erdvių sukūrimas Visagino bendrojo ugdymo mokyklose
C20: Visagino savivaldybės priemonių, numatytų „Tūkstantmečio mokyklų“ Visagino ir Ignalinos rajono savivaldybių Švietimo pažangos plane įgyvendinimas
C21: Visagino savivaldybės bendrojo ugdymo mokyklų tinklo pertvarkos priemonių planų kiekvienoje mokykloje įgyvendinimas
B22: 2.2. tikslas | C22: ='II skyrius'!D30 -> Sudaryti sąlygas visų amžiaus grupių ir galimybių visaginiečiams jų sveikai gyvensenai, fiziniam aktyvumui, sportavimui bei siekti, kad tai taptų savivaldybės bendruomenės gyvensenos dalimi
C23: Visagino savivaldybės ugdymo įstaigų vidaus ir lauko sporto infrastruktūros - sporto salių, aikštelių, stadionų - atnaujinimas ir (ar) plėtra
C24: Aplinkos ir viešųjų erdvių fizinio aktyvumo užsiėmimams pritaikymas
B25: 2.3. tikslas | C25: ='II skyrius'!D36 -> Įgyvendinti valstybinę kultūros politiką ir formuoti regioninį identitetą, stiprinti pilietiškumą ir bendruomenės į(si)traukimą į kūrybines, kultūrines veiklas
C26: Infrastruktūros, būtinos gyventojų kultūriniams poreikiams užtikrinti, esamos vidaus rekonstravimas ir/arba naujos statymas
C27: Visagino miesto muziejaus koncepcijos ir struktūros plėtojimas
B28: 2.4. tikslas | C28: ='II skyrius'!D43 -> Stiprinti ir puoselėti gyventojų sveikatą
C29: Asmens sveikatos priežiūros įstaigų paslaugų infrastruktūros bei įrangos, siekiant didesnės ir aukštesnės paslaugų aprėpties, įvairovės ir kokybės plėtojimas, modernizavimas ir atnaujinimas (Visagino sveikatos centro veiklos vystymas)
B30: 2.5. tikslas | C30: ='II skyrius'!D47 -> Pagerinti ir plėsti socialinių paslaugų kokybę ir prieinamumą bei sukurti jų plėtrai reikalingą infrastruktūrą
C31: Socialinių paslaugų prieinamumo didinimas
C32: Socialinio ir savivaldybės būsto prieinamumo visų socialinių grupių atstovams didinimas
B33: 2.6. tikslas | C33: ='II skyrius'!D49 -> Sudaryti galimybes jaunimui atvykti, dirbti ir gyventi Visagino savivaldybėje
C34: Jaunimo teikiamų projektų ir iniciatyvų finansavimas
B35: 2.7. tikslas | C35: ='II skyrius'!D52 -> Gyventojų socialinio, pilietinio aktyvumo, dalyvavimo savanoriškoje, visuomeninėje veikloje, tarpusavio pasitikėjimo, bendruomenės socialinės atsakomybės ir įsitraukimo didinimas
C36: Vietos savivaldai priimant sprendimus integruotai ir tolygiai formuoti nevyriausybinių ir bendruomeninių organizacijų veiklai palankią aplinką savivaldybėje (Dalyvaujamo biudžeto priemonių vykdymas )
C37: Viešosios naudos nevyriausybinių ir bendruomeninių organizacijų institucinio stiprinimo projektų (gebėjimai, lyderystė, sąlygos viešosios naudos organizacijų veiklos tvarumui užtikrinti, socialinis verslas ir kt. ) - vietos veiklos grupių strategijų įgyvendinimas)
B38: 2.8. tikslas | C38: ='II skyrius'!D56 -> Tobulinti viešojo valdymo sistemą, didinti jos efektyvumą ir atvirumą
C39: Inovatyvių sprendimų ir būdų savivaldybėje ir jos įstaigose galinčių padidinti viešojo efektyvumo valdymą diegimas (miesto dvynio informacinės sistemos sukūrimas)
C40: Miesto vaizdo stebėjimo sistemos naujinimas ir plėtra
B41: 3 prioritetas | C41: Tvarus, subalansuotas savivaldybės aplinkos vystymas ir plėtra
B42: 3.1. tikslas | C42: ='II skyrius'!D64 -> Vykdyti kryptingą darnaus judumo politiką savivaldybėje
C43: ='II skyrius'!D65 -> Skatinti bemotorio transporto pasirinkimą ir pėsčiųjų judumą
...

Sheet IV skyrius. Programos
C1: IV SKYRIUS PROGRAMOS
C2: Visagino savivaldybės 2024–2026 metų strateginį veiklos planą sudaro 10 įvairius savivaldybės veiklos sektorius apimančių programų. Kiekvienoje programoje iškelti trejų metų veiklos strateginiai uždaviniai, suformuluotos priemonės ir konkretizuoti rezultatų pasiekimo rodikliai. Programos buvo pasirinktos,susisteminus ir apibendrinus vietos savivaldos principus, savivaldybės instituciją ir jos kompetenciją, numatytas vykdyti funkcijas, savivaldybės mero, savivaldybės tarybos nario statusą, savivaldybių ūkinės ir finansinės veiklos pagrindus, taip pat išanalizavus viešojo administravimo sritis, viešojo administravimo subjektų sistemą ir administracinės procedūros organizavimo pagrindus.
C5: 2 lentelė. 2024-2026 metų asignavimų ir kitų lėšų pasiskirstymas pagal programas (tūkst. eurų)
C6: Eil. Nr. | D6: Programos kodas ir pavadinimas | E6: 2023 | F6: Pasikeitimas proc. | G6: 2024 m. išlaidų projektas (lėšų poreikis), tūkst. Eur | H6: 2024 metų asignavimai ir kitos lėšos | I6: 2025metų asignavimai ir kitos lėšos | J6: 2026 metų asignavimai ir kitos lėšos | O6: 1 programa | P6: 2 programa | Q6: 3 programa | R6: 4 programa | S6: 5 programa | T6: 6 programa | U6: 7 programa | V6: 8 programa | W6: 9 programa | X6: 10 programa
C7: 1 | D7: 2 | H7: 3 | I7: 4 | J7: 5 | N7: 2023 | O7: 4584.811 | P7: 15544.963 | Q7: 1296.83 | R7: 1710.912 | S7: 300.092 | T7: 12415.572 | U7: 240.535 | V7: 3957.245 | W7: 1089.8 | X7: 14770.978
C8: 1 | D8: Valdymo tobulinimo programa (01) | E8: =SUM('1 programa '!E179) -> 4584.811 | F8: =H8/E8-1 -> 0.25968137 | G8: =SUM('1 programa '!G179) -> 5542.488 | H8: =SUM('1 programa '!H179) -> 5775.401 | I8: =SUM('1 programa '!I179) -> 6430.883 | J8: =SUM('1 programa '!J179) -> 6485.933 | K8: =H8-'Suvestinė pagal FŠ'!N6 -> 0 | N8: 2024 | O8: =H9 -> 21107.729 | P8: =H9 -> 21107.729 | Q8: =H10 -> 1479.66 | R8: =H11 -> 2002.457 | S8: =H12 -> 395.289 | T8: =H13 -> 14381.856 | U8: =H14 -> 893.416 | V8: =H15 -> 4362.719 | W8: =H16 -> 2017.916 | X8: =H17 -> 5702.282
C9: 2 | D9: Švietimo paslaugų plėtros programa (02) | E9: ='2 programa '!E235 -> 15544.963 | F9: =H9/E9-1 -> 0.35785006 | G9: ='2 programa '!G235 -> 15900.336 | H9: ='2 programa '!H235 -> 21107.729 | I9: ='2 programa '!I235 -> 19312.551 | J9: ='2 programa '!J235 -> 17312.03 | K9: =H9-'Suvestinė pagal FŠ'!N7 -> 0 | N9: 2025 | O9: =I8 -> 6430.883 | P9: =I9 -> 19312.551 | Q9: =I10 -> 1257.66 | R9: =I11 -> 2059.85 | S9: =I12 -> 497.48 | T9: =I13 -> 15032.177 | U9: =I14 -> 2218.438 | V9: =I15 -> 4689.392 | W9: =I16 -> 6329.0959 | X9: =I17 -> 7909.18
C10: 3 | D10: Fizinio aktyvumo ir sporto plėtros programa (03) | E10: ='3 programa'!E45 -> 1296.83 | F10: =H10/E10-1 -> 0.14098224 | G10: ='3 programa'!G45 -> 155 | H10: ='3 programa'!H45 -> 1479.66 | I10: ='3 programa'!I45 -> 1257.66 | J10: ='3 programa'!J45 -> 1257.66 | K10: =H10-'Suvestinė pagal FŠ'!N8 -> 0 | N10: 2026 | O10: =J8 -> 6485.933 | P10: =J9 -> 17312.03 | Q10: =J10 -> 1257.66 | R10: =J11 -> 2034.18 | S10: =J12 -> 408.95 | T10: =J13 -> 14323.558 | U10: =J14 -> 1760.551 | V10: =J15 -> 4440.152 | W10: =J16 -> 7736.0084 | X10: =J17 -> 8065.18
C11: 4 | D11: Gyventojų kultūrinio aktyvumo skatinimo ir identiteto stiprinimo programa (04) | E11: ='4 programa'!E115 -> 1710.912 | F11: =H11/E11-1 -> 0.17040327 | G11: ='4 programa'!G115 -> 2086.941 | H11: ='4 programa'!H115 -> 2002.457 | I11: ='4 programa'!I115 -> 2059.85 | J11: ='4 programa'!J115 -> 2034.18 | K11: =H11-'Suvestinė pagal FŠ'!N9 -> 0
C12: 5 | D12: Bendruomeniškumo skatinimo programa (05) | E12: ='5 programa'!E71 -> 300.092 | F12: =H12/E12-1 -> 0.31722605 | G12: ='5 programa'!G71 -> 430.059 | H12: ='5 programa'!H71 -> 395.289 | I12: ='5 programa'!I71 -> 497.48 | J12: ='5 programa'!J71 -> 408.95 | K12: =H12-'Suvestinė pagal FŠ'!N10 -> 0
C13: 6 | D13: Socialinės paramos programa (06) | E13: ='6 programa'!E213 -> 12415.572 | F13: =H13/E13-1 -> 0.15837241 | G13: ='6 programa'!G213 -> 7548.44 | H13: ='6 programa'!H213 -> 14381.856 | I13: ='6 programa'!I213 -> 15032.177 | J13: ='6 programa'!J213 -> 14323.558 | K13: =H13-'Suvestinė pagal FŠ'!N11 -> 0
C14: 7 | D14: Sveikatos apsaugos paslaugų kokybės gerinimo programa (07) | E14: ='7 programa'!E78 -> 240.535 | F14: =H14/E14-1 -> 2.7142869 | G14: ='7 programa'!G78 -> 226.7 | H14: ='7 programa'!H78 -> 893.416 | I14: ='7 programa'!I78 -> 2218.438 | J14: ='7 programa'!J78 -> 1760.551 | K14: =H14-'Suvestinė pagal FŠ'!N12 -> 0
C15: 8 | D15: Aplinkos apsaugos programa (08) | E15: ='8 programa'!E100 -> 3957.245 | F15: =H15/E15-1 -> 0.10246371 | G15: ='8 programa'!G100 -> 4580.246 | H15: ='8 programa'!H100 -> 4362.719 | I15: ='8 programa'!I100 -> 4689.392 | J15: ='8 programa'!J100 -> 4440.152 | K15: =H15-'Suvestinė pagal FŠ'!N13 -> 0
C16: 9 | D16: Ekonominės plėtros programa (09) | E16: ='9 programa'!E178 -> 1089.8 | F16: =H16/E16-1 -> 0.85163883 | G16: ='9 programa'!G178 -> 744.12 | H16: ='9 programa'!H178 -> 2017.916 | I16: ='9 programa'!I178 -> 6329.0959 | J16: ='9 programa'!J178 -> 7736.0084 | K16: =H16-'Suvestinė pagal FŠ'!N14 -> 0
C17: 10 | D17: Viešosios infrastruktūros programa (10) | E17: ='10 programa'!E178 -> 14770.978 | F17: =H17/E17-1 -> -0.61395366 | G17: ='10 programa'!G178 -> 3532.267 | H17: ='10 programa'!H178 -> 5702.282 | I17: ='10 programa'!I178 -> 7909.18 | J17: ='10 programa'!J178 -> 8065.18 | K17: =H17-'Suvestinė pagal FŠ'!N15 -> 0
H18: =SUM(H8:H17) -> 58118.725 | I18: =SUM(I8:I17) -> 65736.707 | J18: =SUM(J8:J17) -> 63824.202
C19: 1. Savivaldybės biudžetas (įskaitant skolintas lėšas) | E19: =SUM(E21,E23,E24,E25,E26,E27,) -> 49453.52 | F19: =H19/E19-1 -> 0.03584948 | G19: =SUM(G21,G23,G24,G25,G26,G27,) -> 40746.597 | H19: =SUM(H21,H23,H24,H25,H26,H27,) -> 51226.403 | I19: =SUM(I21,I23,I24,I25,I26,I27,) -> 56704.173 | J19: =SUM(J21,J23,J24,J25,J26,J27,) -> 53564.126
C20: Iš jo: | L20: =H18-'Suvestinė pagal FŠ'!N17 -> -325.057
C21: 1.1. savivaldybės biudžeto lėšos (nuosavos, be ankstesnių metų likučio) | E21: ='1 programa '!E171+'2 programa '!E225+'3 programa'!E37+'4 programa'!E107+'5 programa'!E64+'6 programa'!E204+'7 programa'!E70+'8 programa'!E92+'9 programa'!E171+'10 programa'!E171 -> 30304.963 | F21: =H21/E21-1 -> 0.053589176 | G21: ='1 programa '!G171+'2 programa '!G225+'3 programa'!G37+'4 programa'!G107+'5 programa'!G64+'6 programa'!G204+'7 programa'!G70+'8 programa'!G92+'9 programa'!G171+'10 programa'!G171 -> 26647.708 | H21: ='1 programa '!H171+'2 programa '!H225+'3 programa'!H37+'4 programa'!H107+'5 programa'!H64+'6 programa'!H204+'7 programa'!H70+'8 programa'!H92+'9 programa'!H171+'10 programa'!H171 -> 31928.981 | I21: ='1 programa '!I171+'2 programa '!I225+'3 programa'!I37+'4 programa'!I107+'5 programa'!I64+'6 programa'!I204+'7 programa'!I70+'8 programa'!I92+'9 programa'!I171+'10 programa'!I171 -> 33004.484 | J21: ='1 programa '!J171+'2 programa '!J225+'3 programa'!J37+'4 programa'!J107+'5 programa'!J64+'6 programa'!J204+'7 programa'!J70+'8 programa'!J92+'9 programa'!J171+'10 programa'!J171 -> 32844.575
C22: Aplinkos apsaugos lėšos | H22: ='7 programa'!H71+'8 programa'!H93 -> 83.636
C23: 1.2. Lietuvos Respublikos valstybės biudžeto dotacijos | E23: ='1 programa '!E172+'2 programa '!E226+'3 programa'!E38+'4 programa'!E108+'5 programa'!E65+'6 programa'!E205+'7 programa'!E72+'8 programa'!E94+'9 programa'!E172+'10 programa'!E172 -> 11717.042 | F23: =H23/E23-1 -> 0.11785457 | G23: ='1 programa '!G172+'2 programa '!G226+'3 programa'!G38+'4 programa'!G108+'5 programa'!G65+'6 programa'!G205+'7 programa'!G72+'8 programa'!G94+'9 programa'!G172+'10 programa'!G172 -> 11258.989 | H23: ='1 programa '!H172+'2 programa '!H226+'3 programa'!H38+'4 programa'!H108+'5 programa'!H65+'6 programa'!H205+'7 programa'!H72+'8 programa'!H94+'9 programa'!H172+'10 programa'!H172 -> 13097.949 | I23: ='1 programa '!I172+'2 programa '!I226+'3 programa'!I38+'4 programa'!I108+'5 programa'!I65+'6 programa'!I205+'7 programa'!I72+'8 programa'!I94+'9 programa'!I172+'10 programa'!I172 -> 13307.41 | J23: ='1 programa '!J172+'2 programa '!J226+'3 programa'!J38+'4 programa'!J108+'5 programa'!J65+'6 programa'!J205+'7 programa'!J72+'8 programa'!J94+'9 programa'!J172+'10 programa'!J172 -> 13419.655
C24: 1.3. Pajamų įmokos ir kitos pajamos | E24: ='1 programa '!E174+'2 programa '!E230+'3 programa'!E40+'4 programa'!E110+'5 programa'!E66+'6 programa'!E208+'7 programa'!E73+'8 programa'!E95+'9 programa'!E173+'10 programa'!E173 -> 1424.642 | F24: =H24/E24-1 -> 0.10104854 | G24: ='1 programa '!G174+'2 programa '!G230+'3 programa'!G40+'4 programa'!G110+'5 programa'!G66+'6 programa'!G208+'7 programa'!G73+'8 programa'!G95+'9 programa'!G173+'10 programa'!G173 -> 1463.144 | H24: ='1 programa '!H174+'2 programa '!H230+'3 programa'!H40+'4 programa'!H110+'5 programa'!H66+'6 programa'!H208+'7 programa'!H73+'8 programa'!H95+'9 programa'!H173+'10 programa'!H173 -> 1568.6 | I24: ='1 programa '!I174+'2 programa '!I230+'3 programa'!I40+'4 programa'!I110+'5 programa'!I66+'6 programa'!I208+'7 programa'!I73+'8 programa'!I95+'9 programa'!I173+'10 programa'!I173 -> 1566.182 | J24: ='1 programa '!J174+'2 programa '!J230+'3 programa'!J40+'4 programa'!J110+'5 programa'!J66+'6 programa'!J208+'7 programa'!J73+'8 programa'!J95+'9 programa'!J173+'10 programa'!J173 -> 1582.318
C25: 1.4. Europos Sąjungos ir kitos tarptautinės finansinės paramos lėšos (ES, EGDAP) | E25: ='1 programa '!E175+'2 programa '!E231+'3 programa'!E41+'4 programa'!E111+'5 programa'!E67+'6 programa'!E209+'7 programa'!E74+'8 programa'!E96+'9 programa'!E174+'10 programa'!E174 -> 3936.883 | F25: =H25/E25-1 -> 0.093711954 | G25: ='1 programa '!G175+'2 programa '!G231+'3 programa'!G41+'4 programa'!G111+'5 programa'!G67+'6 programa'!G209+'7 programa'!G74+'8 programa'!G96+'9 programa'!G174+'10 programa'!G174 -> 1376.756 | H25: ='1 programa '!H175+'2 programa '!H231+'3 programa'!H41+'4 programa'!H111+'5 programa'!H67+'6 programa'!H209+'7 programa'!H74+'8 programa'!H96+'9 programa'!H174+'10 programa'!H174 -> 4305.816 | I25: ='1 programa '!I175+'2 programa '!I231+'3 programa'!I41+'4 programa'!I111+'5 programa'!I67+'6 programa'!I209+'7 programa'!I74+'8 programa'!I96+'9 programa'!I174+'10 programa'!I174 -> 8826.097 | J25: ='1 programa '!J175+'2 programa '!J231+'3 programa'!J41+'4 programa'!J111+'5 programa'!J67+'6 programa'!J209+'7 programa'!J74+'8 programa'!J96+'9 programa'!J174+'10 programa'!J174 -> 5717.5781
C26: 1.5. Skolintos lėšos | E26: ='1 programa '!E176+'2 programa '!E232+'3 programa'!E42+'4 programa'!E112+'5 programa'!E68+'6 programa'!E210+'7 programa'!E75+'8 programa'!E97+'9 programa'!E175+'10 programa'!E175 -> 2069.99 | F26: =H26/E26-1 -> -0.84296687 | G26: ='1 programa '!G176+'2 programa '!G232+'3 programa'!G42+'4 programa'!G112+'5 programa'!G68+'6 programa'!G210+'7 programa'!G75+'8 programa'!G97+'9 programa'!G175+'10 programa'!G175 -> 0 | H26: ='1 programa '!H176+'2 programa '!H232+'3 programa'!H42+'4 programa'!H112+'5 programa'!H68+'6 programa'!H210+'7 programa'!H75+'8 programa'!H97+'9 programa'!H175+'10 programa'!H175 -> 325.057 | I26: ='1 programa '!I176+'2 programa '!I232+'3 programa'!I42+'4 programa'!I112+'5 programa'!I68+'6 programa'!I210+'7 programa'!I75+'8 programa'!I97+'9 programa'!I175+'10 programa'!I175 -> 0 | J26: ='1 programa '!J176+'2 programa '!J232+'3 programa'!J42+'4 programa'!J112+'5 programa'!J68+'6 programa'!J210+'7 programa'!J75+'8 programa'!J97+'9 programa'!J175+'10 programa'!J175 -> 0
C27: 1.6. Ankstesnių metų likučiai | E27: ='1 programa '!E177+'2 programa '!E233+'3 programa'!E43+'4 programa'!E113+'5 programa'!E69+'6 programa'!E211+'7 programa'!E76+'8 programa'!E98+'9 programa'!E176+'10 programa'!E176 -> 0 | G27: ='1 programa '!G177+'2 programa '!G233+'3 programa'!G43+'4 programa'!G113+'5 programa'!G69+'6 programa'!G211+'7 programa'!G76+'8 programa'!G98+'9 programa'!G176+'10 programa'!G176 -> 0 | H27: ='1 programa '!H177+'2 programa '!H233+'3 programa'!H43+'4 programa'!H113+'5 programa'!H69+'6 programa'!H211+'7 programa'!H76+'8 programa'!H98+'9 programa'!H176+'10 programa'!H176 -> 0 | I27: ='1 programa '!I177+'2 programa '!I233+'3 programa'!I43+'4 programa'!I113+'5 programa'!I69+'6 programa'!I211+'7 programa'!I76+'8 programa'!I98+'9 programa'!I176+'10 programa'!I176 -> 0 | J27: ='1 programa '!J177+'2 programa '!J233+'3 programa'!J43+'4 programa'!J113+'5 programa'!J69+'6 programa'!J211+'7 programa'!J76+'8 programa'!J98+'9 programa'!J176+'10 programa'!J176 -> 0
C28: 2. Kiti šaltiniai (Europos Sąjungos finansinė parama projektams įgyvendinti ir kitos teisėtai gautos lėšos, nurodant atskirus šaltinius) | E28: ='1 programa '!E178+'2 programa '!E234+'3 programa'!E44+'4 programa'!E114+'5 programa'!E70+'6 programa'!E212+'7 programa'!E77+'8 programa'!E99+'9 programa'!E177+'10 programa'!E177 -> 6458.218 | F28: =H28/E28-1 -> 0.067217304 | G28: ='1 programa '!H178+'2 programa '!H234+'3 programa'!H44+'4 programa'!H114+'5 programa'!H70+'6 programa'!H212+'7 programa'!H77+'8 programa'!H99+'9 programa'!H177+'10 programa'!H177 -> 6892.322 | H28: ='1 programa '!H178+'2 programa '!H234+'3 programa'!H44+'4 programa'!H114+'5 programa'!H70+'6 programa'!H212+'7 programa'!H77+'8 programa'!H99+'9 programa'!H177+'10 programa'!H177 -> 6892.322 | I28: ='1 programa '!I178+'2 programa '!I234+'3 programa'!I44+'4 programa'!I114+'5 programa'!I70+'6 programa'!I212+'7 programa'!I77+'8 programa'!I99+'9 programa'!I177+'10 programa'!I177 -> 9032.5343 | J28: ='1 programa '!J178+'2 programa '!J234+'3 programa'!J44+'4 programa'!J114+'5 programa'!J70+'6 programa'!J212+'7 programa'!J77+'8 programa'!J99+'9 programa'!J177+'10 programa'!J177 -> 10260.077
C29: IŠ VISO programai finansuoti pagal finansavimo šaltinius (1 ir 2 punktai) | E29: =E19+E28 -> 55911.738 | F29: =H29/E29-1 -> 0.039472695 | G29: =G19+G28 -> 47638.919 | H29: =H19+H28 -> 58118.725 | I29: =I19+I28 -> 65736.707 | J29: =J19+J28 -> 63824.202
C30: Iš jų: regioninių pažangos priemonių lėšos (RP) | E30: ='1 programa '!E180+'2 programa '!E236+'3 programa'!E46+'4 programa'!E116+'5 programa'!E72+'6 programa'!E214+'7 programa'!E79+'8 programa'!E101+'9 programa'!E179+'10 programa'!E179 -> 49.278 | F30: =H30/E30-1 -> 71.11287 | G30: ='1 programa '!G180+'2 programa '!G236+'3 programa'!G46+'4 programa'!G116+'5 programa'!G72+'6 programa'!G214+'7 programa'!G79+'8 programa'!G101+'9 programa'!G179+'10 programa'!G179 -> 2375.566 | H30: ='1 programa '!H180+'2 programa '!H236+'3 programa'!H46+'4 programa'!H116+'5 programa'!H72+'6 programa'!H214+'7 programa'!H79+'8 programa'!H101+'9 programa'!H179+'10 programa'!H179 -> 3553.578 | I30: ='1 programa '!I180+'2 programa '!I236+'3 programa'!I46+'4 programa'!I116+'5 programa'!I72+'6 programa'!I214+'7 programa'!I79+'8 programa'!I101+'9 programa'!I179+'10 programa'!I179 -> 8252.309 | J30: ='1 programa '!J180+'2 programa '!J236+'3 programa'!J46+'4 programa'!J116+'5 programa'!J72+'6 programa'!J214+'7 programa'!J79+'8 programa'!J101+'9 programa'!J179+'10 programa'!J179 -> 5380.728
C31: Asignavimų ir kitų lėšų pokytis, palyginti su ankstesnių metų patvirtintų asignavimų ir kitų lėšų planu | H31: =H29/E29-1 -> 0.039472695 | I31: =I29/H29-1 -> 0.1310762 | J31: =J29/I29-1 -> -0.029093402
D32: n – pirmieji planuojamieji metai, n + 1 – antrieji planuojamieji metai ir n + 2 – tretieji planuojamieji metai.

Sheet 1 programa 
A1: Valdymo tobulinimo programa (01)
A2: Programos tikslas - įgyvendinti Lietuvos Respublikos Konstitucijos ir įstatymų nustatytas, Lietuvos Respublikos vietos savivaldos įstatymo reglamentuotas savarankiškasias savivaldybės bei valstybinės (valstybės perduotos savivaldybei) funkcijas. Siekiant užtikrinti, kad minėtos funkcijos būtų vykdomos kokybiškai, ypatingas dėmesys skiriamas šiuolaikiniams vadybos metodams ir informacinėms technologijoms diegti savivaldybėje; vykdomų procedūrų viešumui ir skaidrumui; kontroliuoti ir prižiūrėti, ar teisėtai, efektyviai, ekonomiškai ir rezultatyviai valdomas ir naudojamas savivaldybės turtas ir patikėjimo teise valdomas valstybės turtas, kaip vykdomas savivaldybės biudžetas ir naudojami kiti piniginiai ištekliai. Efektyviai savivaldybės veiklai būtinas racionalus finansinių, materialinių ir žmogiškųjų išteklių paskirstymas, sistemingas veiklos planavimas
A3: =A19 -> 01.01.01. (T) | B3: =B19 -> Gerinti teikiamų paslaugų kokybę, didinti jų prieinamumą ir patrauklumą, tinkamai organizuojant savivaldybės administravimo subjektams priskirtų funkcijų įgyvendinimą
A4: =A34 -> 01.01.02 (T) | B4: =B34 -> Užtikrinti, valstybinių (valstybės perduotų savivaldybėms) funkcijų vykdymą
A5: =A87 -> 01.01.03 (T) | B5: =B87 -> Užtikrinti efektyvų savivaldybei nuosavybės teise priklausančio nekilnojamojo turto naudojimą, įmonių bei įstaigų valdymą
A6: =A104 -> 01.01.04. (T) | B6: =B104 -> Sudaryti sąlygas iš anksto negalimoms suplanuoti priemonėms vykdyti bei savivaldybės finansiniams įsipareigojimams vykdyti
A7: =A113 -> 01.01.05. (T) | B7: =B113 -> Įgyvendinti Visagino savivaldybės korupcijos prevencijos 2022-2024 metų veiksmų planą
A8: =A116 -> 01.02.02. (T) | B8: =B116 -> Gerinti visuomenei teikiamų paslaugų kokybę, didinant jų atitiktį visuomenės poreikiams
A9: =A145 -> 01.02.03. (T) | B9: =B145 -> Organizuoti savivaldybės veiklą vadovaujantis šiuolaikiniais vadybos metodais
A10: =A150 -> 01.02.04. (T) | B10: =B150 -> Informuoti visuomenę apie savivaldybės veiklą ir formuoti teigiamą savivaldybės įvaizdį, plėtoti dalykinius santykius ir ryšius su tarptautinėmis ir vietinėmis institucijomis ir organizacijomis
A13: Programos įgyvendinimo laikotarpis 2024-2026 m.
A14: Programos įgyvendinimo koordinatorė Jolita Kriaučiūnaitė, jolita.kriauciunaite@visaginas.lt, tel. 8 (386) 36 008
A16: 3 lentelė. Valdymo tobulinimo programos (01) uždaviniai, priemonės, asignavimai ir kitos lėšos (tūkst.eurų) ir jų stebėsenos rodikliai
A17: Programos uždavinio, priemonės kodas ir požymis | B17: Uždavinio, priemonės pavadinimas, finansavimo šaltiniai | C17: Asignavimų valdytojo kodas | D17: Finansavimo šaltinis | E17: 2023 m. asignavimų planas | F17: Asignavimų pasikeitimas | G17: 2024 m.asignavimų poreikis | H17: 2024 m.asignavimai ir kitos lėšos, tūkst. Eur | I17: 2025 m. asignavimai ir kitos lėšos, tūkst. Eur | J17: 2026 m.asignavimai ir kitos lėšos, tūkst. Eur | K17: Savivaldybės strateginio plėtros plano priemonės kodas | L17: Trumpas priemonės įgyvendinimo aprašymas | M17: Stebėsenos rodiklio kodas | N17: Stebėsenos rodiklio pavadinimas (matavimo vnt.) | O17: Siektinos stebėsenos rodiklių reikšmės | R17: Savivaldybės strateginio plėtros plano rodiklis
O18: 2024 | P18: 2025 | Q18: 2026
A19: 01.01.01. (T) | B19: Gerinti teikiamų paslaugų kokybę, didinti jų prieinamumą ir patrauklumą, tinkamai organizuojant savivaldybės administravimo subjektams priskirtų funkcijų įgyvendinimą | D19: Iš viso: | E19: =SUM(E23,E29,E31,E33,) -> 3181.359 | F19: =H19/E19-1 -> 0.20615121 | G19: =SUM(G23,G29,G31,G33,) -> 3611.437 | H19: =SUM(H23,H29,H31,H33,) -> 3837.2 | I19: =SUM(I23,I29,I31,I33,) -> 4017 | J19: =SUM(J23,J29,J31,J33,) -> 4068.5 | K19: 2.8.-1 | M19: E-01-01-01 | N19: Gyventojų, per paskutinius 12 mėnesių dalyvavusių sprendžiant viešuosius vietos reikalus, dalis proc. | O19: 30 | P19: 40 | Q19: 50 | R19: Gyventojų, per paskutinius 12 mėnesių dalyvavusių sprendžiant viešuosius vietos reikalus, dalis proc.
A20: 01.01.01.01 (TP) | B20: Savivaldybės institucijų funkcijų įgyvendinimas | C20: 188711925 | D20: SB | E20: =E25+E26 -> 2778.6 | F20: =H20/E20-1 -> 0.19622832 | G20: =SUM(G24:G26) -> 3075.995 | H20: =SUM(H24:H26) -> 3323.84 | I20: 3500 | J20: 3550 | K20: 2.8.-1-1 | L20: Įgyvendinant šią priemonę planuojama užtikrinti, Visagino savivaldybės merui, administracijai bei Visagino savivaldybės tarybai priskirtų funkcijų įgyvendinimą. | M20: R-01-01-01-01 | N20: Savivaldybės administracinių paslaugų, teikiamų elektroniniu būdu ne žemesniu kaip 4 brandos lygiu, dalis nuo visų savivaldybės teikiamų administracinių paslaugų (proc.) | O20: 30 | P20: 40 | Q20: 40 | R20: Savivaldybės administracinių paslaugų, teikiamų elektroniniu būdu ne žemesniu kaip 4 brandos lygiu, dalis nuo visų savivaldybės teikiamų administracinių paslaugų (proc.) | S20: pasikeitė pavadinimas
D21: ĮP | E21: 12.269 | F21: =H21/E21-1 -> 0.41005787 | G21: =SUM(G27) -> 15.45 | H21: 17.3 | I21: 18 | J21: 18.5
D22: VB
D23: Iš viso: | E23: =SUM(E20:E22) -> 2790.869 | F23: =H23/E23-1 -> 0.19716834 | G23: =SUM(G20:G22) -> 3091.445 | H23: =SUM(H20:H22) -> 3341.14 | I23: =SUM(I20:I22) -> 3518 | J23: =SUM(J20:J22) -> 3568.5
B24: Mero ir politinio pasitikėjimo valstybės tarnautojai | D24: SB | E24: 0 | G24: 339.725 | H24: 374.45 | I24: 0 | J24: 0
B25: Savivaldybės tarybos darbo organizavimas | D25: SB | E25: 210.07 | F25: =(H25-E25)/E25 -> -1 | G25: 0 | H25: 0 | I25: 0 | J25: 0
B26: Savivaldybės administracijos veiklos organizavimas | D26: SB | E26: 2568.53 | F26: =(H26-E26)/E26 -> 0.14827937 | G26: 2736.27 | H26: 2949.39 | I26: 2698.81 | J26: 2698.81
D27: SB (ĮP) | E27: 12.269 | F27: =(H27-E27)/E27 -> 0.25927133 | G27: 15.45 | H27: 15.45 | I27: 15.45 | J27: 15.45
A28: 01.01.01.02 (TP) | B28: Tarybos narių veiklos organizavimas | C28: 188711925 | D28: SB | E28: =138+12 -> 150 | F28: =H28/E28-1 -> 1.5506 | G28: =397.316+18 -> 415.316 | H28: =364.59+18 -> 382.59 | I28: 385 | J28: 385 | K28: 2.7.-3-1 | L28: Įgyvendinant šią priemonę bus užtikrinamas Lietuvos Respublikos vietos savivaldos įstatymo 12 straipsnis, kuris numato, kad savivaldybės tarybos nariams už darbą atliekant savivaldybės tarybos nario pareigas yra atlyginama (apmokama). Taip pat įgyvendinant šią priemonę bus organizuojami Lietuvos Respublikos Prezidento, Europos Parlamento ir Seimo rinkimai. | M28: R-01-01-01-02 | N28: Įvykusių tarybos posėdžių skaičius /organizuotų rinkimų skaičius | O28: 12/3 | P28: 12/0 | Q28: 12/0 | R28: Veikiančių savivaldos institucijų skaičius
D29: Iš viso: | E29: =E28 -> 150 | F29: =(H29-E29)/E29 -> 1.5506 | G29: =G28 -> 415.316 | H29: =H28 -> 382.59 | I29: =I28 -> 385 | J29: =J28 -> 385 | N29: Priimtų teisės aktų skaičius | O29: 360 | P29: 360 | Q29: 360
A30: 01.01.01.03 (TP) | B30: Visagino savivaldybės 2023 metų konsoliduotųjų ataskaitų rinkinio, savivaldybės lėšų ir turto naudojimo, savivaldybės rinkliavų veiklos ir viešojo sektoriaus subjekto/įmonės veiklos auditai | C30: 188701436 | D30: SB | E30: 100.96 | F30: =H30/E30-1 -> 0.12391046 | G30: 104.676 | H30: 113.47 | I30: 114 | J30: 115 | K30: 2.7.-3-1 | L30: Įgyvendinant šią priemonę bus užtikrinama Lietuvos Respublikos vietos savivaldos įstatymo 67 straipsnio 3 dalis, kuri numato, kad savivaldybės taryba savivaldybės biudžete nustato savivaldybės kontrolės ir audito tarnybai skiriamų asignavimų dydį. | M30: R-01-01-01-03 | N30: Atliktų Visagino savivaldybės konsoliduotų ataskaitų rinkinio, savivaldybės biudžeto ir turto naudojimo, savivaldybės nuosavybės teise valdomo nekilnojamojo turto valdymo, naudojimo ir disponavimo juo efektyvumo auditų skaičius | O30: 4 | P30: 3 | Q30: 3
D31: Iš viso: | E31: =E30 -> 100.96 | F31: =(H31-E31)/E31 -> 0.12391046 | G31: =G30 -> 104.676 | H31: =H30 -> 113.47 | I31: =I30 -> 114 | J31: =J30 -> 115
A32: 01.01.01.04 (TP) | B32: Savivaldybės tarybos mero sekretoriato darbo organizavimas | C32: 188701436 | D32: SB | E32: 139.53 | F32: =(H32-E32)/E32 -> -1 | L32: Ši priemonė nebus įgyvendinama.
D33: Iš viso: | E33: =E32 -> 139.53 | F33: =(H33-E33)/E33 -> -1 | G33: =G32 -> 0 | H33: =H32 -> 0 | I33: =I32 -> 0 | J33: =J32 -> 0
A34: 01.01.02 (T) | B34: Užtikrinti, valstybinių (valstybės perduotų savivaldybėms) funkcijų vykdymą | E34: =SUM(E38,E48,E50,E52,E54,E56,E59,E61,E64,E66,E68,E71,E74,E76,E79,E81,E83,E86,E45) -> 491.016 | F34: =H34/E34-1 -> 0.095058002 | G34: =SUM(G38,G48,G50,G52,G54,G56,G59,G61,G64,G66,G68,G71,G74,G76,G79,G81,G83,G86,G45) -> 525.471 | H34: =SUM(H38,H48,H50,H52,H54,H56,H59,H61,H64,H66,H68,H71,H74,H76,H79,H81,H83,H86,H45) -> 537.691 | I34: =SUM(I38,I48,I50,I52,I54,I56,I59,I61,I64,I66,I68,I71,I74,I76,I79,I81,I83,I86,I45) -> 495.955 | J34: =SUM(J38,J48,J50,J52,J54,J56,J59,J61,J64,J66,J68,J71,J74,J76,J79,J81,J83,J86,J45) -> 497.455 | K34: 2.8.-1 | M34: E-01-01-02 | N34: Gyventojų, per paskutinius 12 mėnesių dalyvavusių sprendžiant viešuosius vietos reikalus, dalis proc. | O34: 30 | P34: 40 | Q34: 40 | R34: Gyventojų, per paskutinius 12 mėnesių dalyvavusių sprendžiant viešuosius vietos reikalus, dalis proc.
A35: 01.01.02.01 (TP) | B35: Valstybinės kalbos vartojimo ir taisyklingumo kontrolė | C35: Įstaigos | D35: SB (D) | E35: 20 | F35: =H35/E35-1 -> 0 | G35: =G39 -> 19.395 | H35: 20 | I35: 20 | J35: 20 | K35: 2.1.-5-3 | L35: LR Vietos savivaldos įstatymo 7 straipsnio 12 punkto įgyvendinimas. | M35: R-01-01-02-01 | N35: Atliktų įmonių ir įstaigų, interneto svetainių, spaudos leidinių ir reklamos objektų patikrinimų skaičius (vienetai | O35: 31 | P35: 32 | Q35: 33 | R35: Įgyvendintų priemonių skaičius proc., nuo visų suplanuotų įgyvendinti
D36: SB | E36: 22.96 | F36: =H36/E36-1 -> 0.24172474 | G36: =G40+G41 -> 27.315 | H36: =H40 -> 28.51 | I36: 29 | J36: 29
D37: SB (ĮP) | E37: 0.626 | F37: =H37/E37-1 -> -1 | G37: =G42 -> 0 | H37: =H42 -> 0 | I37: =I42 -> 0 | J37: =J42 -> 0 | N37: Parengtų ir savivaldybės interneto svetainėje paskelbtų atmintinių ir rekomendacijų skaičius (vienetai) | O37: 6 | P37: 6 | Q37: 6
D38: Iš viso: | E38: =SUM(E35:E37) -> 43.586 | F38: =(H38-E38)/E38 -> 0.11297206 | G38: =SUM(G35:G37) -> 46.71 | H38: =SUM(H35:H37) -> 48.51 | I38: =SUM(I35:I37) -> 49 | J38: =SUM(J35:J37) -> 49
B39: Visagino savivaldybės administracija | C39: 188711925 | D39: SB (D) | G39: 19.395 | H39: 0 | I39: 0 | J39: 0
D40: SB | G40: 27.315 | H40: 28.51 | I40: 0 | J40: 0
B41: Visagino „Verdenės“ gimnazija (Valstybinės kalbos testavimas) | C41: 190243519 | D41: SB
D42: SB (ĮP)
A43: 01.01.02.02. (TP) | B43: Civilinės būklės aktų registravimas | C43: 188711925 | D43: SB (D) | E43: 25.3 | F43: =(H43-E43)/E43 -> 0.019762846 | G43: 25.17 | H43: 25.8 | I43: 25.8 | J43: 25.8 | K43: 2.8.-1-1 | L43: Lietuvos Respublikos vietos savivaldos įstatymo 7 straipsnio 1 punkto įgyvendinimo užtikrinimas. | M43: R-01-01-02-02 | N43: Elektroniniu būdu pateiktų dokumentų dalis nuo visų gautų dokumentų dėl civilinės būklės aktų registravimo ir kitų su tuo susijusių paslaugų teikimo skaičiaus, proc | O43: 66 | P43: 68 | Q43: 67 | R43: Savivaldybės administracinių paslaugų, teikiamų elektroniniu būdu ne žemesniu kaip 4 brandos lygiu, dalis nuo visų savivaldybės teikiamų administracinių paslaugų (proc.)
...

Sheet 2 programa 
A1: Švietimo paslaugų plėtros programa (02)
A2: Švietimas – prioritetinė valstybės remiama Lietuvos Respublikos raidos sritis. Švietimas turi įtakos Visagino kultūrinei, socialinei ir ekonominei pažangai. Šia programa siekiama laiduoti valstybės ir Visagino savivaldybės švietimo politikos įgyvendinimą, ugdymo kokybę, išsilavinimo standartus atitinkantį išsilavinimą, vaikų socialinį ir psichologinį saugumą, skatinti ir remti besimokančiųjų užimtumą; įgyvendinti priemones, numatytas Visagino savivaldybės strateginiame plėtros plane, Lietuvos Respublikos Vyriausybės bei ministerijų teisės aktuose.
A3: =A15 -> 02.01.01. (T) | B3: =B15 -> Sudaryti sąlygas ugdyti vaikus ikimokyklinėse, bendrojo lavinimosi ir neformalaus švietimo įstaigose pagal patvirtintas ugdymo programas, teikti pedagoginę, psichologinę, metodinę, aprūpinimo transportu ir kitą pagalbą mokiniams, mokytojams ir mokykloms
A4: =A151 -> 02.01.02. (T) | B4: =B151 -> Organizuoti renginius, turinčius įtakos ugdymo proceso kokybei, skirtus tęstiniam mokymuisi
A5: =A194 -> 02.01.03. (T) | B5: =B194 -> Sukurti įtraukias, tinklaveiką ir socialines inovacijas skatinančias, kiekvieno mokinio geresnius pasiekimus lemiančias ir šiuolaikiškas kokybiško ugdymo(si) sąlygas
A6: =A215 -> 02.02.01. (T) | B6: =B215 -> Didinti vaikų ir jaunimo socioedukacinių veiklų, socialiai prasmingo užimtumo, profesinio mokymo saviraiškos bei švietimo pagalbos įvairovę ir prieinamumą
A9: Programos įgyvendinimo laikotarpis 2024-2026 m.
A10: Programos įgyvendinimo koordinatorė Žana Miltina, zana.miltina@visaginas.lt, tel. 8 (386) 36 006
A12: 4 lentelė.Švietimo paslaugų plėtros programos (02) uždaviniai, priemonės, asignavimai ir kitos lėšos (tūkst.eurų) ir jų stebėsenos rodikliai
A13: Programos uždavinio, priemonės kodas ir požymis | B13: Uždavinio, priemonės pavadinimas, finansavimo šaltiniai | C13: Asignavimų valdytojo kodas | D13: Finansavimo šaltinis | E13: 2023 m. asignavimų planas | F13: Asignavimų pasikeitimas | G13: 2024 m. asignavimų poreikis | H13: 2024 m. asignavimai ir kitos lėšos, tūkst. Eur | I13: 2025 m. asignavimai ir kitos lėšos, tūkst. Eur | J13: 2026 m.asignavimai ir kitos lėšos, tūkst. Eur | K13: Savivaldybės strateginio plėtros plano priemonės kodas | L13: Trumpas priemonės įgyvendinimo aprašymas | N13: Stebėsenos rodiklio kodas | O13: Stebėsenos rodiklio pavadinimas (matavimo vnt.) | P13: Siektinos stebėsenos rodiklių reikšmės | S13: Savivaldybės strateginio plėtros plano rodiklis
P14: 2024 | Q14: 2025 | R14: 2026
A15: 02.01.01. (T) | B15: Sudaryti sąlygas ugdyti vaikus ikimokyklinėse, bendrojo lavinimosi ir neformalaus švietimo įstaigose pagal patvirtintas ugdymo programas, teikti pedagoginę, psichologinę, metodinę, aprūpinimo transportu ir kitą pagalbą mokiniams, mokytojams ir mokykloms | E15: =SUM(E20,E75) -> 14896.322 | F15: =(H15-E15)/E15 -> 0.030233839 | G15: =SUM(G20,G75) -> 14280.704 | H15: =SUM(H20,H75) -> 15346.695 | I15: =SUM(I20,I75) -> 15362.47 | J15: =SUM(J20,J75) -> 15394.57 | K15: 2.1.-1 | N15: E-02-01-01 | O15: Visagino savivaldybės švietimo stebėsenos rodiklių sąraše, patvirtintame 2022-03-14 Visagino savivaldybės administarcijos direktoriaus įsakymu Nr. ĮV-E- 123 "Dėl Visagino savivaldybės švietimo stebėsenos rodiklių sąrašo patvirtinimo" įgyvendintų rodiklių skaičius | P15: 34 | Q15: 34 | R15: 34 | S15: Parengtų planų skaičius (vnt.) Įgyvendintų priemonių skaičius proc., nuo visų suplanuotų įgyvendinti
A16: 02.01.01.01. (TP) | B16: Švietimo įstaigų veiklos organizavimas | C16: Įstaigos | D16: SB | E16: =SUM(E21,E25,E29,E33,E37,E41,E45,E49,E53,E58,E62,E66) -> 5936.51 | F16: =H16/E16-1 -> -0.13735006 | G16: =SUM(G21,G25,G29,G33,G37,G41,G45,G49,G53,G58,G62,G66) -> 4657.003 | H16: =SUM(H21,H25,H29,H33,H37,H41,H45,H49,H53,H58,H62,H66) -> 5121.13 | I16: =SUM(I21,I25,I29,I33,I37,I41,I45,I49,I53,I58,I62,I66) -> 5128 | J16: =SUM(J21,J25,J29,J33,J37,J41,J45,J49,J53,J58,J62,J66) -> 5140 | K16: 2.1.-5-3 | L16: Lopšelio-darželio „Auksinis gaidelis“, vaikų lopšelių-darželių „Auksinis raktelis“, „Ąžuoliukas“, „Gintarėlis“, „Kūlverstukas“, „Verdenės“ gimnazijos, „Žiburio“ pagrindinės mokyklos, „Atgimimo“ gimnazijos, Draugystės ir „Gerosios vilties“ progimnazijų, Visagino kūrybos ir menų akademijos, Švietimo pagalbos tarnybos veiklos organizavimas ir paslaugų užtikrinimas. Priemonės įgyvendinimui stebėti stebėsenos rodikliai, patvirtinti Visagino savivaldybės švietimo stebėsenos rodiklių sąraše, patvirtintame 2022-03-14 Visagino savivaldybės administarcijos direktoriaus įsakymu Nr. ĮV-E- 123 "Dėl Visagino savivaldybės švietimo stebėsenos rodiklių sąrašo patvirtinimo" | N16: R-02-01-01-01 | O16: Įstaigų, kurioms užtikrinamas veiklos finansavimas skaičius | P16: 12 | Q16: 12 | R16: 12
D17: SB (ĮP) | E17: =SUM(E22,E26,E30,E34,E38,E42,E46,E50,E54,E59,E63,E67) -> 774.452 | F17: =H17/E17-1 -> 0.064435239 | G17: =SUM(G22,G26,G30,G34,G38,G42,G46,G50,G54,G59,G63,G67) -> 804.845 | H17: =SUM(H22,H26,H30,H34,H38,H42,H46,H50,H54,H59,H63,H67) -> 824.354 | I17: =SUM(I22,I26,I30,I34,I38,I42,I46,I50,I54,I59,I63,I67) -> 830.5 | J17: =SUM(J22,J26,J30,J34,J38,J42,J46,J50,J54,J59,J63,J67) -> 842.5
D18: SD | E18: =SUM(E23,E27,E31,E35,E39,E43,E47,E51,E55,E60,E64,E68) -> 35 | F18: =H18/E18-1 -> -1 | G18: =SUM(G23,G27,G31,G35,G39,G43,G47,G51,G55,G60,G64,G68) -> 36.333 | H18: 0 | I18: =SUM(I23,I27,I31,I35,I39,I43,I47,I51,I55,I60,I64,I68) -> 0 | J18: =SUM(J23,J27,J31,J35,J39,J43,J47,J51,J55,J60,J64,J68) -> 0
D19: KT | G19: =G68 -> 0.333 | H19: =H68 -> 0.333 | I19: =I68 -> 0 | J19: =J68 -> 0
D20: Iš viso | E20: =SUM(E16:E19) -> 6745.962 | F20: =H20/E20-1 -> -0.11861096 | G20: =SUM(G16:G19) -> 5498.514 | H20: =SUM(H16:H19) -> 5945.817 | I20: =SUM(I16:I19) -> 5958.5 | J20: =SUM(J16:J19) -> 5982.5
B21: Vaikų lopšelio-darželio „Auksinis gaidelis“ | C21: 190230641 | D21: SB | E21: 482.56 | G21: 401.175 | H21: 506.28 | I21: 507 | J21: 508
D22: SB (ĮP) | E22: =92.3+0.865 -> 93.165 | G22: 81.6 | H22: 98.4 | I22: 99 | J22: 100
D23: KT
D24: Iš viso | E24: =SUM(E21:E23) -> 575.725 | G24: =SUM(G21:G23) -> 482.775 | H24: =SUM(H21:H23) -> 604.68 | I24: =SUM(I21:I23) -> 606 | J24: =SUM(J21:J23) -> 608
B25: Vaikų lopšelio-darželio „Auksinis raktelis“ | C25: 190230443 | D25: SB | E25: 508.43 | G25: 412.685 | H25: 576.08 | I25: 577 | J25: 578
D26: SB (ĮP) | E26: =122.2+7.272 -> 129.472 | G26: 133 | H26: =125.9+9.647 -> 135.547 | I26: 136 | J26: 137
D27: KT
D28: Iš viso | E28: =SUM(E25:E27) -> 637.902 | G28: =SUM(G25:G27) -> 545.685 | H28: =SUM(H25:H27) -> 711.627 | I28: =SUM(I25:I27) -> 713 | J28: =SUM(J25:J27) -> 715
B29: Vaikų lopšelio-darželio „Ąžuoliukas“ | C29: 190231730 | D29: SB | E29: 447.77 | G29: 349.54 | H29: 487.73 | I29: 488 | J29: 489
D30: SB (ĮP) | E30: =96.7+2.28 -> 98.98 | G30: 102.69 | H30: 104 | I30: 105 | J30: 106
D31: KT
D32: Iš viso | E32: =SUM(E29:E31) -> 546.75 | G32: =SUM(G29:G31) -> 452.23 | H32: =SUM(H29:H31) -> 591.73 | I32: =SUM(I29:I31) -> 593 | J32: =SUM(J29:J31) -> 595
B33: Vaikų lopšelio-darželio „Gintarėlis“ | C33: 190231011 | D33: SB | E33: 447.55 | G33: 337.88 | H33: 469.53 | I33: 470 | J33: 471
D34: SB (ĮP) | E34: 87.33 | G34: 94.49 | H34: =94.3+2.476 -> 96.776 | I34: 97 | J34: 98
D35: KT
D36: Iš viso | E36: =SUM(E33:E35) -> 534.88 | G36: =SUM(G33:G35) -> 432.37 | H36: =SUM(H33:H35) -> 566.306 | I36: =SUM(I33:I35) -> 567 | J36: =SUM(J33:J35) -> 569
B37: Vaikų lopšelio-darželio „Kūlverstukas“ | C37: 190230258 | D37: SB | E37: 323.6 | G37: 268.33 | H37: 351.52 | I37: 352 | J37: 353
D38: SB (ĮP) | E38: =45.5+0.153 -> 45.653 | G38: 46.5 | H38: 41.7 | I38: 42 | J38: 43
D39: KT
D40: Iš viso | E40: =SUM(E37:E39) -> 369.253 | G40: =SUM(G37:G39) -> 314.83 | H40: =SUM(H37:H39) -> 393.22 | I40: =SUM(I37:I39) -> 394 | J40: =SUM(J37:J39) -> 396
B41: "Atgimimo" gimnazijos | C41: 190243280 | D41: SB | E41: 353.8 | G41: 378.33 | H41: 380.02 | I41: 381 | J41: 382
D42: SB (ĮP) | E42: 33.7 | G42: 40.59 | H42: =37.6+0.585 -> 38.185 | I42: 39 | J42: 40
D43: KT
...

Sheet ĮV-E-123 stebėsenos rodikliai
A2: Visagino savivaldybės švietimo stebėsenos rodiklių sąrašas, patvirtintas 2022-03-14 Visagino savivaldybės administarcijos direktoriaus įsakymu Nr. ĮV-E- 123 "Dėl Visagino savivaldybės švietimo stebėsenos rodiklių sąrašo patvirtinimo"
A4: Eil. Nr. | B4: Rodiklio pavadinimas | C4: Duomenų teikimo data | D4: Rodiklio reikšmė 2023m. | E4: 2024 | F4: 2025 | G4: 2026 | H4: Duomenų šaltinis
A5: 1. | B5: Demografiniai rodikliai
A6: 1.1. | B6: Gimimų skaičius Visagino savivaldybėje (skaičiuojant tik gimusius Lietuvoje) | C6: Sausio 1 d. | D6: 118 (2024-01-02 duomenimis) | E6: 115 | F6: 115 | G6: 115 | H6: LR statistikos departamento Oficialiosios statistikos portalas
A7: 2. | B7: Socialiniai rodikliai
A8: 2.1. | B8: Socialinės rizikos šeimų, auginančių vaikus, skaičius | C8: Spalio 1 d. | D8: 115 | E8: 112 | F8: 110 | G8: 110 | H8: Socialinės paramos skyrius
A9: 2.2. | B9: Vaikų, augančių socialinės rizikos šeimose, skaičius | C9: Spalio 1 d. | D9: 189 | E9: 185 | F9: 180 | G9: 180 | H9: Socialinės paramos skyrius
A10: 2.3. | B10: Vaikų, gaunančių nemokamą maitinimą, skaičius | C10: Spalio 1 d. | D10: 443 | E10: 430 | F10: 425 | G10: 425 | H10: Socialinės paramos skyrius
A11: 2.4. | B11: Pavežamų bendrojo ugdymo mokyklų mokinių skaičius | C11: Spalio 1 d. | D11: 106 | E11: 105 | F11: 108 | G11: 110 | H11: Vietinio ūkio valdymo ir statybos skyrius
A12: 3. | B12: Švietimo aplinkos rodikliai
A13: 3.1. | B13: Formaliojo ir neformaliojo švietimo paslaugų teikėjų (įstaigų, organizacijų, fizinių asmenų) skaičius | C13: Rugsėjo 1 d. | D13: 36 | E13: 38 | F13: 38 | G13: 40 | H13: Švietimo ir mokslo institucijų registras (toliau – ŠMIR)
A14: 3.2. | B14: Neformaliojo švietimo programų teikėjų skaičius savivaldybėje | C14: Rugsėjo 1 d. | D14: 26 | E14: 28 | F14: 28 | G14: 30 | H14: ŠMIR
A15: 3.3. | B15: Mokinių skaičius bendrojo ugdymo (toliau – BU) mokyklose | C15: Rugsėjo 1 d. | D15: 1931 | E15: 1950 | F15: 1950 | G15: 1950 | H15: Švietimo valdymo informacinė sistema (toliau – ŠVIS)
A16: 3.4. | B16: Mokinių skaičius ikimokyklinio ugdymo įstaigose | C16: Rugsėjo 1 d. | D16: 759 | E16: 750 | F16: 750 | G16: 750 | H16: ŠVIS
A17: 3.5. | B17: Mokinių skaičius neformaliojo švietimo įstaigose | C17: Spalio 1 d. | D17: 2263 | E17: 2260 | F17: 2260 | G17: 2260 | H17: ŠVIS, Mokinių registras (toliau – MR)
A18: 3.6. | B18: Vienai sąlyginei mokytojo pareigybei tenkančių mokinių skaičius BU mokyklose | C18: Spalio 1 d. | D18: 10.5 | E18: 10.5 | F18: 10.5 | G18: 10.6 | H18: ŠVIS, Pedagogų registras (toliau – PR)
A19: 3.7. | B19: Bendrojo ugdymo mokyklų 1–8 klasių komplektų, kurie yra jungtiniai, dalis (neįskaičiuojant specialiųjų klasių / grupių) | C19: Rugsėjo 1 d. | D19: 0 | E19: 0 | F19: 0 | G19: 0 | H19: ŠVIS
A20: 3.8. | B20: Bendrojo ugdymo mokyklų klasių komplektų, kuriuose yra mažiau kaip 8 mokiniai, dalis (neįskaičiuojant specialiųjų klasių / grupių) | C20: Rugsėjo 1 d. | D20: 0 | E20: 0 | F20: 0 | G20: 0 | H20: ŠVIS
A21: 3.9. | B21: Naujai komplektuojamų priešmokyklinio ugdymo grupių, kuriose yra ne daugiau kaip 20 mokinių, dalis (neįskaičiuojant specialiųjų klasių / grupių) | C21: Rugsėjo 1 d. | D21: 0 | E21: 0 | F21: 0 | G21: 0 | H21: ŠVIS
A22: 3.10. | B22: Naujai komplektuojamų bendrojo ugdymo mokyklų bendrosios paskirties 1 klasių komplektų, kuriuose yra ne daugiau kaip 24 mokiniai, dalis (neįskaičiuojant specialiųjų klasių / grupių) nuo bendro visų klasių / grupių skaičiaus | C22: Rugsėjo 1 d. | D22: 0 | E22: 0 | F22: 0 | G22: 0 | H22: ŠVIS
A23: 4. | B23: Personalo rodikliai
A24: 4.1. | B24: Jaunesnių nei 50 metų bei 50 metų ir vyresnio amžiaus mokytojų skaičiaus santykis (procentais) | C24: Spalio 1 d. | D24: 29,6/70,4 | E24: 30/70 | F24: 31/69 | G24: 32/68 | H24: Pedagogų registras, ŠVIS
A25: 4.1.1. | B25: bendrojo ugdymo mokyklose | D25: 27,8/72,2 | E25: 28/72 | F25: 29/71 | G25: 30/70
A26: 4.1.2. | B26: ikimokyklinio ugdymo įstaigose | D26: 24,8/75,2 | E26: 25/75 | F26: 26/74 | G26: 28/72
A27: 4.1.3. | B27: neformalaus švietimo įstaigose | D27: 39,3/60,7 | E27: 40/60 | F27: 40/60 | G27: 41/59
A28: 4.2. | B28: Daugiau kaip 2 metų pedagoginio darbo stažą turinčių darbuotojų dalis | C28: Spalio 1 d. | H28: ŠVIS
A29: 4.2.1. | B29: bendrojo ugdymo mokyklose | D29: 96 proc. | E29: 95 | F29: 94 | G29: 94
A30: 4.2.2. | B30: ikimokyklinio ugdymo įstaigose | D30: 94 proc | E30: 94 | F30: 93 | G30: 92
A31: 4.2.3. | B31: neformalaus švietimo įstaigose | D31: 85 | E31: 85 | F31: 82 | G31: 80
A32: 4.3. | B32: Švietimo įstaigų, kuriose nėra nuolatinio vadovo daugiau kaip 12 mėnesių, dalis nuo bendro švietimo įstaigų skaičiaus | C32: Spalio 1 d. | D32: 1 | E32: 0 | F32: 0 | G32: 0 | H32: Švietimo, kultūros, sporto ir valstybinės kalbos kontrolės skyrius
A33: 4.4. | B33: Vienai sąlyginei mokytojo pareigybei tenkančių mokinių skaičius bendrojo ugdymo mokyklose | C33: Spalio 1 d. | D33: Skaičius | E33: 10.5 | F33: 10.5 | G33: 10.6 | H33: PR, Finansų ir biudžeto skyrius
A34: 5. | B34: Ikimokyklinio ugdymo rodikliai
A35: 5.1. | B35: Ikimokykliniame ir priešmokykliniame ugdyme dalyvaujančių 3–5 metų vaikų dalis | C35: Rugsėjo 1 d. | D35: Procentai | E35: 89.22 | F35: 90 | G35: 92 | H35: ŠVIS
A36: 5.2. | B36: Savivaldybės mokyklose ugdomų 3–5 metų vaikų, kurių deklaruota gyvenamoji vieta kitoje savivaldybėje, dalis | C36: Rugsėjo 1 d. | D36: 9.05 | E36: 10 | F36: 10 | G36: 10 | H36: ŠVIS
A37: 5.3. | B37: Savivaldybės 3–5 metų vaikų, ugdomų ne savivaldybės mokyklose, dalis proc. | C37: Rugsėjo 1 d. | D37: 0 | E37: 0.5 | F37: 0.5 | G37: 0.5 | H37: ŠVIS
A38: 6. | B38: Pagalbos mokiniui teikimo rodikliai
A39: 6.1. | B39: Švietimo pagalbos specialistų, tenkančių 100-ui bendrojo ugdymo mokyklų mokinių | C39: Rugsėjo 1 d. | D39: Procentai | E39: 0.67 | F39: 0.7 | G39: 0.7 | H39: ŠVIS
A41: 6.2. | B41: Švietimo pagalbos specialistų, tenkančių 100-ui ikimokyklinio ugdymo įstaigų mokinių | C41: Rugsėjo 1 d. | D41: 21 darbuotojas, 2,77 proc. | E41: 3 proc | F41: 3.5 | G41: 3.5 | H41: ŠVIS
A43: 6.3. | B43: Švietimo pagalbą gaunančių mokinių dalis (nuo visų mokinių, kuriems nustatytas švietimo pagalbos poreikis, skaičiaus) | C43: Rugsėjo 1 d. | D43: 100 | E43: 100 | F43: 100 | G43: 100 | H43: ŠVIS,Mokinių registras
