Workbook
Name _Hlk122275804: 'Plėtros tikslų stebėsena (IV) '!$S$127
Name _Hlk89418331: 'VŠĮ rodikliai (XVIII)'!#REF!
Name _Hlk92374825: 'VŠĮ rodikliai (XVIII)'!#REF!
Name _Hlk92374960: 'VŠĮ rodikliai (XVIII)'!$C$22
Name _Hlk92375563: 'VŠĮ rodikliai (XVIII)'!$C$38
Name _Hlk92375700: 'VŠĮ rodikliai (XVIII)'!$C$63
Name _Hlk92375786: 'VŠĮ rodikliai (XVIII)'!#REF!
Name _Hlk92376639: 'VŠĮ rodikliai (XVIII)'!$C$51
Name _Toc123901359: 'VŠĮ rodikliai (XVIII)'!$C$166
Name _Toc506024955: 'Vertinimo kriterijai'!$A$1
Name Excel_BuiltIn__FilterDatabase_2: #REF!

Sheet Mero pranešimas (I)
I2: PATVIRTINTA Visagino savivaldybės tarybos 2024 m. ______ d. gegužės ____sprendimu Nr.TS-
B7: VISAGINO SAVIVALDYBĖS VEIKLOS ATASKAITA
B12: Vadovo pranešimas
B17: Gerbiami Visagino savivaldybės gyventojai! Prieš Jums susipažįstant su metine 2023 m. veiklos ataskaita, noriu kiekvienam išreikšti asmeninę padėką už Jūsų aktyvų dalyvavimą savivaldos gyvenime ir palaikymą, išreikštą 2023 metų savivaldybių tarybų ir merų rinkimuose. Be Jūsų šis kelias į progresyvią ir atvirą Visagino ateitį nebūtų toks užtikrintas ir sėkmingas. Drauge sukūrėme daug pozityvių pokyčių, sutelkdami dėmesį ne tik į infrastruktūros tobulinimą, bet ir į ekonomikos augimą, inovacijų taikymą, švietimą, kultūrą, bendruomenės stiprinimą ir ilgalaikę savivaldybės viziją. Skaidrumas, atvirumas, kalbėjimasis – tai vertybės, kuriomis vadovaujuosi tarnaudamas Visaginui. Tikiu, kad bendros mūsų pastangos ir galvojimas apie ateities kartas padės įveikti visus kylančius iššūkius ir užtikrins mums inovatyvaus, žalio, jauno, tvarkingo ir atviro miesto vardą. Šiais metais pelnėme ne vieną valstybinį įvertinimą. Daug apdovanojimų atvežėte į Visaginą ir Jūs asmeniškai. Tai ženklas, kad esame stiprūs, pastebimi ir unikalūs daugelyje sričių. Vis dėlto, kviečiu „neužmigti ant laurų“ ir dėti dar daugiau pastangų, kad mūsų miestas klestėtų! Drauge kurkime klestintį Visaginą! Meras Erlandas Galaguz

Sheet Veiklos rezultatai (II)
B2: 2023 M. VEIKLOS TIKSLAI IR REZULTATAI (informacija apie mero veiklos rezultatus)
C4: Vadovaujantis 2023-2030 m. savivaldybės plėtros plane numatytais prioritetiniais tikslais ir uždaviniais buvo patvirtintas ir įgyvendinamas 2023-2025 m. strateginis veiklos planas, kurį sudarė 10 įvairius sektorius apimančių programų, susijusių su Vietos savivaldos įstatyme numatytų funkcijų įgyvendinimu. Ataskaitiniu laikotarpiu buvo administruojami savivaldybės biudžeto asignavimai ir kiti piniginiai ištekliai, organizuojamas savivaldybės biudžeto vykdymas, administruojamas savivaldybės turtas. Siekiant užtikrinti efektyvų viešojo administravimo subjektų darbą buvo kontroliuojama ir prižiūrima savivaldybės viešojo administravimo institucijų, įstaigų ir įmonių vadovų veikla. Taip pat pagal poreikį buvo tvirtinami įvairūs dokumentai teritorijų planavimo bei žemėtvarkos srityse.
C5: Pagrindinės prioritetinės sritys ir veiklos, kuriomis buvo vadovaujamasi vykdant veiklą 2023 m.
B6: 1 prioritetas | C6: Konkurencingo verslo skatinimas ir vietinės ekonomikos tvari plėtra
B7: 1.1. tikslas | C7: ='[1]II skyrius'!D10 -> Gerinti investicinės aplinkos patrauklumą ir didinti ekonominį potencialą
C8: Investicijų pritraukimo ir verslumo skatinimo institucinės ekosistemos sukūrimas Visagino, Ignalinos ir Zarasų funkcinėje zonoje (VIZA funkcinės zonos strategijos projekto rengimas)
C9: Investicijoms pritaikytos verslo ir gamybos pastatų bei žemės infrastruktūros, skatinant apleistų/nenaudojamų/neefektyviai naudojamų teritorijų ir pastatų konversiją ir pritaikymą ekonominei veiklai, sukūrimas
B10: 1.2. tikslas | C10: ='[1]II skyrius'!D18 -> Didinti turistinį savivaldybės patrauklumą, teikiant viešąsias paslaugas bei plėtojant viešąją turizmo infrastruktūrą
C11: Viešųjų paslaugų teikimas bei Visagino savivaldybės turizmo rinkodaros plėtojimas
C12: Žygių maršrutų „Visaginas. Miestas miške-miškas mieste" sukūrimas, integracija į funkcinės zonos VIZA ir Utenos regiono bendrus turizmo maršrutus, priėjimų prie lankomų/gamtos objektų įrengimas, atokvėpio/stebėjimo vietų įrengimas
C13: Visagino kaip postbranduolinės erdvės paveldo išsaugojimas, aktualizavimas, pristatymas
B14: 2 prioritetas | C14: Socialinės gerovės kūrimas sumaniai, pažangiai, besimokančiai, moderniai ir laimingai bendruomenei
B15: 2.1. tikslas | C15: ='[1]II skyrius'!D22 -> Tikslingai naudojant švietimui skirtas lėšas bei kryptingai tobulinant darbuotojų kompetencijas, kiekvienam besimokančiajam sukurti lygiavertes ir šiuolaikiškas kokybiško ugdymo(si) sąlygas, lemiančias geresnius mokinių pasiekimus, optimalią, integracinę, darniai ir racionaliai veikiančią, nuolat atsinaujinančią savivaldybės švietimo sistemą
C16: Ikimokyklinio ugdymo įstaigų tinklo, kuriant naujas ugdymo vietas, stiprinimas
C17: Visagino progimnazijų erdvių pritaikymas negalią turinčių mokinių ugdymuisi įtraukiuoju būdu
C18: Visos dienos užimtumo erdvių sukūrimas Visagino bendrojo ugdymo mokyklose
C19: Visagino savivaldybės priemonių, numatytų „Tūkstantmečio mokyklų“ Visagino ir Ignalinos rajono savivaldybių Švietimo pažangos plane, įgyvendinimas
C20: Visagino savivaldybės bendrojo ugdymo mokyklų tinklo pertvarkos priemonių planų kiekvienoje mokykloje įgyvendinimas
B21: 2.2. tikslas | C21: ='[1]II skyrius'!D30 -> Sudaryti sąlygas visų amžiaus grupių ir galimybių visaginiečiams jų sveikai gyvensenai, fiziniam aktyvumui, sportavimui bei siekti, kad tai taptų savivaldybės bendruomenės gyvensenos dalimi
C22: Visagino savivaldybės ugdymo įstaigų vidaus ir lauko sporto infrastruktūros - sporto salių, aikštelių, stadionų - atnaujinimas ir (ar) plėtra
C23: Aplinkos ir viešųjų erdvių fizinio aktyvumo užsiėmimams pritaikymas
B24: 2.3. tikslas | C24: ='[1]II skyrius'!D36 -> Įgyvendinti valstybinę kultūros politiką ir formuoti regioninį identitetą, stiprinti pilietiškumą ir bendruomenės į(si)traukimą į kūrybines, kultūrines veiklas
C25: Infrastruktūros, būtinos gyventojų kultūriniams poreikiams užtikrinti, esamos vidaus rekonstravimas ir/arba naujos statymas
C26: Visagino miesto muziejaus koncepcijos ir struktūros plėtojimas
B27: 2.4. tikslas | C27: ='[1]II skyrius'!D43 -> Stiprinti ir puoselėti gyventojų sveikatą
C28: Asmens sveikatos priežiūros įstaigų paslaugų infrastruktūros bei įrangos, siekiant didesnės ir aukštesnės paslaugų aprėpties, įvairovės ir kokybės plėtojimas, modernizavimas ir atnaujinimas (Visagino sveikatos centro veiklos vystymas)
B29: 2.5. tikslas | C29: ='[1]II skyrius'!D47 -> Pagerinti ir plėsti socialinių paslaugų kokybę ir prieinamumą bei sukurti jų plėtrai reikalingą infrastruktūrą
C30: Socialinių paslaugų prieinamumo didinimas
C31: Socialinio ir savivaldybės būsto prieinamumo visų socialinių grupių atstovams didinimas
B32: 2.6. tikslas | C32: ='[1]II skyrius'!D49 -> Sudaryti galimybes jaunimui atvykti, dirbti ir gyventi Visagino savivaldybėje
C33: Jaunimo teikiamų projektų ir iniciatyvų finansavimas
B34: 2.7. tikslas | C34: ='[1]II skyrius'!D52 -> Gyventojų socialinio, pilietinio aktyvumo, dalyvavimo savanoriškoje, visuomeninėje veikloje, tarpusavio pasitikėjimo, bendruomenės socialinės atsakomybės ir įsitraukimo didinimas
C35: Vietos savivaldai priimant sprendimus integruotai ir tolygiai formuoti nevyriausybinių ir bendruomeninių organizacijų veiklai palankią aplinką savivaldybėje (dalyvaujamojo biudžeto priemonių vykdymas)
C36: Viešosios naudos nevyriausybinių ir bendruomeninių organizacijų institucinio stiprinimo projektų (gebėjimai, lyderystė, sąlygos viešosios naudos organizacijų veiklos tvarumui užtikrinti, socialinis verslas ir kt.) - vietos veiklos grupių strategijų tvirtinimas
B37: 2.8. tikslas | C37: ='[1]II skyrius'!D56 -> Tobulinti viešojo valdymo sistemą, didinti jos efektyvumą ir atvirumą
C38: Inovatyvių sprendimų ir būdų savivaldybėje ir jos įstaigose, galinčių padidinti viešojo valdymo efektyvumą, diegimas (miesto dvynio informacinės sistemos sukūrimas)
C39: Miesto vaizdo stebėjimo sistemos naujinimas ir plėtra
B40: 3 prioritetas | C40: Tvarus, subalansuotas savivaldybės aplinkos vystymas ir plėtra
B41: 3.1. tikslas | C41: ='[1]II skyrius'!D64 -> Vykdyti kryptingą darnaus judumo politiką savivaldybėje
C42: ='[1]II skyrius'!D65 -> Skatinti bemotorio transporto pasirinkimą ir pėsčiųjų judumą
...

Sheet Regioninis planavimas (III)
B3: REGIONINIS PLANAVIMAS 2023 m. (informacija apie regionų plėtros programoje, regiono plėtros plane nustatytų uždavinių ir jų vertinimo rodiklių reikšmių pasiekimą atitinkamais finansiniais metais)
B4: Visagino savivaldybės meras Erlandas Galaguz ir Visagino savivaldybės tarybos narys Vytautas Račkauskas atstovauja Visagino savivaldybei Utenos regiono plėtros taryboje, kuri planuoja ir koordinuoja nacionalinės regioninės politikos įgyvendinimą toje apskrityje, skatina Utenos regiono socialinę ir ekonominę plėtrą ir apskrities savivaldybių bendradarbiavimą. Regiono plėtros tarybos veiklos tikslai: planuoti ir koordinuoti nacionalinės regioninės politikos įgyvendinimą konkrečiame regione ir kartu su kitomis regionų plėtros tarybomis, savivaldybių institucijomis ir įstaigomis įgyvendinti regioninės plėtros skatinimo priemones; skatinti socialinę, ekonominę regiono plėtrą, darnų urbanizuotų teritorijų vystymą, socialinių ir ekonominių skirtumų tarp regiono ir kitų regionų bei šių skirtumų tarp regiono savivaldybių mažinimą; skatinti savivaldybių bendradarbiavimą siekiant padidinti funkcinių zonų vystymo ir viešųjų paslaugų teikimo organizavimo efektyvumą; atstovauti regionui. 2023 metais Utenos regiono plėtros taryba kartu su Utenos regiono savivaldybėmis parengė ir patvirtino Utenos regiono plėtros planą (ir jo pakeitimus), koordinavo ir kontroliavo regiono plėtros plano įgyvendinimą, teikė Vidaus reikalų ministerijai ir kitoms Vyriausybės tvirtinamus planavimo dokumentus rengiančioms valstybės institucijoms, įstaigoms pasiūlymus dėl Regionų plėtros programos ir kitų Vyriausybės tvirtinamų planavimo dokumentų, kurių įgyvendinimas gali turėti poveikį regiono plėtrai, projektų. 2023 m. parengtos ir patvirtintos Utenos regiono plėtros plano pažangos priemonės, kurias įgyvendinant dalyvauja Visagino savivaldybė: 1) Pažangos priemonė LT029-02-01-02 „Rūšiuojamojo atliekų surinkimo skatinimas“, Visagino savivaldybė planuoja įgyvendinti investicinius projektus „Komunalinių atliekų rūšiuojamojo atliekų surinkimo pajėgumų plėtra Visagino savivaldybėje“ ir „Didelių gabaritų atliekų surinkimo aikštelės įrengimas Visagino mieste“ (planuojama projektų vertė 2 090 180,75 Eur, iš jų ES lėšos – 1 776 653,54 Eur); 2) Pažangos priemonė LT029-01-03-01 „Ugdymo prieinamumo atskirtį patiriantiems vaikams didinimas“, Visagino savivaldybė planuoja įgyvendinti investicinius projektus „Stiprinti ikimokyklinio ugdymo įstaigų tinklą, kuriant naujas ugdymo veiklas“ ir „ Visagino progimnazijų erdvių pritaikymas negalią turinčių mokinių ugdymuisi įtraukiuoju būdu“ (planuojama projektų vertė 2 073 235 Eur, iš jų ES lėšos – 1 762 249,75 Eur); 3) Pažangos priemonė LT029-01-03-02 „Visos dienos mokyklos modelio pritaikymas formalaus ir neformalaus švietimo integracijai“, Visagino savivaldybė planuoja įgyvendinti investicinį projektą „Visos dienos užimtumo erdvių sukūrimas Visagino bendrojo ugdymo mokyklose“ (planuojama projekto vertė 1 160 000 Eur, iš jų ES lėšos – 986 000 Eur); 4) Pažangos priemonė LT029-01-01-01 „Socialinių paslaugų infrastruktūros, būtinos institucinės globos pertvarkos įgyvendinimui, modernizavimas ir plėtra“, Visagino savivaldybė planuoja įgyvendinti investicinį projektą „Bendrabučio tipo pastato, esančio Kosmoso g. 28 Visagine, patalpų pritaikymas socialinio būsto įrengimui-II etapas“ (planuojama projekto vertė 962 734,71 Eur, iš jų ES lėšos – 818 031,58 Eur); 5) Pažangos priemonė LT029-01-01-01 „Socialinių paslaugų infrastruktūros, būtinos institucinės globos pertvarkos įgyvendinimui, modernizavimas ir plėtra“, Visagino savivaldybė planuoja įgyvendinti investicinį projektą „Specialiųjų poreikių turinčių asmenų gerovės kūrimas ir įtrauktis į socialinę ir ekonominę Visagino savivaldybės raidą“ (planuojama projekto vertė 2 110 699,12 Eur, iš jų ES lėšos – 1 793 094,25 Eur); 2023 m. Utenos regiono plėtros taryba patvirtino, kad Visagino miesto vietos veiklos grupės 2024–2029 m. vietos plėtros strategijos projektas atitinka 2022–2030 m. Utenos regiono plėtros plano 1 tikslą „Gerinti socialinių, sveikatos priežiūros, švietimo paslaugų kokybę ir prieinamumą“ ir 3 tikslą „Prisidėti prie investicinės aplinkos patrauklumo ir bendrų turizmo paslaugų vystymo “. Utenos regiono plėtros planą galite rasti paspaudę nuorodą: https://www.e-tar.lt/portal/lt/legalAct/579ce010a1fd11ed8df094f359a60216

Sheet Plėtros tikslų stebėsena (IV) 
B2: SAVIVALDYBĖS PLĖTROS TIKSLŲ IR UŽDAVINIŲ STEBĖSENA IKI 2030 M.
C8: SSPP tikslų ir uždavinių kodas | D8: SSPP tikslai ir uždaviniai | E8: Stebėsenos rodiklis (matavimo vnt.) | F8: Pradinė stebėsenos rodiklio reikšmė (2022) | G8: Faktinė stebėsenos rodiklio reikšmė (2023) | H8: Pasiekta stebėsenos rodiklio reikšmė (2023) | I8: Siektinos stebėsenos rodiklio reikšmės | L8: Faktinė stebėsenos rodiklio reikšmė (2023) | M8: Siekiama stebėsenos rodiklio reikšmė (2030)
I9: 2024 metai | J9: 2025 metai | K9: 2026 metai
C10: 1 | D10: 2 | E10: 3 | F10: 4 | G10: 8 | I10: 5 | J10: 6 | K10: 7 | L10: 8 | M10: 9
C11: 1.1. | D11: Gerinti investicinės aplinkos patrauklumą ir didinti ekonominį potencialą | E11: E-1.1-1 Dirbančiųjų skaičius (tūkst. asm.) | F11: 5859 | G11: Nėra duomenų už 2023 m. | H11: Nėra duomenų už 2023 m. | I11: 7450 | J11: 7460 | K11: 7470 | L11: 7470 | M11: 8000
C12: 1.1.-1 | D12: Pagerinti investicijų pritraukimo ir verslo plėtros sąlygas | E12: Materialinės investicijos, tenkančios 1-am gyventojui (Eur) | F12: 1116 Eur (2020) | G12: 1116 Eur (2020) | H12: 889* duomenys už 2022 m. | I12: 889 | J12: 890 | K12: 891 | L12: 1116 Eur (2020) | M12: Ne mažiau kaip 1200 Eur (2030 )
E13: Pritraukta naujų tiesioginių užsienio investicijų, tenkančių 1-am gyventojui (Eur) | F13: 571 Eur (2020) | G13: 571 Eur (2020) | H13: 739* duomenys už 2022 m. | I13: 739 | J13: 740 | K13: 741 | L13: 571 Eur (2020) | M13: 800 Eur (2030 m)
C14: 1.1.-2 | D14: Skatinti gyventojų verslumą ir ekonominį mobilumą | E14: Verslumo lygis (veikiančių SVV įmonių skaičius, tenkantis 1000 gyv., koef.) | F14: 15,5 (2022) | G14: 15,5 (2022) | H14: 14.8 | I14: 14.78 | J14: 14.8 | K14: 15 | L14: 15,5 (2022) | M14: Ne mažiau kaip 20 (2030)
E15: Gyventojų aktyvumas, vykdant individualią veiklą (gyventojų, besiverčiančių veikla pagal individualios veiklos pažymą ir verslo liudijimus, skaičius, tenkantis 1000-iui gyv., koef.) | F15: 18,82 (2022) | G15: 18,82 (2022) | H15: 18.82 | I15: 19.55 | J15: 20 | K15: 20 | L15: 1,52 (2022) | M15: Ne mažiau kaip 20 (2030)
E16: Sukurti ir įgyvendinti verslumo skatinimo programą | F16: 0 (2022) | G16: 0 (2022) | H16: 1 | I16: 1 | J16: 0 | K16: 0 | L16: 0 (2022) | M16: 1 (2024)
E17: Bendradarbystės centro „Spiečius“ narių skaičius | F17: 15 (2022) | G17: 15 (2022) | H17: 15 | I17: 25 | J17: 35 | K17: 45 | L17: 15 (2022) | M17: 100 (2030)
C18: 1.1.-3 | D18: Sukurti tinkamas sąlygas strateginėms verslo kryptims plėtotis Visagino savivaldybėje | E18: Strateginėse verslo kryptyse veikiančių verslo subjektų skaičius | F18: 2 (2022) | G18: 2 (2022) | H18: 2 | I18: 2 | J18: 2 | K18: 3 | L18: 2 (2022) | M18: 4 (2030)
C19: 1.2. | D19: Didinti turistinį savivaldybės patrauklumą, teikiant viešąsias paslaugas bei plėtojant viešąją turizmo infrastruktūrą | E19: Nakvynių skaičius apgyvendinimo įstaigose, vnt. | F19: 506 (2022) | G19: 506 (2022) | H19: 8967 | I19: 7855 | J19: 8000 | K19: 8100 | L19: 506 (2022) | M19: 700 (2030)
C20: 1.2.-1 | D20: Skatinti turizmo konkurencingumą, teikiant viešąsias ir verslo paslaugas bei vykdant aktyvią paslaugų rinkodarą | E20: Turistų, apsilankiusių VTPC, dalis sezono metu (gegužės–rugpjūčio mėn.), palyginti su bendruoju metiniu turistų skaičiumi (proc.) | F20: 72 (2022) | G20: 72 (2022) | H20: 72 | I20: 72 | J20: 72 | K20: 72 | L20: 72 (2022) | M20: 50 (2030)
C21: 1.2.-2 | D21: Visagino turizmo, gamtos ir kultūros objektų pritaikymas lankymui, modernizuojant viešąją turizmo infrastruktūrą | E21: Suformuotų turistų traukos objektų skaičius (vnt.) | F21: 0 (2022) | G21: 0 (2022) | H21: 0 | I21: 4 | J21: 1 | K21: 1 | L21: 0 (2022) | M21: 3 (2030)
C22: 1.2.-3 | D22: Visagino kaip monoindustrinio miesto urbanistikos, daugiataučio kultūros paveldo ir tradicijų perdavimas per turizmo ir edukacines veiklas | E22: Asmenų, dalyvavusių perduodant Visagino daugiataučio kultūros paveldo ir tradicijų per turizmo ir edukacines veiklas, skaičius | F22: 0 (2022) | G22: 0 (2022) | H22: 50 | I22: 50 | J22: 100 | K22: 150 | L22: 0 (2022) | M22: 700 (2030)
C23: 2.1 | D23: Tikslingai naudojant švietimui skirtas lėšas bei kryptingai tobulinant darbuotojų kompetencijas, kiekvienam besimokančiajam sukurti lygiavertes ir šiuolaikiškas kokybiško ugdymo(si) sąlygas, lemiančias geresnius mokinių pasiekimus, optimalią, integracinę, darniai ir racionaliai veikiančią, nuolat atsinaujinančią savivaldybės švietimo sistemą | E23: Visagino savivaldybės bendrojo ugdymo mokyklų tinklo pertvarkos 2022–2026 metų bendrojo plano kokybinių pokyčių / priemonių įgyvendinimas, proc. | F23: 0 (2022) | G23: 0 (2022) | H23: 10 | I23: 50 | J23: 75 | K23: 98 | L23: 0 (2022) | M23: 98 (2026)
C24: 2.1.-1 | D24: Padidinti ugdymo paslaugų prieinamumą ir įtrauktį kuriant naujas ikimokyklinio ugdymo vietas ir efektyviai veikiančių mokyklų infrastruktūrą pritaikant vaikams su negalia bei bendriesiems ugdymo poreikiams gerinti | E24: Ikimokyklinio ugdymo įstaigų talpumas (vietų skaičius), vnt. | F24: 895 (2022) | G24: 895 (2022) | H24: 895 | I24: 895 | J24: 983 | K24: 983 | L24: 895 (2022) | M24: 983 (2027)
E25: Mokyklų, kuriose buvo įdiegtos universalaus dizaino ir kitos inžinerinės priemonės, aplinką pritaikant asmenims, turintiems negalią, dalis nuo visų mokyklų | F25: 0 (2022) | G25: 0 (2022) | H25: 0 | I25: 0 | J25: 40 | K25: 0 | L25: 0 (2022) | M25: 40 (2023)
C26: 2.1.-2 | D26: Plėtoti įvairialypį švietimą vykdant visos dienos mokyklų veiklą | E26: Neformaliojo vaikų švietimo galimybėmis pasinaudojusių mokinių dalis (išskyrus ikimokykliniame ir priešmokykliniame ugdyme dalyvaujančius vaikus) (proc.) | F26: 0 (2022) | G26: 0 (2022) | H26: 0 | I26: 0 | J26: 35 | K26: 45 | L26: 0 (2022) | M26: 46,9 (2027)
C27: 2.1.-3 | D27: Stiprinti mokyklas įgalinant dirbti su įvairių galių ir gebėjimų mokiniais, kurie mokyklų pedagogų, mokymosi aplinkos padedami ir motyvuojami įveikia barjerus ir pasiekia maksimalų savo individualių galimybių mokymosi rezultatą | E27: Visagino savivaldybės ugdymo įstaigų, dalyvavusių Tūkstantmečio mokyklų programos veiklose, skaičius | F27: 0 (2022) | G27: 0 (2022) | H27: 0 | I27: 3 | J27: 3 | K27: 3 | L27: 0 (2022) | M27: 3 (2030)
C28: 2.1.-4 | D28: Skatinti mokinių domėjimąsi gamtos mokslais, matematika, technologijomis ir kt. veiklomis, išbandant save įvairiose praktinėse-tiriamosiose veiklose | E28: Pasirašytų bendradarbiavimo sutarčių su verslo atstovais skaičius | F28: 0 (2022) | G28: 0 (2022) | H28: 1 | I28: 1 | J28: 1 | K28: 1 | L28: 0 (2022) | M28: 3 (2030)
C29: 2.1.-5 | D29: Skatinti kokybinę kaitą bei lyderystės raišką švietimo įstaigose išbandant / taikant inovatyvius mokymo(si) modelius, aktyviai dalyvaujant projektinėje veikloje | E29: Įgyvendintų projektų skaičius | F29: 1(2022) | G29: 1(2022) | H29: 2 | I29: 0 | J29: 1 | K29: 4 | L29: 1(2022) | M29: 5 (2030)
C30: 2.1.-6 | D30: Siekti, kad visi turėtų lanksčių kvalifikacijos kėlimo ir persikvalifikavimo galimybių, atsižvelgiant į verslumo ir skaitmeninius įgūdžius, geriau numatyti pokyčius ir naujų įgūdžių reikalavimus, grindžiamus darbo rinkos poreikiais, sudaryti palankesnes sąlygas keisti profesinę veiklą ir skatinti profesinį judumą | E30: Asmenų, kurie dalyvavę mokymuose įgijo kompetenciją, dalis proc. nuo visų besimokančiųjų VTVPMC | F30: 0 (2022) | G30: 0 (2022) | H30: 80 | I30: 80 | J30: 82 | K30: 85 | L30: 0 (2022) | M30: 98 (2030)
C31: 2.2. | D31: Sudaryti sąlygas visų amžiaus grupių ir galimybių visaginiečiams jų sveikai gyvensenai, fiziniam aktyvumui, sportavimui bei siekti, kad tai taptų savivaldybės bendruomenės gyvensenos dalimi | E31: Veikiančių atvirų sporto erdvių skaičius (vnt.) | F31: 10 (2022) | G31: 10 (2022) | H31: 10 | I31: 12 | J31: 12 | K31: 13 | L31: 10 (2022) | M31: 21 (2030)
C32: 2.2-1 | D32: Didinti fizinio aktyvumo lygį visose savivaldybės gyventojų amžiaus grupėse, plėsti galimybes bendruomenės fiziniam aktyvumui ir sveikatinimo veikloms | E32: Sporto varžybose ir sveikatingumo renginiuose dalyvavusių asmenų skaičius, vnt. per metus | F32: 2466 (2021) | G32: 2466 (2021) | H32: ~3000 | I32: 3000 | J32: 3600 | K32: 4000 | L32: 2466 (2021) | M32: Kasmet didėjantis ne mažiau kaip 20 proc.
C33: 2.2-2 | D33: Vykdyti talentingų sportininkų atranką, sudaryti jiems tinkamas sąlygas meistriškumui didinti | E33: Aukšto meistriškumo sportininkų dalis nuo visų sportininkų Visagino savivaldybėje (proc.) | F33: 20 (2022) | G33: 20 (2022) | H33: ~20 | I33: 20 | J33: 20 | K33: 25 | L33: 20 (2022) | M33: 40 (2030)
C34: 2.2-3 | D34: Gerinti sporto ir fizinio aktyvumo specialistų kvalifikaciją ir pritraukti naujus specialistus, kurių kompetencijos reikalingos bendruomenės poreikiams tenkinti, sporto ir fizinio aktyvumo paslaugų plėtrai ir kokybės užtikrinimui | E34: Kvalifikaciją patobulinusių sportinio ugdymo specialistų, dirbančių Visagino savivaldybės įstaigose, skaičius (proc.) | F34: 30 (2022) | G34: 30 2022) | H34: ~20 | I34: 30 | J34: 30 | K34: 30 | L34: 30 2022) | M34: 80 (2030)
C35: 2.2-4 | D35: Didinti visuomenės informuotumą apie fizinio aktyvumo naudą ir vykdyti sporto informacijos sklaidą | E35: Informacinėmis priemonėmis pasiektų asmenų dalis proc. nuo visų gyventojų | F35: 0 (2022) | G35: 0 (2022) | H35: ~40 | I35: 40 | J35: 50 | K35: 60 | L35: 0 (2022) | M35: 98 (2030)
C36: 2.2-5 | D36: Plėtoti ir atnaujinti sporto infrastruktūrą, aprūpinti poreikius atitinkančia įranga ir inventoriumi sudarant tinkamas sąlygas bendruomenės fiziniam aktyvumui, aukšto meistriškumo sportininkų rengimui bei varžybų nuo savivaldybės lygmens iki tarptautinių vykdymui | E36: Asmenų dalyvavusių aukšto lygio sporto varžybose dalis proc. nuo visų gyventojų | F36: 0 (2022) | G36: 0 (2022) | H36: ~1 | I36: 1 | J36: 1 | K36: 1.5 | L36: 0 (2022) | M36: 5 (2030)
C37: 2.3. | D37: Įgyvendinti valstybinę kultūros politiką ir formuoti regioninį identitetą, stiprinti pilietiškumą ir bendruomenės į(si)traukimą į kūrybines, kultūrines veiklas | E37: Gyventojų, bent kartą per mėnesį besilankančių viešuose kultūros renginiuose, dalis proc. nuo bendro gyventojų skaičiaus | F37: 0 (2022) | G37: 0 (2022) | H37: 20 | I37: 40 | J37: 50 | K37: 60 | L37: 0 (2022) | M37: 70 (2030)
C38: 2.3.-1 | D38: Formuoti Visagino, kaip daugiakultūrio miesto, atviro kultūrinėms inovacijoms ir patrauklaus profesionalaus meno sklaidai, laukiančio svečių, reputaciją | E38: Kultūros renginiuose apsilankiusių asmenų skaičius proc. nuo bendro gyventojų skaičiaus | F38: 0 (2022) | G38: 0 (2022) | H38: 22 | I38: 20 | J38: 30 | K38: 50 | L38: 0 (2022) | M38: 80 (2030)
C39: 2.3.-2 | D39: Visagino savivaldybėje sukurti palankiausiais regione sąlygas menininkų kūrybai ir kūrybiniams verslams vystytis | E39: Naujai susikūrusių kūrybinių verslų skaičius | F39: 0 (2022) | G39: 0 (2022) | H39: 0 | I39: 0 | J39: 2 | K39: 3 | L39: 0 (2022) | M39: 8 (2030)
C40: 2.3.-3 | D40: Plėtoti / tobulinti pagal kintančius bendruomenės poreikius kultūros infrastruktūrą bei užtikrinti kultūros, laisvalaikio, kūrybos erdvių prieinamumą bendruomenei ir kūrėjams | E40: Naujai įkurtų erdvių, kuriose skatinamos meniškos ir meninės veiklos, skaičius | F40: 0 (2022) | G40: 0 (2022) | H40: 1 | I40: 0 | J40: 0 | K40: 1 | L40: 0 (2022) | M40: 5 (2030)
C41: 2.3.-4 | D41: Sudaryti palaikančias ir motyvuojančias sąlygas etninės kultūros sklaidai, Dainų švenčių tradicijos tęstinumui, senųjų tradicijų, papročių populiarinimui, jų gyvybingumo puoselėjimui | E41: Asmenų, dalyvavusių etninės kultūros renginiuose, dalis proc. nuo visų savivaldybės gyventojų | F41: 0 (2022) | G41: 0 (2022) | H41: 11 | I41: 10 | J41: 15 | K41: 20 | L41: 0 (2022) | M41: 50 (2030)
C42: 2.3.-5 | D42: Stiprinti įstaigų partnerystę / tinklaveiką, plėtoti projektinę veiklą | E42: Asmenų, dalyvavusių kultūros ir švietimo bendradarbiavimo veiklose, dalis proc. nuo visų savivaldybės gyventojų | F42: 0 (2022) | G42: 0 (2022) | H42: 11 | I42: 10 | J42: 15 | K42: 20 | L42: 0 (2022) | M42: 50 (2030)
C43: 2.3.-6 | D43: Ugdyti įvairiakalbę, kritiškai mąstančią Visagino bendruomenę, kurią jungia valstybinė kalba ir pagarba valstybei | E43: Gyventojų, dalyvavusių pilietinio ugdymo veiklose, dalis proc. nuo visų savivaldybės gyventojų | F43: 0 (2022) | G43: 0 (2022) | H43: ~3 proc. | I43: 3 | J43: 4 | K43: 5 | L43: 0 (2022) | M43: 80 (2030)
C44: 2.4. | D44: Stiprinti ir puoselėti gyventojų sveikatą | E44: Vidutinė tikėtina gyvenimo trukmė (metais) | F44: 76 (2020 m.) | G44: 76 (2020 m.) | H44: 75.47 | I44: 75.47 | J44: 76 | K44: 76 | L44: 76 (2020 m.) | M44: 78,3 (2030)
C45: 2.4.-1 | D45: Užtikrinti prieinamas aukštos kokybės sveikatos priežiūros paslaugas | E45: Stacionaro ligonių skaičius, tenkantis 1 tūkst. gyventojų | F45: 187,5 (2021) | G45: 187,5 (2021) | H45: 207.2 | I45: 207.2 | J45: 206 | K45: 205 | L45: 187,5 (2021) | M45: Mažėjantis
C46: 2.4.-2 | D46: Išplėsti su visuomenės sveikatos stiprinimu susijusias paslaugas | E46: Visuomenės sveikatos stiprinimo veiklose dalyvavusios tikslinės grupės dalis (proc.): | F46: 50 (2021) | G46: 50 (2021) | H46: 50 | I46: 50 | J46: 55 | K46: 60 | L46: 50 (2021) | M46: Didėjantis arba ne mažesnis kaip 80,0 proc. (2030
...

Sheet 2023-2025 SVP ataskaita (V)
B5: VISAGINO SAVIVALDYBĖS 2023-2025 METŲ STRATEGINIO VEIKLOS PLANO ĮGYVENDINIMO 2023 M. ATASKAITA
B8: SAVIVALDYBĖS MISIJA IR VEIKLOS PRIORITETAI
B10: MISIJA
B12: Sėkmingai plėtoti ir įgyvendinti savivaldos teisę, užtikrinti subalansuotą plėtrą bei kokybiškai vykdyti viešojo administravimo ir viešųjų paslaugų teikimo funkcijas, tenkinant Visagino savivaldybės bendruomenės viešuosius poreikius ir interesus
B18: SAVIVALDYBĖS PRIORITETAI
B20: 1. Konkurencingo verslo skatinimas ir vietinės ekonomikos tvari plėtra 2. Socialinės gerovės kūrimas sumaniai, pažangiai, besimokančiai, moderniai ir laimingai bendruomenei 3. Tvarus, subalansuotas savivaldybės aplinkos vystymas ir plėtra

Sheet Programų vykdymas 2023 (VI)
C2: PROGRAMOS
C3: Visagino savivaldybės 2023–2025 metų strateginį veiklos planą sudarė 10 įvairius savivaldybės veiklos sektorius apimančių programų. Kiekvienoje programoje iškelti trejų metų veiklos strateginiai uždaviniai, suformuluotos priemonės ir konkretizuoti rezultatų pasiekimo rodikliai. Programos buvo pasirinktos,susisteminus ir apibendrinus vietos savivaldos principus, savivaldybės instituciją ir jos kompetenciją, numatytas vykdyti funkcijas, savivaldybės mero, savivaldybės tarybos nario statusą, savivaldybių ūkinės ir finansinės veiklos pagrindus, taip pat išanalizavus viešojo administravimo sritis, viešojo administravimo subjektų sistemą ir administracinės procedūros organizavimo pagrindus.
C6: 1 lentelė. 2023-2025 metų asignavimų ir kitų lėšų pasiskirstymas pagal programas (tūkst. eurų)
C7: Eil. Nr. | D7: Programos kodas ir pavadinimas | E7: 2023-02-02 sprendimu Nr. TS-17 patvirtintas planas | F7: Planas (įskaitant patikslinimus) | G7: 2023 m. plano vykdymas | H7: 2023 plano įvykdymo proc. | I7: 2024 metų asignavimai ir kitos lėšos | R7: 1 programa | S7: 2 programa | T7: 3 programa | U7: 4 programa | V7: 5 programa | W7: 6 programa | X7: 7 programa | Y7: 8 programa | Z7: 9 programa | AA7: 10 programa
C8: 1 | D8: 2 | E8: 3 | F8: 4 | G8: 5 | H8: 6 | I8: 7 | Q8: 2023-02-02 sprendimu Nr. TS-17 patvirtintas planas | R8: =E9 -> 4584.811 | S8: =E10 -> 15544.963 | T8: =E11 -> 1296.83 | U8: =E12 -> 1710.912 | V8: =E13 -> 300.092 | W8: =E14 -> 12417.772 | X8: =E15 -> 240.535 | Y8: =E16 -> 3957.245 | Z8: =E17 -> 1089.8 | AA8: =E18 -> 14770.978
C9: 1 | D9: Valdymo tobulinimo programa (01) | E9: =SUM('1 programa (VII) '!E198) -> 4584.811 | F9: =SUM('1 programa (VII) '!F198) -> 4596.829 | G9: =SUM('1 programa (VII) '!G198) -> 4120.697 | H9: =G9/F9 -> 0.89642164 | I9: =SUM('1 programa (VII) '!H198) -> 5677.424 | J9: 4375.829 | K9: 3899.697 | M9: =F9-J9 -> 221 | N9: =G9-K9 -> 221 | Q9: Planas (įskaitant patikslinimus) | R9: =F9 -> 4596.829 | S9: =F10 -> 16481.625 | T9: =F11 -> 1296.83 | U9: =F12 -> 1913.163 | V9: =F13 -> 273.469 | W9: =F14 -> 13859.59 | X9: =F15 -> 280.084 | Y9: =F16 -> 3847.25 | Z9: =F17 -> 1047.504 | AA9: =F18 -> 14301.78
C10: 2 | D10: Švietimo paslaugų plėtros programa (02) | E10: ='2 programa (VIII)'!E295 -> 15544.963 | F10: ='2 programa (VIII)'!F295 -> 16481.625 | G10: ='2 programa (VIII)'!G295 -> 15620.381 | H10: =G10/F10 -> 0.9477452 | I10: ='2 programa (VIII)'!I295 -> #REF! | J10: 16447.66 | K10: 15593.045 | M10: =F10-J10 -> 33.965 | N10: =G10-K10 -> 27.336 | Q10: 2023 m. plano vykdymas | R10: =G9 -> 4120.697 | S10: =G10 -> 15620.381 | T10: =G11 -> 1299.405 | U10: =G12 -> 1802.098 | V10: =G13 -> 193.51 | W10: =G14 -> 12940.722 | X10: =G15 -> 240.102 | Y10: =G16 -> 3487.191 | Z10: =G17 -> 910.919 | AA10: =G18 -> 12988.988
C11: 3 | D11: Fizinio aktyvumo ir sporto plėtros programa (03) | E11: ='3 programa (X)'!E52 -> 1296.83 | F11: ='3 programa (X)'!F52 -> 1296.83 | G11: ='3 programa (X)'!G52 -> 1299.405 | H11: =G11/F11 -> 1.0019856 | I11: ='3 programa (X)'!H52 -> 1.0019856 | J11: 1296.83 | K11: 1299.405 | M11: =F11-J11 -> 0 | N11: =G11-K11 -> 0
C12: 4 | D12: Gyventojų kultūrinio aktyvumo skatinimo ir identiteto stiprinimo programa (04) | E12: ='4 programa (XI)'!E123 -> 1710.912 | F12: ='4 programa (XI)'!F123 -> 1913.163 | G12: ='4 programa (XI)'!G123 -> 1802.098 | H12: =G12/F12 -> 0.94194692 | I12: ='4 programa (XI)'!#REF! -> #REF! | J12: 1694.457 | K12: 1625.293 | M12: =F12-J12 -> 218.706 | N12: =G12-K12 -> 176.805
C13: 5 | D13: Bendruomeniškumo skatinimo programa (05) | E13: ='5 programa (XII)'!E93 -> 300.092 | F13: ='5 programa (XII)'!F93 -> 273.469 | G13: ='5 programa (XII)'!G93 -> 193.51 | H13: =G13/F13 -> 0.7076122 | I13: ='5 programa (XII)'!I93 -> #REF! | J13: 273.469 | K13: 193.51 | M13: =F13-J13 -> 0 | N13: =G13-K13 -> 0
C14: 6 | D14: Socialinės paramos programa (06) | E14: ='6 programa (XIII)'!E225 -> 12417.772 | F14: ='6 programa (XIII)'!F225 -> 13859.59 | G14: ='6 programa (XIII)'!G225 -> 12940.722 | H14: =G14/F14 -> 0.93370165 | I14: ='6 programa (XIII)'!I225 -> #REF! | J14: 8309.888 | K14: 7407.739 | M14: =F14-J14 -> 5549.702 | N14: =G14-K14 -> 5532.983
C15: 7 | D15: Sveikatos apsaugos paslaugų kokybės gerinimo programa (07) | E15: ='7 programa (XIV)'!E88 -> 240.535 | F15: ='7 programa (XIV)'!F88 -> 280.084 | G15: ='7 programa (XIV)'!G88 -> 240.102 | H15: =G15/F15 -> 0.85724997 | I15: ='7 programa (XIV)'!H88 -> 0.85724997 | J15: 280.084 | K15: 240.102 | M15: =F15-J15 -> 0 | N15: =G15-K15 -> 0
C16: 8 | D16: Aplinkos apsaugos programa (08) | E16: ='8 programa (XV)'!E103 -> 3957.245 | F16: ='8 programa (XV)'!F103 -> 3847.25 | G16: ='8 programa (XV)'!G103 -> 3487.191 | H16: =G16/F16 -> 0.90641133 | I16: ='8 programa (XV)'!I103 -> 4386.619 | J16: 3847.25 | K16: 3487.191 | M16: =F16-J16 -> 0 | N16: =G16-K16 -> 0
C17: 9 | D17: Ekonominės plėtros programa (09) | E17: ='9 programa (XVI)'!E180 -> 1089.8 | F17: ='9 programa (XVI)'!F180 -> 1047.504 | G17: ='9 programa (XVI)'!G180 -> 910.919 | H17: =G17/F17 -> 0.86960909 | I17: ='9 programa (XVI)'!I180 -> #REF! | J17: 1047.504 | K17: 910.918 | M17: =F17-J17 -> 0 | N17: =G17-K17 -> 0.001
C18: 10 | D18: Viešosios infrastruktūros programa (10) | E18: ='10 programa (XVII)'!E189 -> 14770.978 | F18: ='10 programa (XVII)'!F189 -> 14301.78 | G18: ='10 programa (XVII)'!G189 -> 12988.988 | H18: =G18/F18 -> 0.90820779 | I18: ='10 programa (XVII)'!I189 -> 4733.37 | J18: 14301.78 | K18: 12988.988 | M18: =F18-J18 -> 0 | N18: =G18-K18 -> 0
D19: Iš viso: | E19: =SUM(E9:E18) -> 55913.938 | F19: =SUM(F9:F18) -> 57898.124 | G19: =SUM(G9:G18) -> 53604.013 | H19: =G19/F19 -> 0.92583333 | I19: =SUM(I9:I18) -> #REF! | J19: 51874.751 | K19: 47645.888 | M19: =F19-J19 -> 6023.373 | N19: =G19-K19 -> 5958.125
C20: 1. Savivaldybės biudžetas (įskaitant skolintas lėšas) | E20: =SUM(E22,E24,E25,E26,E27,E28,) -> 49455.72 | F20: =SUM(F22,F24,F25,F26,F27,F28,) -> 52095.751 | G20: =SUM(G22,G24,G25,G26,G27,G28,) -> 47866.887 | H20: =G20/F20 -> 0.91882516 | I20: =SUM(I22,I24,I25,I26,I27,I28,) -> #REF! | N20: =M20 -> 0
C21: Iš jo:
C22: 1.1. savivaldybės biudžeto lėšos | E22: ='1 programa (VII) '!E191+'2 programa (VIII)'!E285+'3 programa (X)'!E44+'4 programa (XI)'!E115+'5 programa (XII)'!E86+'6 programa (XIII)'!E216+'7 programa (XIV)'!E80+'8 programa (XV)'!E95+'9 programa (XVI)'!E173+'10 programa (XVII)'!E182 -> 30307.163 | F22: ='1 programa (VII) '!F191+'2 programa (VIII)'!F285+'3 programa (X)'!F44+'4 programa (XI)'!F115+'5 programa (XII)'!F86+'6 programa (XIII)'!F216+'7 programa (XIV)'!F80+'8 programa (XV)'!F95+'9 programa (XVI)'!F173+'10 programa (XVII)'!F182 -> 30352.201 | G22: ='1 programa (VII) '!G191+'2 programa (VIII)'!G285+'3 programa (X)'!G44+'4 programa (XI)'!G115+'5 programa (XII)'!G86+'6 programa (XIII)'!G216+'7 programa (XIV)'!G80+'8 programa (XV)'!G95+'9 programa (XVI)'!G173+'10 programa (XVII)'!G182 -> 26060.577 | H22: =G22/F22 -> 0.85860584 | I22: ='1 programa (VII) '!H191+'2 programa (VIII)'!I285+'3 programa (X)'!H44+'4 programa (XI)'!#REF!+'5 programa (XII)'!I86+'6 programa (XIII)'!I216+'7 programa (XIV)'!H80+'8 programa (XV)'!I95+'9 programa (XVI)'!I173+'10 programa (XVII)'!I182 -> #REF! | J22: 33435.17 | K22: 28941.481
C23: Aplinkos apsaugos lėšos | H23: =G23/F23 -> #DIV/0! | I23: ='7 programa (XIV)'!H81+'8 programa (XV)'!I96 -> 47.345409
C24: 1.2. Lietuvos Respublikos valstybės biudžeto dotacijos | E24: ='1 programa (VII) '!E192+'2 programa (VIII)'!E286+'3 programa (X)'!E45+'4 programa (XI)'!E116+'5 programa (XII)'!E87+'6 programa (XIII)'!E217+'7 programa (XIV)'!E82+'8 programa (XV)'!E97+'9 programa (XVI)'!E174+'10 programa (XVII)'!E183 -> 11717.042 | F24: ='1 programa (VII) '!F192+'2 programa (VIII)'!F286+'3 programa (X)'!F45+'4 programa (XI)'!F116+'5 programa (XII)'!F87+'6 programa (XIII)'!F217+'7 programa (XIV)'!F82+'8 programa (XV)'!F97+'9 programa (XVI)'!F174+'10 programa (XVII)'!F183 -> 13433.043 | G24: ='1 programa (VII) '!G192+'2 programa (VIII)'!G286+'3 programa (X)'!G45+'4 programa (XI)'!G116+'5 programa (XII)'!G87+'6 programa (XIII)'!G217+'7 programa (XIV)'!G82+'8 programa (XV)'!G97+'9 programa (XVI)'!G174+'10 programa (XVII)'!G183 -> 13372.194 | H24: =G24/F24 -> 0.9954702 | I24: ='1 programa (VII) '!H192+'2 programa (VIII)'!I286+'3 programa (X)'!H45+'4 programa (XI)'!#REF!+'5 programa (XII)'!I87+'6 programa (XIII)'!I217+'7 programa (XIV)'!H82+'8 programa (XV)'!I97+'9 programa (XVI)'!I174+'10 programa (XVII)'!I183 -> #REF! | J24: 13433.043 | K24: 13372.194
C25: 1.3. Pajamų įmokos ir kitos pajamos | E25: ='1 programa (VII) '!E193+'2 programa (VIII)'!E290+'3 programa (X)'!E47+'4 programa (XI)'!E118+'5 programa (XII)'!E88+'6 programa (XIII)'!E220+'7 programa (XIV)'!E83+'8 programa (XV)'!E98+'9 programa (XVI)'!E175+'10 programa (XVII)'!E184 -> 1424.642 | F25: ='1 programa (VII) '!F193+'2 programa (VIII)'!F290+'3 programa (X)'!F47+'4 programa (XI)'!F118+'5 programa (XII)'!F88+'6 programa (XIII)'!F220+'7 programa (XIV)'!F83+'8 programa (XV)'!F98+'9 programa (XVI)'!F175+'10 programa (XVII)'!F184 -> 1532.357 | G25: ='1 programa (VII) '!G193+'2 programa (VIII)'!G290+'3 programa (X)'!G47+'4 programa (XI)'!G118+'5 programa (XII)'!G88+'6 programa (XIII)'!G220+'7 programa (XIV)'!G83+'8 programa (XV)'!G98+'9 programa (XVI)'!G175+'10 programa (XVII)'!G184 -> 1504.159 | H25: =G25/F25 -> 0.98159828 | I25: ='1 programa (VII) '!H193+'2 programa (VIII)'!I290+'3 programa (X)'!H47+'4 programa (XI)'!#REF!+'5 programa (XII)'!I88+'6 programa (XIII)'!I220+'7 programa (XIV)'!H83+'8 programa (XV)'!I98+'9 programa (XVI)'!I175+'10 programa (XVII)'!I184 -> #REF! | J25: 15352.357 | K25: 1504.161 | N25: =K25-G25 -> 0.002
C26: 1.4. Europos Sąjungos ir kitos tarptautinės finansinės paramos lėšos (ES, EGDAP) | E26: ='1 programa (VII) '!E194+'2 programa (VIII)'!E291+'3 programa (X)'!E48+'4 programa (XI)'!E119+'5 programa (XII)'!E89+'6 programa (XIII)'!E221+'7 programa (XIV)'!E84+'8 programa (XV)'!E99+'9 programa (XVI)'!E176+'10 programa (XVII)'!E185 -> 3936.883 | F26: ='1 programa (VII) '!F194+'2 programa (VIII)'!F291+'3 programa (X)'!F48+'4 programa (XI)'!F119+'5 programa (XII)'!F89+'6 programa (XIII)'!F221+'7 programa (XIV)'!F84+'8 programa (XV)'!F99+'9 programa (XVI)'!F176+'10 programa (XVII)'!F185 -> 4928.305 | G26: ='1 programa (VII) '!G194+'2 programa (VIII)'!G291+'3 programa (X)'!G48+'4 programa (XI)'!G119+'5 programa (XII)'!G89+'6 programa (XIII)'!G221+'7 programa (XIV)'!G84+'8 programa (XV)'!G99+'9 programa (XVI)'!G176+'10 programa (XVII)'!G185 -> 5279.71 | H26: =G26/F26 -> 1.0713034 | I26: ='1 programa (VII) '!H194+'2 programa (VIII)'!I291+'3 programa (X)'!H48+'4 programa (XI)'!#REF!+'5 programa (XII)'!I89+'6 programa (XIII)'!I221+'7 programa (XIV)'!H84+'8 programa (XV)'!I99+'9 programa (XVI)'!I176+'10 programa (XVII)'!I185 -> #REF! | J26: 4928.305 | K26: 5279.71 | N26: =G26-K26 -> 0
C27: 1.5. Skolintos lėšos | E27: ='1 programa (VII) '!E195+'2 programa (VIII)'!E292+'3 programa (X)'!E49+'4 programa (XI)'!E120+'5 programa (XII)'!E90+'6 programa (XIII)'!E222+'7 programa (XIV)'!E85+'8 programa (XV)'!E100+'9 programa (XVI)'!E177+'10 programa (XVII)'!E186 -> 2069.99 | F27: ='1 programa (VII) '!F195+'2 programa (VIII)'!F292+'3 programa (X)'!F49+'4 programa (XI)'!F120+'5 programa (XII)'!F90+'6 programa (XIII)'!F222+'7 programa (XIV)'!F85+'8 programa (XV)'!F100+'9 programa (XVI)'!F177+'10 programa (XVII)'!F186 -> 1849.845 | G27: ='1 programa (VII) '!G195+'2 programa (VIII)'!G292+'3 programa (X)'!G49+'4 programa (XI)'!G120+'5 programa (XII)'!G90+'6 programa (XIII)'!G222+'7 programa (XIV)'!G85+'8 programa (XV)'!G100+'9 programa (XVI)'!G177+'10 programa (XVII)'!G186 -> 1650.247 | H27: =G27/F27 -> 0.89210015 | I27: ='1 programa (VII) '!H195+'2 programa (VIII)'!I292+'3 programa (X)'!H49+'4 programa (XI)'!#REF!+'5 programa (XII)'!I90+'6 programa (XIII)'!I222+'7 programa (XIV)'!H85+'8 programa (XV)'!I100+'9 programa (XVI)'!I177+'10 programa (XVII)'!I186 -> #REF!
C28: 1.6. Ankstesnių metų likučiai | E28: ='1 programa (VII) '!E196+'2 programa (VIII)'!E293+'3 programa (X)'!E50+'4 programa (XI)'!E121+'5 programa (XII)'!E91+'6 programa (XIII)'!E223+'7 programa (XIV)'!E86+'8 programa (XV)'!E101+'9 programa (XVI)'!E178+'10 programa (XVII)'!E187 -> 0 | F28: ='1 programa (VII) '!F196+'2 programa (VIII)'!F293+'3 programa (X)'!F50+'4 programa (XI)'!F121+'5 programa (XII)'!F91+'6 programa (XIII)'!F223+'7 programa (XIV)'!F86+'8 programa (XV)'!F101+'9 programa (XVI)'!F178+'10 programa (XVII)'!F187 -> 0 | G28: ='1 programa (VII) '!G196+'2 programa (VIII)'!G293+'3 programa (X)'!G50+'4 programa (XI)'!G121+'5 programa (XII)'!G91+'6 programa (XIII)'!G223+'7 programa (XIV)'!G86+'8 programa (XV)'!G101+'9 programa (XVI)'!G178+'10 programa (XVII)'!G187 -> 0 | H28: =G28/F28 -> #DIV/0! | I28: ='1 programa (VII) '!H196+'2 programa (VIII)'!I293+'3 programa (X)'!H50+'4 programa (XI)'!#REF!+'5 programa (XII)'!I91+'6 programa (XIII)'!I223+'7 programa (XIV)'!H86+'8 programa (XV)'!I101+'9 programa (XVI)'!I178+'10 programa (XVII)'!I187 -> #REF!
C29: 2. Kiti šaltiniai (Europos Sąjungos finansinė parama projektams įgyvendinti ir kitos teisėtai gautos lėšos, nurodant atskirus šaltinius) | E29: ='1 programa (VII) '!E197+'2 programa (VIII)'!E294+'3 programa (X)'!E51+'4 programa (XI)'!E122+'5 programa (XII)'!E92+'6 programa (XIII)'!E224+'7 programa (XIV)'!E87+'8 programa (XV)'!E102+'9 programa (XVI)'!E179+'10 programa (XVII)'!E188 -> 6458.218 | F29: ='1 programa (VII) '!F197+'2 programa (VIII)'!F294+'3 programa (X)'!F51+'4 programa (XI)'!F122+'5 programa (XII)'!F92+'6 programa (XIII)'!F224+'7 programa (XIV)'!F87+'8 programa (XV)'!F102+'9 programa (XVI)'!F179+'10 programa (XVII)'!F188 -> 5802.373 | G29: ='1 programa (VII) '!G197+'2 programa (VIII)'!G294+'3 programa (X)'!G51+'4 programa (XI)'!G122+'5 programa (XII)'!G92+'6 programa (XIII)'!G224+'7 programa (XIV)'!G87+'8 programa (XV)'!G102+'9 programa (XVI)'!G179+'10 programa (XVII)'!G188 -> 5737.126 | H29: =G29/F29 -> 0.98875512 | I29: ='1 programa (VII) '!H197+'2 programa (VIII)'!I294+'3 programa (X)'!H51+'4 programa (XI)'!#REF!+'5 programa (XII)'!I92+'6 programa (XIII)'!I224+'7 programa (XIV)'!H87+'8 programa (XV)'!I102+'9 programa (XVI)'!I179+'10 programa (XVII)'!I188 -> #REF!
C30: IŠ VISO programai finansuoti pagal finansavimo šaltinius (1 ir 2 punktai) | E30: =E20+E29 -> 55913.938 | F30: =F20+F29 -> 57898.124 | G30: =G20+G29 -> 53604.013 | H30: =G30/F30 -> 0.92583333 | I30: =I20+I29 -> #REF!
C31: Iš jų: regioninių pažangos priemonių lėšos (RP) | E31: ='1 programa (VII) '!E199+'2 programa (VIII)'!E296+'3 programa (X)'!E53+'4 programa (XI)'!E124+'5 programa (XII)'!E94+'6 programa (XIII)'!E226+'7 programa (XIV)'!E89+'8 programa (XV)'!E104+'9 programa (XVI)'!E181+'10 programa (XVII)'!E190 -> 49.278 | F31: ='1 programa (VII) '!F199+'2 programa (VIII)'!F296+'3 programa (X)'!F53+'4 programa (XI)'!F124+'5 programa (XII)'!F94+'6 programa (XIII)'!F226+'7 programa (XIV)'!F89+'8 programa (XV)'!F104+'9 programa (XVI)'!F181+'10 programa (XVII)'!F190 -> 212.271 | G31: ='1 programa (VII) '!G199+'2 programa (VIII)'!G296+'3 programa (X)'!G53+'4 programa (XI)'!G124+'5 programa (XII)'!G94+'6 programa (XIII)'!G226+'7 programa (XIV)'!G89+'8 programa (XV)'!G104+'9 programa (XVI)'!G181+'10 programa (XVII)'!G190 -> 0 | H31: =G31/F31 -> 0 | I31: ='1 programa (VII) '!H199+'2 programa (VIII)'!I296+'3 programa (X)'!H53+'4 programa (XI)'!#REF!+'5 programa (XII)'!I94+'6 programa (XIII)'!I226+'7 programa (XIV)'!H89+'8 programa (XV)'!I104+'9 programa (XVI)'!I181+'10 programa (XVII)'!I190 -> #REF!
C32: Asignavimų ir kitų lėšų pokytis, palyginti su ankstesnių metų patvirtintų asignavimų ir kitų lėšų planu | I32: =I30/E30-1 -> #REF!
D33: n – pirmieji planuojamieji metai, n + 1 – antrieji planuojamieji metai ir n + 2 – tretieji planuojamieji metai.
E36: 33435.17 | F36: 28941.481
E37: =E36-F22-F25-F27 -> -299.233 | F37: =F36-G22-G25-G27 -> -273.502
E39: 221 | F39: 221
E42: 10536.325 | F42: 2896.718 | G42: =E42+F42 -> 13433.043
E43: 10482.819 | F43: 2889.375 | G43: =E43+F43 -> 13372.194 | H43: =G43-G24 -> 0
E47: 4928.305 | F47: =E47-F26 -> 0
E48: 5279.71 | F48: =E48-G26 -> 0
F51: 33435.17 | G51: 28941.481
F53: =F51-F22-F25-F27 -> -299.233 | G53: =G51-G22-G25-G27 -> -273.502
E62: 78.233 | F62: 52.503

Sheet 1 programa (VII) 
A1: Valdymo tobulinimo programa (01)
A2: Programos tikslas - įgyvendinti Lietuvos Respublikos Konstitucijos ir įstatymų nustatytas, Lietuvos Respublikos vietos savivaldos įstatymo reglamentuotas savarankiškąsias savivaldybės bei valstybines (valstybės perduotas savivaldybei) funkcijas. Siekiant užtikrinti, kad minėtos funkcijos būtų vykdomos kokybiškai, ypatingas dėmesys skiriamas šiuolaikiniams vadybos metodams ir informacinėms technologijoms diegti savivaldybėje; vykdomų procedūrų viešumui ir skaidrumui; kontroliuoti ir prižiūrėti, ar teisėtai, efektyviai, ekonomiškai ir rezultatyviai valdomas ir naudojamas savivaldybės turtas ir patikėjimo teise valdomas valstybės turtas, kaip vykdomas savivaldybės biudžetas ir naudojami kiti piniginiai ištekliai. Efektyviai savivaldybės veiklai būtinas racionalus finansinių, materialinių ir žmogiškųjų išteklių paskirstymas, sistemingas veiklos planavimas
A3: =A19 -> 01.01.01. (T) | B3: =B19 -> Gerinti teikiamų paslaugų kokybę, didinti jų prieinamumą ir patrauklumą, tinkamai organizuojant savivaldybės administravimo subjektams priskirtų funkcijų įgyvendinimą
A4: =A35 -> 01.01.02 (T) | B4: =B35 -> Užtikrinti valstybinių (valstybės perduotų savivaldybėms) funkcijų vykdymą
A5: =A93 -> 01.01.03 (T) | B5: =B93 -> Užtikrinti efektyvų savivaldybei nuosavybės teise priklausančio nekilnojamojo turto naudojimą, įmonių bei įstaigų valdymą
A6: =A110 -> 01.01.04. (T) | B6: =B110 -> Sudaryti sąlygas iš anksto negalimoms suplanuoti priemonėms vykdyti bei savivaldybės finansiniams įsipareigojimams įgyvendinti
A7: =A119 -> 01.01.05. (T) | B7: =B119 -> Įgyvendinti Visagino savivaldybės korupcijos prevencijos 2022-2024 metų veiksmų planą
A8: =A122 -> 01.02.02. (T) | B8: =B122 -> Gerinti visuomenei teikiamų paslaugų kokybę, didinant jų atitiktį visuomenės poreikiams
A9: =A165 -> 01.02.03. (T) | B9: =B165 -> Organizuoti savivaldybės veiklą vadovaujantis šiuolaikiniais vadybos metodais
A10: =A171 -> 01.02.04. (T) | B10: =B171 -> Informuoti visuomenę apie savivaldybės veiklą ir formuoti teigiamą savivaldybės įvaizdį, plėtoti dalykinius santykius ir ryšius su tarptautinėmis ir vietinėmis institucijomis ir organizacijomis
A13: Programos įgyvendinimo laikotarpis 2023-2025 m. | C13: Programos ataskaitinis laikotarpis 2023 m.
A14: Programos įgyvendinimo koordinatorė Jolita Kriaučiūnaitė, jolita.kriauciunaite@visaginas.lt, tel. 8 (386) 36 008
A16: 2 lentelė. Valdymo tobulinimo programos (01) uždaviniai, priemonės, asignavimai ir kitos lėšos (tūkst.eurų) ir jų stebėsenos rodikliai
A17: Programos uždavinio, priemonės kodas ir požymis | B17: Uždavinio, priemonės pavadinimas, finansavimo šaltiniai | C17: Asignavimų valdytojo kodas | D17: Finansavimo šaltinis | E17: 2023-02-02 sprendimu Nr. TS-17 patvirtintas planas | F17: Planas (įskaitant patikslinimus) | G17: 2023 m. plano vykdymas | H17: 2024 m.asignavimai ir kitos lėšos, tūkst. Eur | I17: 2023 plano įvykdymo proc. | J17: Savivaldybės strateginio plėtros plano priemonės kodas | K17: Trumpas priemonės įgyvendinimo aprašymas | L17: Poveikio rodiklio kodas | M17: Poveikio rodiklio pavadinimas (matavimo vnt.) | N17: Poveikio rodiklių reikšmės | P17: Įvykdyta /Neįvykdyta/ Įvykdyta iš dalies/Vykdoma
N18: Siektina poveikio rodiklio reikšmė 2023 m. | O18: Faktinė poveikio rodiklio reikšmė 2023 m.
A19: 01.01.01. (T) | B19: Gerinti teikiamų paslaugų kokybę, didinti jų prieinamumą ir patrauklumą, tinkamai organizuojant savivaldybės administravimo subjektams priskirtų funkcijų įgyvendinimą | D19: Iš viso: | E19: =SUM(E23,E30,E32,E34,) -> 3181.359 | F19: =SUM(F23,F30,F32,F34,) -> 3200.588 | G19: =SUM(G23,G30,G32,G34,) -> 3023.658 | H19: =SUM(H23,H30,H32,H34,) -> 3836.68 | I19: =G19/F19 -> 0.94471953 | J19: 2.8.-1
A20: 01.01.01.01 (TP) | B20: Savivaldybės institucijų funkcijų įgyvendinimas | C20: 188711925 | D20: SB | E20: =E25+E26 -> 2778.6 | F20: =F25+F26 -> 2709.059 | G20: =G25+G26 -> 2580.455 | H20: =SUM(H24:H26) -> 3323.32 | I20: =G20/F20 -> 0.95252817 | J20: 2.8.-1-1 | K20: Įgyvendinant šią priemonę buvo užtikrinta Visagino savivaldybės administracijai bei Visagino savivaldybės tarybai priskirtų funkcijų įgyvendinimas, t. y. buvo rengiamas ir tvirtinamas savivaldybės biudžetas, viešojo sektoriaus subjekto metinių ataskaitų rinkinys, rengiamos ir tvirtinamos ketvirtinės ir tarpinės ataskaitos, tvarkoma savivaldybės administracijai skirtų lėšų apskaita,vykdomos kitos funkcijos, susijusios su finansų ir apskaitos tvarkymu. Taip pat buvo vykdomi viešieji pirkimai. Ataskaitiniais metais buvo centralizuoti 27 įstaigų viešieji pirkimai. Administracija per ataskaitinius metus atliko 30 centralizuotų viešųjų pirkimų procedūrų už 1.043,0 tūkst. Eur. Iš viso 2023 metais Administracija atliko prekių, paslaugų bei darbų viešųjų pirkimų už 5.294,5 tūkst. Eur. Vykdydami prekių, paslaugų ar darbų pirkimų procedūras, Administracijos Viešųjų pirkimų skyriaus specialistai didelį dėmesį skyrė aplinkos apsaugos kriterijų taikymui. Per ataskaitinius metus Administracijos atlikti žalieji pirkimai sudarė 76,5 proc. (2022 m. - 73,6 proc, 2021 m. - 12,6 proc.) nuo visų atliktų pirkimų vertės. Žalieji mažos vertės pirkimai sudarė 91,2 proc. nuo visų mažos vertės pirkimų, kuriuos įvykdžius pasirašomos rašytinės sutartys, vertės. Administracija, vadovaudamasi Viešųjų pirkimų įstatymo 10 straipsniu ir Visagino savivaldybės tarybos sprendimu, sudarė vieną vidaus sandorį dėl maisto/virtuvės atliekų surinkimo Visagine ir jų vežimo į apdorojimo įrenginius paslaugų, kurio vertė 968,0 tūkst. Eur. Centralizuotas savivaldybės audito skyrius atliko savivaldybės 2022 m. II pusmečio ir 2023 m. I pusmečio administracinės naštos mažinimo priemonių plano vykdymo vertinimą, Visagino Draugystės progimnazijos vidaus kontrolės vertinimą, Utenos regiono plėtros tarybos veiklos vertinimą. Viešosios tvarkos ir rinkliavų skyrius vykdė viešosios tvarkos užtikrinimo priemones. Iš viso buvo surašyta 120 administracinių nusižengimų protokolų. Transporto ir ūkio skyrius organizavo savivaldybės institucijų aprūpinimą ūkinėmis, techninėmis, biuro priemonėmis, patalpomis ir kt. būtinomis priemonėmis, organizavo savivaldybės institucijų darbui reikalingą komunalinių, ryšių ir transporto paslaugų teikimą. Vidaus administravimo ir informacinių technologijų skyrius užtikrino „vieno langelio“ principu veikiančios paslaugų teikimo asmenims sistemos vystymą savivaldybėje ir atliko asmenų aptarnavimo funkcijas, organizavo ir užtikrino savivaldybės teisės aktų, gaunamųjų, siunčiamųjų ir vidaus dokumentų valdymą savivaldybės institucijose pagal norminių ir metodinių dokumentų reikalavimus, tvarkė ir valdė dokumentus taip, kad būtų užtikrinta greita dokumentų paieška ir naudojimas. Teisės, personalo ir civilinės metrikacijos skyrius tikrino savivaldybės institucijų rengiamų teisės aktų projektų teisėtumą, atstovavo savivaldybei ir savivaldybės institucijoms teisme, vykdė personalo administravimo ir darbų saugos užtikrinimo funkcijas. Architektūros ir teritorijų planavimo skyrius užtikrino Lietuvos Respublikos įstatymų, Vyriausybės nutarimų, kitų teisės aktų, savivaldybės institucijų sprendimų teritorijų planavimo, statybos, statinių naudojimo priežiūros ir žemėtvarkos srityse vykdymą savivaldybės teritorijoje. Vietinio ūkio valdymo ir statybos, Strateginio planavimo ir investicijų valdymo skyriai vykdė funkcijas, susijusias su ES lėšų pritraukimu ir projektų įgyvendinimu, ir kitas funkcijas. Priemonė įvykdyta iš dalies, nes suplanuotos lėšos buvo naudojamos pagal poreikį. | L20: P-01-01-01-01 | M20: Savivaldybės įstaigų veiklai numatytų lėšų panaudojimas, proc. | N20: 100 | O20: 95 | P20: Įvykdyta iš dalies
D21: ĮP | E21: 12.269 | F21: =F28 -> 19.039 | G21: =G28 -> 18.479 | H21: 17.3 | I21: =G21/F21 -> 0.97058669
D22: SD | E22: =E27 -> 0 | F22: =F27 -> 11.3 | G22: =G27 -> 11.3 | I22: =G22/F22 -> 1 | M22: Atliktų Centralizuoto savivaldybės vidaus audito skyriaus auditų skaičius | N22: 4 | O22: 4 | P22: Įvykdyta
D23: Iš viso: | E23: =SUM(E20:E22) -> 2790.869 | F23: =SUM(F20:F22) -> 2739.398 | G23: =SUM(G20:G22) -> 2610.234 | H23: =SUM(H20:H22) -> 3340.62 | I23: =G23/F23 -> 0.95284949
B24: Mero ir politinio pasitikėjimo valstybės tarnautojai | D24: SB | E24: 0 | H24: 374.45
B25: Savivaldybės tarybos darbo organizavimas | D25: SB | E25: 210.07 | F25: 64.729 | G25: 64.729 | H25: 0
B26: Savivaldybės administracijos veiklos organizavimas | D26: SB | E26: 2568.53 | F26: =2709.059-64.729 -> 2644.33 | G26: =2580.455-64.729 -> 2515.726 | H26: =2949.39-0.52 -> 2948.87
D27: SD | F27: 11.3 | G27: 11.3
D28: SB (ĮP) | E28: 12.269 | F28: 19.039 | G28: 18.479 | H28: 17.3
A29: 01.01.01.02 (TP) | B29: Tarybos narių veiklos organizavimas | C29: 188711925 | D29: SB | E29: =138+12 -> 150 | F29: 227.95 | G29: 218.965 | H29: =364.59+18 -> 382.59 | I29: =G29/F29 -> 0.96058346 | J29: 2.7.-3-1 | K29: Įgyvendinant šią priemonę buvo užtikrinamas tarybos narių veiklos organizavimas. Priemonė įvykdyta iš dalies, nes suplanuotos lėšos buvo naudojamos pagal poreikį. | L29: P-01-01-01-02 | M29: Tarybos narių veiklai numatytų lėšų panaudojimas, proc. | N29: 100 | O29: 96 | P29: Įvykdyta iš dalies
D30: Iš viso: | E30: =E29 -> 150 | F30: =F29 -> 227.95 | G30: =G29 -> 218.965 | H30: =H29 -> 382.59 | I30: =G30/F30 -> 0.96058346
A31: 01.01.01.03 (TP) | B31: Visagino savivaldybės 2023 metų konsoliduotųjų ataskaitų rinkinio, savivaldybės lėšų ir turto naudojimo, savivaldybės rinkliavų veiklos ir viešojo sektoriaus subjekto/įmonės veiklos auditai | C31: 188701436 | D31: SB | E31: 100.96 | F31: 100.96 | G31: 91.774 | H31: 113.47 | I31: =G31/F31 -> 0.90901347 | J31: 2.7.-3-1 | K31: Įgyvendinant šią priemonę buvo užtikrinamas Lietuvos Respublikos vietos savivaldos įstatymo 67 straipsnio 3 dalies įgyvendinimas, kuris numato, kad savivaldybės taryba savivaldybės biudžete nustato savivaldybės kontrolės ir audito tarnybai skiriamų asignavimų dydį. Priemonė įvykdyta iš dalies, kadangi nebuvo atliktos visos būtinos audito procedūros dėl darbuotojų trūkumo, Visagino savivaldybės kontrolės ir audito tarnyba 2023 metais nepateikė Audito išvados ir ataskaitos dėl savivaldybės 2022 metų konsoliduotųjų ataskaitų rinkinio ir savivaldybės biudžeto ir turto naudojimo. | L31: P-01-01-01-03 | M31: Atliktų Visagino savivaldybės konsoliduotų ataskaitų rinkinio, savivaldybės biudžeto ir turto naudojimo, savivaldybės nuosavybės teise valdomo nekilnojamojo turto valdymo, naudojimo ir disponavimo juo efektyvumo auditų skaičius, vnt. | N31: 3 | O31: 2 | P31: Įvykdyta iš dalies
D32: Iš viso: | E32: =E31 -> 100.96 | F32: =F31 -> 100.96 | G32: =G31 -> 91.774 | H32: =H31 -> 113.47 | I32: =G32/F32 -> 0.90901347
A33: 01.01.01.04 (TP) | B33: Savivaldybės tarybos ir mero sekretoriato darbo organizavimas | C33: 188711925 | D33: SB | E33: 139.53 | F33: 132.28 | G33: 102.685 | I33: =G33/F33 -> 0.77627003 | K33: Įgyvendinant šią priemonę buvo užtikrinamas Visagino savivaldybės tarybos ir mero sekretoriato veiklos organizavimas. Priemonė įvykdyta iš dalies, nes dirbo mažiau darbuotojų, nei buvo planuota. | L33: P-01-01-01-04 | M33: Savivaldybės tarybos ir mero sekretoriato darbo organizavimui numatytų lėšų panaudojimas, proc. | N33: 100 | O33: 78 | P33: Įvykdyta iš dalies
D34: Iš viso: | E34: =E33 -> 139.53 | F34: =F33 -> 132.28 | G34: =G33 -> 102.685 | H34: =H33 -> 0 | I34: =G34/F34 -> 0.77627003
A35: 01.01.02 (T) | B35: Užtikrinti valstybinių (valstybės perduotų savivaldybėms) funkcijų vykdymą | E35: =SUM(E39,E51,E53,E55,E57,E59,E62,E67,E70,E72,E74,E77,E80,E82,E85,E87,E89,E92,E46,E65) -> 491.016 | F35: =SUM(F39,F51,F53,F55,F57,F59,F62,F67,F70,F72,F74,F77,F80,F82,F85,F87,F89,F92,F46,F65) -> 508.525 | G35: =SUM(G39,G51,G53,G55,G57,G59,G62,G67,G70,G72,G74,G77,G80,G82,G85,G87,G89,G92,G46,G65) -> 470.458 | H35: =SUM(H39,H51,H53,H55,H57,H59,H62,H67,H70,H72,H74,H77,H80,H82,H85,H87,H89,H92,H46,H65) -> 562.114 | I35: =G35/F35 -> 0.92514232 | J35: 2.8.-1
A36: 01.01.02.01 (TP) | B36: Valstybinės kalbos vartojimo ir taisyklingumo kontrolė | C36: Įstaigos | D36: SB (D) | E36: 20 | F36: 20 | G36: 20 | H36: 20 | I36: =G36/F36 -> 1 | J36: 2.1.-5-3 | K36: Įgyvendinant šią priemonę buvo užtikrinamas Lietuvos Respublikos vietos savivaldos įstatymo 7 straipsnio 12 punkto įgyvendinimas. | L36: P-01-01-02-01 | M36: Patikrintų objektų (įmonių, įstaigų, organizacijų, visuomenės informavimo priemonių, neperiodinės spaudos leidinių, reklamos ir viešųjų užrašų ir pan.) skaičius | N36: 85 | O36: 85 | P36: Įvykdyta
D37: SB | E37: 22.96 | F37: 4.862 | G37: 4.487 | H37: =H41 -> 28.51 | I37: =G37/F37 -> 0.92287125
D38: SB (ĮP) | E38: 0.626 | F38: 0.626 | G38: 0.626 | H38: =H43 -> 0 | I38: =G38/F38 -> 1
D39: Iš viso: | E39: =SUM(E36:E38) -> 43.586 | F39: =SUM(F36:F38) -> 25.488 | G39: =SUM(G36:G38) -> 25.113 | H39: =SUM(H36:H38) -> 48.51 | I39: =G39/F39 -> 0.98528719
B40: Visagino savivaldybės administracija | C40: 188711925 | D40: SB (D) | H40: 0
D41: SB | H41: 28.51
B42: Visagino „Verdenės“ gimnazija (Valstybinės kalbos testavimas) | C42: 190243519 | D42: SB
D43: SB (ĮP) | F43: 0.626 | G43: 0.626
...

Sheet 2 programa (VIII)
A1: Švietimo paslaugų plėtros programa (02)
A2: Švietimas – prioritetinė valstybės remiama Lietuvos Respublikos raidos sritis. Švietimas turi įtakos Visagino kultūrinei, socialinei ir ekonominei pažangai. Šia programa siekiama laiduoti valstybės ir Visagino savivaldybės švietimo politikos įgyvendinimą, ugdymo kokybę, išsilavinimo standartus atitinkantį išsilavinimą, vaikų socialinį ir psichologinį saugumą, skatinti ir remti besimokančiųjų užimtumą; įgyvendinti priemones, numatytas Visagino savivaldybės strateginiame plėtros plane, Lietuvos Respublikos Vyriausybės bei ministerijų teisės aktuose.
A3: =A15 -> 02.01.01. (T) | B3: =B15 -> Sudaryti sąlygas ugdyti vaikus ikimokyklinėse, bendrojo lavinimosi ir neformalaus švietimo įstaigose pagal patvirtintas ugdymo programas, teikti pedagoginę, psichologinę, metodinę, aprūpinimo transportu ir kitą pagalbą mokiniams, mokytojams ir mokykloms
A4: =A158 -> 02.01.02. (T) | B4: =B158 -> Organizuoti renginius, turinčius įtakos ugdymo proceso kokybei, skirtus tęstiniam mokymuisi
A5: =A219 -> 02.01.03. (P) | B5: =B219 -> Sukurti įtraukias, tinklaveiką ir socialines inovacijas skatinančias, kiekvieno mokinio geresnius pasiekimus lemiančias ir šiuolaikiškas kokybiško ugdymo(si) sąlygas
A6: =A258 -> 02.02.01. (T) | B6: =B258 -> Didinti vaikų ir jaunimo socioedukacinių veiklų, socialiai prasmingo užimtumo, profesinio mokymo, saviraiškos bei švietimo pagalbos įvairovę ir prieinamumą
A9: Programos įgyvendinimo laikotarpis 2023-2025 m. | C9: Programos ataskaitinis laikotarpis 2023 m.
A10: Programos įgyvendinimo koordinatorė Žana Miltina, zana.miltina@visaginas.lt, tel. 8 (386) 36 006
A12: 3 lentelė.Švietimo paslaugų plėtros programos (02) uždaviniai, priemonės, asignavimai ir kitos lėšos (tūkst.eurų) ir jų stebėsenos rodikliai
A13: Programos uždavinio, priemonės kodas ir požymis | B13: Uždavinio, priemonės pavadinimas, finansavimo šaltiniai | C13: Asignavimų valdytojo kodas | D13: Finansavimo šaltinis | E13: 2023-02-02 sprendimu Nr. TS-17 patvirtintas planas | F13: Planas (įskaitant patikslinimus) | G13: 2023 m. plano vykdymas | H13: 2023 plano įvykdymo proc. | I13: 2024 m. asignavimai ir kitos lėšos, tūkst. Eur | J13: Savivaldybės strateginio plėtros plano priemonės kodas | K13: Trumpas priemonės įgyvendinimo aprašymas | L13: Poveikio rodiklio kodas | M13: Poveikio rodiklio pavadinimas (matavimo vnt.) | N13: Poveikio rodiklių reikšmės | P13: Įvykdyta /Neįvykdyta/ Įvykdyta iš dalies/Vykdoma
N14: Siektina poveikio rodiklio reikšmė 2023 m. | O14: Faktinė poveikio rodiklio reikšmė 2023 m.
A15: 02.01.01. (T) | B15: Sudaryti sąlygas ugdyti vaikus ikimokyklinėse, bendrojo lavinimosi ir neformalaus švietimo įstaigose pagal patvirtintas ugdymo programas, teikti pedagoginę, psichologinę, metodinę, aprūpinimo transportu ir kitą pagalbą mokiniams, mokytojams ir mokykloms | E15: =SUM(E21,E82) -> 14896.322 | F15: =SUM(F21,F82) -> 15101.155 | G15: =SUM(G21,G82) -> 14882.121 | H15: =G15/F15 -> 0.98549555 | I15: =SUM(I21,I82) -> 15342.565 | J15: 2.1.-1
