Workbook
Name _Hlk122275804: 'II skyrius'!$S$126
Name _Hlk89418331: 'VI skyrius VŠĮ+UAB rodikliai'!#REF!
Name _Hlk92374825: 'VI skyrius VŠĮ+UAB rodikliai'!#REF!
Name _Hlk92374960: 'VI skyrius VŠĮ+UAB rodikliai'!$C$22
Name _Hlk92375563: 'VI skyrius VŠĮ+UAB rodikliai'!$C$35
Name _Hlk92375700: 'VI skyrius VŠĮ+UAB rodikliai'!$C$69
Name _Hlk92375786: 'VI skyrius VŠĮ+UAB rodikliai'!#REF!
Name _Hlk92376639: 'VI skyrius VŠĮ+UAB rodikliai'!$C$47
Name _Toc123901348: 'VII skyrius. Kita svarbi info'!#REF!
Name _Toc123901357: 'VII skyrius. Kita svarbi info'!#REF!
Name _Toc123901359: 'VI skyrius VŠĮ+UAB rodikliai'!$C$171
Name _Toc506024955: 'Vertinimo kriterijai'!$A$1
Name Excel_BuiltIn__FilterDatabase_2: #REF!

Sheet I skyrius 
H1: PATVIRTINTA Visagino savivaldybės tarybos 2025 m. vasario ___ d. sprendimu Nr. TS-_____ PROJEKTAS
B4: VISAGINO SAVIVALDYBĖS 2025-2027 METŲ STRATEGINIS VEIKLOS PLANAS
B7: I SKYRIUS SAVIVALDYBĖS MISIJA IR VEIKLOS PRIORITETAI
B9: MISIJA
B11: Sėkmingai plėtoti ir įgyvendinti savivaldos teisę, užtikrinti subalansuotą plėtrą bei kokybiškai vykdyti viešojo administravimo ir viešųjų paslaugų teikimo funkcijas, tenkinant Visagino savivaldybės bendruomenės viešuosius poreikius ir interesus
B17: SAVIVALDYBĖS PRIORITETAI
B19: 1. Konkurencingo verslo skatinimas ir vietinės ekonomikos tvari plėtra 2. Socialinės gerovės kūrimas sumaniai, pažangiai, besimokančiai, moderniai ir laimingai bendruomenei 3. Tvarus, subalansuotas savivaldybės aplinkos vystymas ir plėtra

Sheet II skyrius
B3: II SKYRIUS
B4: SAVIVALDYBĖS PLĖTROS TIKSLAI, UŽDAVINIAI IR JŲ STEBĖSENOS RODIKLIAI
C6: 1 lentelė. Tikslai, uždaviniai ir jų stebėsenos rodikliai
C7: SSPP tikslų ir uždavinių kodas | D7: SSPP tikslai ir uždaviniai | E7: Stebėsenos rodiklis (matavimo vnt.) | F7: Pradinė stebėsenos rodiklio reikšmė (2022) | G7: Siektinos stebėsenos rodiklio reikšmės | K7: Faktinė stebėsenos rodiklio reikšmė (2023) | L7: Faktinė stebėsenos rodiklio reikšmė (2024) | M7: Siekiama stebėsenos rodiklio reikšmė (2030)
G8: 2024 metai | H8: 2025 metai | I8: 2026 metai | J8: 2027 metai
C9: 1 | D9: 2 | E9: 3 | F9: 4 | G9: 5 | H9: 6 | I9: 7 | J9: 7 | K9: 8 | L9: 8 | M9: 9
C10: 1.1. | D10: Gerinti investicinės aplinkos patrauklumą ir didinti ekonominį potencialą | E10: E-1.1-1 Dirbančiųjų skaičius (tūkst. asm.) | F10: 7470 | G10: 7450 | H10: 8000 | I10: 8000 | J10: 8000 | K10: 7470 | L10: 8000 (2024) | M10: 8000 (2030)
C11: 1.1.-1 | D11: Pagerinti investicijų pritraukimo ir verslo plėtros sąlygas | E11: Materialinės investicijos, tenkančios 1-am gyventojui (Eur) | F11: 1116 Eur (2020) | G11: 889 | H11: 1475 | I11: 1475 | J11: 1475 | K11: 1116 Eur (2020) | L11: 1475 Eur (2023)* | M11: Ne mažiau kaip 1200 Eur (2030 )
E12: Pritraukta naujų tiesioginių užsienio investicijų, tenkančių 1-am gyventojui (Eur) | F12: 571 Eur (2020) | G12: 739 | H12: 908 | I12: 908 | J12: 908 | K12: 571 Eur (2020) | L12: 908 Eur (2023)* | M12: 800 Eur (2030 m)
C13: 1.1.-2 | D13: Skatinti gyventojų verslumą ir ekonominį mobilumą | E13: Verslumo lygis (veikiančių SVV įmonių skaičius, tenkantis 1000 gyv., koef.) | F13: 15,5 (2022) | G13: 14.78 | H13: 17.71 | I13: 17.71 | J13: 17.71 | K13: 15,5 (2022) | L13: 17,71 (2024) | M13: Ne mažiau kaip 20 (2030)
E14: Gyventojų aktyvumas, vykdant individualią veiklą (gyventojų, besiverčiančių veikla pagal individualios veiklos pažymą ir verslo liudijimus, skaičius, tenkantis 1000-iui gyv., koef.) | F14: 1,52 (2022) | G14: 19.55 | H14: 11.28 | I14: 11.28 | J14: 11.28 | K14: 1,52 (2022) | L14: 11,28 (2023)* | M14: Ne mažiau kaip 5 (2030)
E15: Sukurti ir įgyvendinti verslumo skatinimo programą | F15: 0 (2022) | G15: 1 | H15: 0 | I15: 0 | J15: 0 | K15: 0 (2022) | L15: 1 (2024) | M15: 1 (2030)
E16: Bendradarbystės centro „Spiečius“ narių skaičius | F16: 15 (2022) | G16: 25 | H16: 35 | I16: 45 | J16: 45 | K16: 15 (2022) | L16: 20 (2024) | M16: 45 (2026)
C17: 1.1.-3 | D17: Sukurti tinkamas sąlygas strateginėms verslo kryptims plėtotis Visagino savivaldybėje | E17: Strateginėse verslo kryptyse veikiančių verslo subjektų skaičius | F17: 2 (2022) | G17: 2 | H17: 2 | I17: 3 | J17: 3 | K17: 2 (2022) | L17: 3 (2024) | M17: 4 (2030)
C18: 1.2. | D18: Didinti turistinį savivaldybės patrauklumą, teikiant viešąsias paslaugas bei plėtojant viešąją turizmo infrastruktūrą | E18: Nakvynių skaičius apgyvendinimo įstaigose, vnt. | F18: 506 (2022) | G18: 7855 | H18: 6200 | I18: 6600 | J18: 7000 | K18: 506 (2022) | L18: 6196 (2024) | M18: 700 (2030)
C19: 1.2.-1 | D19: Skatinti turizmo konkurencingumą, teikiant viešąsias ir verslo paslaugas bei vykdant aktyvią paslaugų rinkodarą | E19: Turistų, apsilankiusių VTPC, dalis sezono metu (gegužės–rugpjūčio mėn.), palyginti su bendruoju metiniu turistų skaičiumi (proc.) | F19: 72 (2022) | G19: 72 | H19: 55 | I19: 54 | J19: 53 | K19: 72 (2022) | L19: 56 (2024) | M19: 50 (2030)
C20: 1.2.-2 | D20: Visagino turizmo, gamtos ir kultūros objektų pritaikymas lankymui, modernizuojant viešąją turizmo infrastruktūrą | E20: Suformuotų turistų traukos objektų skaičius (vnt.) | F20: 0 (2022) | G20: 4 | H20: 1 | I20: 1 | J20: 1 | K20: 0 (2022) | L20: 1 (2024) | M20: 3 (2030)
C21: 1.2.-3 | D21: Visagino kaip monoindustrinio miesto urbanistikos, daugiatautį kultūros paveldą ir tradicijas perdavimas per turizmo ir edukacines veiklas | E21: Asmenų, dalyvavusių perduodant Visagino daugiataučio kultūros paveldo ir tradicijų per turizmo ir edukacines veiklas, skaičius | F21: 0 (2022) | G21: 50 | H21: 1500 | I21: 1600 | J21: 1700 | K21: 0 (2022) | L21: 1478 (2024) | M21: 700 (2030)
C22: 2.1 | D22: Tikslingai naudojant švietimui skirtas lėšas bei kryptingai tobulinant darbuotojų kompetencijas, kiekvienam besimokančiajam sukurti lygiavertes ir šiuolaikiškas kokybiško ugdymo(si) sąlygas, lemiančias geresnius mokinių pasiekimus, optimalią, integracinę, darniai ir racionaliai veikiančią, nuolat atsinaujinančią savivaldybės švietimo sistemą | E22: Visagino savivaldybės bendrojo ugdymo mokyklų tinklo pertvarkos 2022–2026 metų bendrojo plano kokybinių pokyčių / priemonių įgyvendinimas, proc. | F22: 0 (2022) | G22: 50 | H22: 70 | I22: 100 | J22: 10 (naujas planas) | K22: 0 (2022) | L22: 50 (2024) | M22: 75 (2030)
C23: 2.1.-1 | D23: Padidinti ugdymo paslaugų prieinamumą ir įtrauktį kuriant naujas ikimokyklinio ugdymo vietas ir efektyviai veikiančių mokyklų infrastruktūrą pritaikant vaikams su negalia bei bendriesiems ugdymo poreikiams gerinti | E23: Ikimokyklinio ugdymo įstaigų talpumas (vietų skaičius), vnt. | F23: 895 (2022) | G23: 895 | H23: 895 | I23: 895 | J23: 895 | K23: 895 (2022) | L23: 895 (2022) | M23: 983 (2027)
E24: Mokyklų, kuriose buvo įdiegtos universalaus dizaino ir kitos inžinerinės priemonės, aplinką pritaikant asmenims, turintiems negalią, dalis nuo visų mokyklų | F24: 0 (2022) | G24: 0 | H24: 60 | I24: 60 | J24: 60 | K24: 20 (2023) | L24: 20 (2024) | M24: 40 (2023)
C25: 2.1.-2 | D25: Plėtoti įvairialypį švietimą vykdant visos dienos mokyklų veiklą | E25: Neformaliojo vaikų švietimo galimybėmis pasinaudojusių mokinių dalis (išskyrus ikimokykliniame ir priešmokykliniame ugdyme dalyvaujančius vaikus) (proc.) | F25: 0 (2022) | G25: 0 | H25: 83 | I25: 84 | J25: 84 | K25: 69 (2023) | L25: 83 (2024) | M25: 46,9 (2027)
C26: 2.1.-3 | D26: Stiprinti mokyklas įgalinant dirbti su įvairių galių ir gebėjimų mokiniais, kurie mokyklų pedagogų, mokymosi aplinkos padedami ir motyvuojami įveikia barjerus ir pasiekia maksimalų savo individualių galimybių mokymosi rezultatą | E26: Visagino savivaldybės ugdymo įstaigų, dalyvavusių "Tūkstantmečio mokyklų" programos veiklose, skaičius | F26: 0 (2022) | G26: 3 | H26: 3 | I26: 0 | J26: 0 | K26: 3 (2023) | L26: 3 (2024) | M26: 3 (2030)
C27: 2.1.-4 | D27: Skatinti mokinių domėjimąsi gamtos mokslais, matematika, technologijomis ir kt. veiklomis, išbandant save įvairiose praktinėse-tiriamosiose veiklose | E27: Pasirašytų bendradarbiavimo sutarčių su verslo atstovais skaičius | F27: 0 (2022) | G27: 1 | H27: 1 | I27: 1 | J27: 1 | K27: 0 (2022) | L27: 0 (2024) | M27: 3 (2030)
C28: 2.1.-5 | D28: Skatinti kokybinę kaitą bei lyderystės raišką švietimo įstaigose išbandant / taikant inovatyvius mokymo(si) modelius, aktyviai dalyvaujant projektinėje veikloje | E28: Įgyvendintų projektų skaičius | F28: 1(2022) | G28: 0 | H28: 1 | I28: 1 | J28: 1 | K28: 1 (2023) | L28: 1 (2024) | M28: 5 (2030)
C29: 2.1.-6 | D29: Siekti, kad visi turėtų lanksčių kvalifikacijos kėlimo ir persikvalifikavimo galimybių, atsižvelgiant į verslumo ir skaitmeninius įgūdžius, geriau numatyti pokyčius ir naujų įgūdžių reikalavimus, grindžiamus darbo rinkos poreikiais, sudaryti palankesnes sąlygas keisti profesinę veiklą ir skatinti profesinį judumą | E29: Asmenų, kurie dalyvavę mokymuose įgijo kompetenciją, dalis proc. nuo visų besimokančiųjų VTVPMC | F29: 0 (2022) | G29: 80 | H29: 82 | I29: 85 | J29: 85 | K29: 0 (2022) | L29: 82 (2024) | M29: 98 (2030)
C30: 2.2. | D30: Sudaryti sąlygas visų amžiaus grupių ir galimybių visaginiečiams jų sveikai gyvensenai, fiziniam aktyvumui, sportavimui bei siekti, kad tai taptų savivaldybės bendruomenės gyvensenos dalimi | E30: Veikiančių atvirų sporto erdvių skaičius (vnt.) | F30: 10 (2022) | G30: 12 | H30: 12 | I30: 13 | J30: 14 | K30: 10 (2022) | L30: 12 (2024) | M30: 21 (2030)
C31: 2.2-1 | D31: Didinti fizinio aktyvumo lygį visose savivaldybės gyventojų amžiaus grupėse, plėsti galimybes bendruomenės fiziniam aktyvumui ir sveikatinimo veikloms | E31: Sporto varžybose ir sveikatingumo renginiuose dalyvavusių asmenų skaičius, vnt. per metus | F31: 2466 (2021) | G31: 3000 | H31: 3200 | I31: 3250 | J31: 3300 | K31: 2466 (2021) | L31: 3133 (2024) | M31: Kasmet didėjantis ne mažiau kaip 20 proc.
C32: 2.2-2 | D32: Vykdyti talentingų sportininkų atranką, sudaryti jiems tinkamas sąlygas meistriškumui didinti | E32: Aukšto meistriškumo sportininkų dalis nuo visų sportininkų Visagino savivaldybėje (proc.) | F32: 20 (2022) | G32: 20 | H32: 26 | I32: 27 | J32: 27 | K32: 20 (2022) | L32: 26 (2024) | M32: 40 (2030)
C33: 2.2-3 | D33: Gerinti sporto ir fizinio aktyvumo specialistų kvalifikaciją ir pritraukti naujus specialistus, kurių kompetencijos reikalingos bendruomenės poreikiams tenkinti, sporto ir fizinio aktyvumo paslaugų plėtrai ir kokybės užtikrinimui | E33: Kvalifikaciją patobulinusių sportinio ugdymo specialistų, dirbančių Visagino savivaldybės įstaigose, skaičius (proc.) | F33: 30 (2022) | G33: 30 | H33: 32 skaičius, 76 proc. | I33: 32 skaičius, 76 proc. | J33: 33 skaičius, 80 proc. | K33: 30 (2022) | L33: 31 (2024) skaičius, 75,6 proc. | M33: 80 (2030)
C34: 2.2-4 | D34: Didinti visuomenės informuotumą apie fizinio aktyvumo naudą ir vykdyti sporto informacijos sklaidą | E34: Informacinėmis priemonėmis pasiektų asmenų dalis proc. nuo visų gyventojų | F34: 0 (2022) | G34: 40 | H34: 50 | I34: 55 | J34: 60 | K34: 0 (2022) | L34: 50 (2024) | M34: 98 (2030)
C35: 2.2-5 | D35: Plėtoti ir atnaujinti sporto infrastruktūrą, aprūpinti poreikius atitinkančia įranga ir inventoriumi sudarant tinkamas sąlygas bendruomenės fiziniam aktyvumui, aukšto meistriškumo sportininkų rengimui bei varžybų nuo savivaldybės lygmens iki tarptautinių vykdymui | E35: Asmenų, dalyvavusių aukšto lygio sporto varžybose dalis proc. nuo visų gyventojų | F35: 0 (2022) | G35: 1 | H35: 2 | I35: 2 | J35: 2.5 | K35: 0 (2022) | L35: 2 (2024) | M35: 5 (2030)
C36: 2.3. | D36: Įgyvendinti valstybinę kultūros politiką ir formuoti regioninį identitetą, stiprinti pilietiškumą ir bendruomenės į(si)traukimą į kūrybines, kultūrines veiklas | E36: Gyventojų, bent kartą per mėnesį besilankančių viešuose kultūros renginiuose, dalis proc. nuo bendro gyventojų skaičiaus | F36: 0 (2022) | G36: 40 | H36: 50 | I36: 60 | J36: 60 | K36: 0 (2022) | L36: 30 (2024) | M36: 70 (2030)
C37: 2.3.-1 | D37: Formuoti Visagino, kaip daugiakultūrio miesto, atviro kultūrinėms inovacijoms ir patrauklaus profesionalaus meno sklaidai, laukiančio svečių, reputaciją | E37: Kultūros renginiuose apsilankiusių asmenų skaičius proc. nuo bendro gyventojų skaičiaus | F37: 0 (2022) | G37: 20 | H37: 30 | I37: 40 | J37: 50 | K37: 374,16 (2023) | L37: 267,84 (2024) | M37: 80 (2030)
C38: 2.3.-2 | D38: Visagino savivaldybėje sukurti palankiausiais regione sąlygas menininkų kūrybai ir kūrybiniams verslams vystytis | E38: Naujai susikūrusių kūrybinių verslų skaičius | F38: 0 (2022) | G38: 1 | H38: 1 | I38: 2 | J38: 2 | K38: 1 (2023) | L38: 2 (2024) | M38: 8 (2030)
C39: 2.3.-3 | D39: Plėtoti / tobulinti pagal kintančius bendruomenės poreikius kultūros infrastruktūrą bei užtikrinti kultūros, laisvalaikio, kūrybos erdvių prieinamumą bendruomenei ir kūrėjams | E39: Naujai įkurtų erdvių, kuriose skatinamos meniškos ir meninės veiklos, skaičius | F39: 0 (2022) | G39: 0 | H39: 0 | I39: 1 | J39: 1 | K39: 0 (2023) | L39: 3 (2024) | M39: 5 (2030)
C40: 2.3.-4 | D40: Sudaryti palaikančias ir motyvuojančias sąlygas etninės kultūros sklaidai, Dainų švenčių tradicijos tęstinumui, senųjų tradicijų, papročių populiarinimui, jų gyvybingumo puoselėjimui | E40: Asmenų, dalyvavusių etninės kultūros renginiuose, dalis proc. nuo visų savivaldybės gyventojų | F40: 0 (2022) | G40: 10 | H40: 12 | I40: 12.5 | J40: 13 | K40: 11,1 (2023) | L40: 11,5 (2024) | M40: 15 (2030)
C41: 2.3.-5 | D41: Stiprinti įstaigų partnerystę / tinklaveiką, plėtoti projektinę veiklą | E41: Asmenų, dalyvavusių kultūros ir švietimo bendradarbiavimo veiklose, dalis proc. nuo visų savivaldybės gyventojų | F41: 0 (2022) | G41: 10 | H41: 15 | I41: 20 | J41: 20 | K41: 14 (2023) | L41: 14 (2024) | M41: 50 (2030)
C42: 2.3.-6 | D42: Ugdyti įvairiakalbę, kritiškai mąstančią Visagino bendruomenę, kurią jungia valstybinė kalba ir pagarba valstybei | E42: Gyventojų, dalyvavusių pilietinio ugdymo veiklose, dalis proc. nuo visų savivaldybės gyventojų | F42: 0 (2022) | G42: 3 | H42: 27 | I42: 28 | J42: 30 | K42: 25 (2023) | L42: 25 (2024) | M42: 50 (2030)
C43: 2.4. | D43: Stiprinti ir puoselėti gyventojų sveikatą | E43: Vidutinė tikėtina gyvenimo trukmė (metais) | F43: 76 (2020 m.) | G43: 75.47 | H43: 76 | I43: 76 | J43: 76 | K43: 76 (2020 m.) | L43: 76 (2020 m.) | M43: 78,3 (2030)
...

Sheet III skyrius. 2023-2030  m. 
E3: III SKYRIUS. LĖŠŲ DALIS, TENKANTI 2025-2027 M. STRATEGINIAME VEIKLOS PLANE, SKIRTA 2023-2030 M. SAVIVALDYBĖS PLĖTROS PLANE NUMATYTIEMS PRIORITETINIAMS TIKSLAMS ĮGYVENDINTI
C9: 2 lentelė. Lėšų dalis, tenkanti 2025-2027 m. SVP 2023-2030 m. plėtros plano prioritetiniams tikslams įgyvendinti
C10: 2023-2030 m. plėtros plano prioritetiniai tikslai | R10: Įgyvendinamos programos pagal 2023-2030 m. plėtros plano prioritetinius tikslus | S10: Proc. nuo bendro poreikio tikslui įgyvendinti 2025 m. | T10: 2025 m. išlaidų planas, tūkst. Eur | U10: Proc. nuo bendro poreikio tikslui įgyvendinti 2026 m. | V10: 2026 m. išlaidų planas, tūkst. Eur | W10: Proc. nuo bendro poreikio tikslui įgyvendinti 2027 m. | X10: 2027 m. išlaidų planas, tūkst. Eur
C11: I PRIORITETINIS TIKSLAS. KONKURENCINGO VERSLO SKATINIMAS IR VIETINĖS EKONOMIKOS TVARI PLĖTRA | R11: 9 programa | S11: =T11/T15 -> 0.040179554 | T11: =SUM('9 programa'!H199) -> 2876.6927 | U11: =V11/V15 -> 0.079900974 | V11: =SUM('9 programa'!I199) -> 5654.4358 | W11: =X11/X15 -> 0.072804394 | X11: =SUM('9 programa'!J199) -> 4854.413
C12: II PRIORITETINIS TIKSLAS. SOCIALINĖS GEROVĖS KŪRIMAS, SUMANIAI, PAŽANGIAI, BESIMOKANČIAI, MODERNIAI IR LAIMINGAI BENDRUOMENEI | R12: 1 programa 2 programa 3 programa 4 programa 5 programa 6 programa 7 programa | S12: =T12/T15 -> 0.7629034 | T12: =SUM('1 programa '!K208,'2 programa '!K351,'3 programa'!K79,'4 programa'!K124,'5 programa'!K85,'6 programa'!K285,'7 programa'!K166) -> 54620.782 | U12: =V12/V15 -> 0.71739942 | V12: =SUM('1 programa '!L208,'2 programa '!L351,'3 programa'!L79,'4 programa'!L124,'5 programa'!L85,'6 programa'!L285,'7 programa'!L166) -> 50768.956 | W12: =X12/X15 -> 0.72542146 | X12: =SUM('1 programa '!M208,'2 programa '!M351,'3 programa'!M79,'4 programa'!M124,'5 programa'!M85,'6 programa'!M285,'7 programa'!M166) -> 48369.27
C13: III PRIORITETINIS TIKSLAS. TVARUS, SUBALANSUOTAS SAVIVALDYBĖS APLINKOS VYSTYMAS IR PLĖTRA | R13: 8 programa 10 programa | S13: =T13/T15 -> 0.19691705 | T13: =SUM('8 programa'!K164,'10 programa'!K265) -> 14098.46 | U13: =V13/V15 -> 0.2026996 | V13: =SUM('8 programa'!L164,'10 programa'!L265) -> 14344.655 | W13: =X13/X15 -> 0.20177414 | X13: =SUM('8 programa'!M164,'10 programa'!M265) -> 13453.79
T15: =SUM(T11,T12,T13) -> 71595.934 | V15: =SUM(V11,V12,V13) -> 70768.047 | X15: =SUM(X11,X12,X13) -> 66677.473

Sheet IV skyrius
B3: IV SKYRIUS PLANUOJAMI PASIEKTI REZULTATAI
C5: Didinant įstaigų veiklos efektyvumą, atsakomybę ir viešumą, 2025-2027m. planuojama gerinti valdymo struktūrą ir stiprinti valdymo kokybę, didinti viešojo administravimo efektyvumą, ekonomiškai ir rezultatyviai valdyti ir naudoti savivaldybės turtą, biudžetą ir kitus piniginius išteklius. Numatoma vykdyti priemones ugdymo, kūno kultūros ir fizinio aktyvumo, socialinių paslaugų kokybei gerinti ir jų įvairovei didinti. Siekti, kad gerėtų viešųjų erdvių kokybė, sudaryti sąlygas inžinerinės infrastruktūros ir susisiekimo komunikacijų gerinimui, jų plėtrai padidinant miesto viešųjų erdvių patrauklumą, užtikrinant švarą ir tvarką, teikti gyventojams kokybiškas komunalines paslaugas, prižiūrėti ir modernizuoti miesto inžinerinės ir rekreacinės infrastruktūros objektus, suformuoti efektyviai veikiančią verslo paramos sistemą, skleisti verslo informaciją, skatinti verslumą bei iniciatyvas. Taip pat bus siekiama vykdyti architektūros ir teritorijų planavimo veiklą, kurti palankią aplinką turizmui, plėsti turizmo, rekreacijos, poilsio ir paslaugų infrastruktūrą, užtikrinti turizmo informacijos sklaidą.
C6: Įgyvendinant Visagino savivaldybės 2025-2027 m. strateginį veiklos planą, vadovaujamasi 2023-2030 m. strateginiame plėtros plane numatytais prioritetais tikslais ir planuojamais pasiekti rezultatais:
B7: 1 prioritetas | C7: Konkurencingo verslo skatinimas ir vietinės ekonomikos tvari plėtra
B8: 1.1. tikslas | C8: ='[1]II skyrius'!D10 -> Gerinti investicinės aplinkos patrauklumą ir didinti ekonominį potencialą
C9: Investicijų pritraukimo ir verslumo skatinimo institucinės ekosistemos sukūrimas Visagino, Ignalinos ir Zarasų funkcinėje zonoje (VIZA funkcinės zonos strategijos įgyvendinimas)
C10: Investicijoms pritaikytos verslo ir gamybos pastatų bei žemės infrastruktūros, skatinant apleistų/nenaudojamų/neefektyviai naudojamų teritorijų ir pastatų konversiją ir pritaikymą ekonominei veiklai, sukūrimas
B11: 1.2. tikslas | C11: ='[1]II skyrius'!D18 -> Didinti turistinį savivaldybės patrauklumą, teikiant viešąsias paslaugas bei plėtojant viešąją turizmo infrastruktūrą
C12: Viešųjų paslaugų teikimas bei Visagino savivaldybės turizmo rinkodaros plėtojimas
C13: Žygių maršrutų „Visaginas. Miestas miške - miškas mieste" sukūrimas, integracija į funkcinės zonos VIZA ir Utenos regiono bendrus turizmo maršrutus, priėjimų prie lankomų/gamtos objektų įrengimas, atokvėpio/stebėjimo vietų įrengimas
C14: Visagino kaip postbranduolinės erdvės paveldo išsaugojimas, aktualizavimas, pristatymas
B15: 2 prioritetas | C15: Socialinės gerovės kūrimas sumaniai, pažangiai, besimokančiai, moderniai ir laimingai bendruomenei
B16: 2.1. tikslas | C16: ='[1]II skyrius'!D22 -> Tikslingai naudojant švietimui skirtas lėšas bei kryptingai tobulinant darbuotojų kompetencijas, kiekvienam besimokančiajam sukurti lygiavertes ir šiuolaikiškas kokybiško ugdymo(si) sąlygas, lemiančias geresnius mokinių pasiekimus, optimalią, integracinę, darniai ir racionaliai veikiančią, nuolat atsinaujinančią savivaldybės švietimo sistemą
C17: Ikimokyklinio ugdymo įstaigų tinklo, kuriant naujas ugdymo vietas, stiprinimas
C18: Visagino progimnazijų erdvių pritaikymas negalią turinčių mokinių ugdymuisi įtraukiuoju būdu
C19: Visos dienos užimtumo erdvių sukūrimas Visagino bendrojo ugdymo mokyklose
C20: Visagino savivaldybės priemonių, numatytų „Tūkstantmečio mokyklų“ Visagino ir Ignalinos rajono savivaldybių Švietimo pažangos plane, įgyvendinimas
C21: Visagino savivaldybės bendrojo ugdymo mokyklų tinklo pertvarkos priemonių planų kiekvienoje mokykloje įgyvendinimas
B22: 2.2. tikslas | C22: ='[1]II skyrius'!D30 -> Sudaryti sąlygas visų amžiaus grupių ir galimybių visaginiečiams jų sveikai gyvensenai, fiziniam aktyvumui, sportavimui bei siekti, kad tai taptų savivaldybės bendruomenės gyvensenos dalimi
C23: Visagino savivaldybės ugdymo įstaigų vidaus ir lauko sporto infrastruktūros - sporto salių, aikštelių, stadionų - atnaujinimas ir (ar) plėtra
C24: Aplinkos ir viešųjų erdvių fizinio aktyvumo užsiėmimams pritaikymas
B25: 2.3. tikslas | C25: ='[1]II skyrius'!D36 -> Įgyvendinti valstybinę kultūros politiką ir formuoti regioninį identitetą, stiprinti pilietiškumą ir bendruomenės į(si)traukimą į kūrybines, kultūrines veiklas
C26: Infrastruktūros, būtinos gyventojų kultūriniams poreikiams užtikrinti, esamos vidaus rekonstravimas ir/arba naujos statymas
C27: Visagino miesto muziejaus koncepcijos ir struktūros plėtojimas
B28: 2.4. tikslas | C28: ='[1]II skyrius'!D43 -> Stiprinti ir puoselėti gyventojų sveikatą
C29: Asmens sveikatos priežiūros įstaigų paslaugų infrastruktūros bei įrangos, siekiant didesnės ir aukštesnės paslaugų aprėpties, įvairovės ir kokybės, plėtojimas, modernizavimas ir atnaujinimas (Visagino sveikatos centro veiklos vystymas)
B30: 2.5. tikslas | C30: ='[1]II skyrius'!D47 -> Pagerinti ir plėsti socialinių paslaugų kokybę ir prieinamumą bei sukurti jų plėtrai reikalingą infrastruktūrą
C31: Socialinių paslaugų prieinamumo didinimas
C32: Socialinio ir savivaldybės būsto prieinamumo visų socialinių grupių atstovams didinimas
B33: 2.6. tikslas | C33: ='[1]II skyrius'!D49 -> Sudaryti galimybes jaunimui atvykti, dirbti ir gyventi Visagino savivaldybėje
C34: Jaunimo teikiamų projektų ir iniciatyvų finansavimas
B35: 2.7. tikslas | C35: ='[1]II skyrius'!D52 -> Gyventojų socialinio, pilietinio aktyvumo, dalyvavimo savanoriškoje, visuomeninėje veikloje, tarpusavio pasitikėjimo, bendruomenės socialinės atsakomybės ir įsitraukimo didinimas
C36: Vietos savivaldai priimant sprendimus integruotai ir tolygiai formuoti nevyriausybinių ir bendruomeninių organizacijų veiklai palankią aplinką savivaldybėje (Dalyvaujamojo biudžeto priemonių vykdymas )
C37: Viešosios naudos nevyriausybinių ir bendruomeninių organizacijų institucinio stiprinimo projektų (gebėjimai, lyderystė, sąlygos viešosios naudos organizacijų veiklos tvarumui užtikrinti, socialinis verslas ir kt. ) - vietos veiklos grupių strategijų įgyvendinimas
B38: 2.8. tikslas | C38: ='[1]II skyrius'!D56 -> Tobulinti viešojo valdymo sistemą, didinti jos efektyvumą ir atvirumą
C39: Inovatyvių sprendimų ir būdų, savivaldybėje ir jos įstaigose galinčių padidinti viešojo efektyvumo valdymo efektyvumą diegimas (miesto dvynio informacinės sistemos sukūrimas)
C40: Miesto vaizdo stebėjimo sistemos naujinimas ir plėtra
C41: Priedangų atsparumo stiprinimas ir pritaikymas riboto judumo asmenims (naujas)
B42: 3 prioritetas | C42: Tvarus, subalansuotas savivaldybės aplinkos vystymas ir plėtra
B43: 3.1. tikslas | C43: ='[1]II skyrius'!D64 -> Vykdyti kryptingą darnaus judumo politiką savivaldybėje
...

Sheet V skyrius. Programos
F3: V SKYRIUS PROGRAMOS
F4: Visagino savivaldybės 2025–2027 metų strateginį veiklos planą sudaro 10 įvairius savivaldybės veiklos sektorius apimančių programų. Kiekvienoje programoje iškelti trejų metų veiklos strateginiai uždaviniai, suformuluotos priemonės ir konkretizuoti rezultatų pasiekimo rodikliai. Programos buvo pasirinktos,susisteminus ir apibendrinus vietos savivaldos principus, savivaldybės instituciją ir jos kompetenciją, numatytas vykdyti funkcijas, savivaldybės mero, savivaldybės tarybos nario statusą, savivaldybių ūkinės ir finansinės veiklos pagrindus, taip pat išanalizavus viešojo administravimo sritis, viešojo administravimo subjektų sistemą ir administracinės procedūros organizavimo pagrindus.
F11: 3 lentelė. 2025-2027 metų asignavimų ir kitų lėšų pasiskirstymas pagal programas (tūkst. eurų)
F12: Eil. Nr. | G12: Programos kodas ir pavadinimas | H12: 2024 metų asignavimai ir kitos lėšos | I12: Pokytis proc. | J12: 2025 m. asignavimų ir kitų lėšų poreikis , tūkst. Eur | K12: 2025metų asignavimai ir kitos lėšos | L12: 2026 metų asignavimai ir kitos lėšos | M12: 2027 metų asignavimai ir kitos lėšos | R12: 1 programa | S12: 2 programa | T12: 3 programa | U12: 4 programa | V12: 5 programa | W12: 6 programa | X12: 7 programa | Y12: 8 programa | Z12: 9 programa | AA12: 10 programa
F13: 1 | G13: 2 | H13: 3 | K13: 4 | L13: 5 | M13: 5 | Q13: 2025 | R13: =K14 -> 6151.044 | S13: =K15 -> 24164.255 | T13: =K16 -> 1836.461 | U13: =K17 -> 2237.616 | V13: =K18 -> 669.025 | W13: =K19 -> 17768.544 | X13: =K20 -> 1793.8367 | Y13: =K21 -> 5170.364 | Z13: =K22 -> 2876.6927 | AA13: =K23 -> 8928.096
F14: 1 | G14: Valdymo tobulinimo programa (01) | H14: =SUM('1 programa '!H208) -> 5799.304 | I14: =K14/H14-1 -> 0.060652106 | J14: =SUM('1 programa '!J208) -> 6358.191 | K14: =SUM('1 programa '!K208) -> 6151.044 | L14: =SUM('1 programa '!L208) -> 5855.174 | M14: =SUM('1 programa '!M208) -> 6053.864 | N14: =H14-'Suvestinė pagal FŠ'!AY7 -> -254.56 | Q14: 2026 | R14: =L14 -> 5855.174 | S14: =L15 -> 21471.922 | T14: =L16 -> 1635.133 | U14: =L17 -> 2156.155 | V14: =K18 -> 669.025 | W14: =L19 -> 18263.95 | X14: =L20 -> 770.046 | Y14: =L21 -> 5668.475 | Z14: =L22 -> 5654.4358 | AA14: =L23 -> 8676.18
F15: 2 | G15: Švietimo paslaugų plėtros programa (02) | H15: ='2 programa '!H351 -> 21438.919 | I15: =K15/H15-1 -> 0.12712096 | J15: ='2 programa '!J351 -> 11458.421 | K15: ='2 programa '!K351 -> 24164.255 | L15: ='2 programa '!L351 -> 21471.922 | M15: ='2 programa '!M351 -> 21560.868 | N15: =H15-'Suvestinė pagal FŠ'!AY10 -> -121.949 | Q15: 2027 | R15: =M14 -> 6053.864 | S15: =M15 -> 21560.868 | T15: =M16 -> 1632.204 | U15: =M17 -> 2220.336 | V15: =M18 -> 393.316 | W15: =M19 -> 16102.693 | X15: =M20 -> 405.9886 | Y15: =M21 -> 4812.337 | Z15: =M22 -> 4854.413 | AA15: =M23 -> 8641.453
F16: 3 | G16: Fizinio aktyvumo ir sporto plėtros programa (03) | H16: ='3 programa'!H79 -> 1600.845 | I16: =K16/H16-1 -> 0.14718227 | J16: ='3 programa'!J79 -> 197.5 | K16: ='3 programa'!K79 -> 1836.461 | L16: ='3 programa'!L79 -> 1635.133 | M16: ='3 programa'!M79 -> 1632.204 | N16: =H16-'Suvestinė pagal FŠ'!AY13 -> -31.359
F17: 4 | G17: Gyventojų kultūrinio aktyvumo skatinimo ir identiteto stiprinimo programa (04) | H17: ='4 programa'!H124 -> 2002.157 | I17: =K17/H17-1 -> 0.11760267 | J17: ='4 programa'!J124 -> 1981.18 | K17: ='4 programa'!K124 -> 2237.616 | L17: ='4 programa'!L124 -> 2156.155 | M17: ='4 programa'!M124 -> 2220.336 | N17: =H17-'Suvestinė pagal FŠ'!AY16 -> -218.179
F18: 5 | G18: Bendruomeniškumo skatinimo programa (05) | H18: ='5 programa'!H85 -> 331.956 | I18: =K18/H18-1 -> 1.0154026 | J18: ='5 programa'!J85 -> 792 | K18: ='5 programa'!K85 -> 669.025 | L18: ='5 programa'!L85 -> 616.576 | M18: ='5 programa'!M85 -> 393.316 | N18: =H18-'Suvestinė pagal FŠ'!AY19 -> -61.36
F19: 6 | G19: Socialinės paramos programa (06) | H19: ='6 programa'!H285 -> 14477.562 | I19: =K19/H19-1 -> 0.22731604 | J19: ='6 programa'!J285 -> 16758.781 | K19: ='6 programa'!K285 -> 17768.544 | L19: ='6 programa'!L285 -> 18263.95 | M19: ='6 programa'!M285 -> 16102.693 | N19: =H19-'Suvestinė pagal FŠ'!AY22 -> -1852.726
F20: 7 | G20: Sveikatos apsaugos paslaugų kokybės gerinimo programa (07) | H20: ='7 programa'!H166 -> 893.416 | I20: =K20/H20-1 -> 1.0078404 | J20: ='7 programa'!J166 -> 1621.9135 | K20: ='7 programa'!K166 -> 1793.8367 | L20: ='7 programa'!L166 -> 770.046 | M20: ='7 programa'!M166 -> 405.9886 | N20: =H20-'Suvestinė pagal FŠ'!AY25 -> 487.4274
F21: 8 | G21: Aplinkos apsaugos programa (08) | H21: ='8 programa'!H164 -> 4399.305 | I21: =K21/H21-1 -> 0.17526837 | J21: ='8 programa'!J164 -> 4476.937 | K21: ='8 programa'!K164 -> 5170.364 | L21: ='8 programa'!L164 -> 5668.475 | M21: ='8 programa'!M164 -> 4812.337 | N21: =H21-'Suvestinė pagal FŠ'!AY28 -> -411.032
F22: 9 | G22: Ekonominės plėtros programa (09) | H22: =SUM('9 programa'!E199) -> 2019.759 | I22: =K22/H22-1 -> 0.42427522 | J22: =SUM('9 programa'!G199) -> 2169.125 | K22: =SUM('9 programa'!H199) -> 2876.6927 | L22: =SUM('9 programa'!I199) -> 5654.4358 | M22: =SUM('9 programa'!J199) -> 4854.413 | N22: =H22-'Suvestinė pagal FŠ'!AY31 -> -2825.534
F23: 10 | G23: Viešosios infrastruktūros programa (10) | H23: ='10 programa'!H265 -> 5584.18 | I23: =K23/H23-1 -> 0.59881952 | J23: ='10 programa'!J265 -> 7280.271 | K23: ='10 programa'!K265 -> 8928.096 | L23: ='10 programa'!L265 -> 8676.18 | M23: ='10 programa'!M265 -> 8641.453 | N23: =H23-'Suvestinė pagal FŠ'!AY34 -> -2671.165
G24: Iš viso: | H24: =SUM(H14:H23) -> 58547.403 | I24: =K24/H24-1 -> 0.22287123 | J24: =SUM(J14:J23) -> 53094.319 | K24: =SUM(K14:K23) -> 71595.934 | L24: =SUM(L14:L23) -> 70768.047 | M24: =SUM(M14:M23) -> 66677.473
F25: 1. Savivaldybės biudžetas (įskaitant skolintas lėšas) | H25: =SUM(H27,H29,H34,H35,H36,H37,) -> 51655.081 | J25: =SUM(J27,J29,J34,J35,J36,J37,) -> 45531.428 | K25: =SUM(K27,K29,K34,K35,K36,K37,) -> 64053.043 | L25: =SUM(L27,L29,L34,L35,L36,L37,) -> 63233.077 | M25: =SUM(M27,M29,M34,M35,M36,M37,) -> 59142.503
F26: Iš jo: | P26: Biudžetas 2025 | Q26: SVP 2025
F27: 1.1. savivaldybės biudžeto lėšos (nuosavos, be ankstesnių metų likučio), iš jų: | H27: =SUM('1 programa '!H199,'2 programa '!H341,'3 programa'!H71,'4 programa'!H116,'5 programa'!H78,'6 programa'!H276,'7 programa'!H157,'8 programa'!H155,'9 programa'!E190,'10 programa'!H258) -> 26581.185 | I27: =K27/H27-1 -> 0.10295034 | J27: =SUM('1 programa '!J199,'2 programa '!J341,'3 programa'!J71,'4 programa'!J116,'5 programa'!J78,'6 programa'!J276,'7 programa'!J157,'8 programa'!J155,'9 programa'!G190,'10 programa'!J258) -> 29748.34 | K27: =SUM('1 programa '!K199,'2 programa '!K341,'3 programa'!K71,'4 programa'!K116,'5 programa'!K78,'6 programa'!K276,'7 programa'!K157,'8 programa'!K155,'9 programa'!H190,'10 programa'!K258) -> 29317.727 | L27: =SUM('1 programa '!L199,'2 programa '!L341,'3 programa'!L71,'4 programa'!L116,'5 programa'!L78,'6 programa'!L276,'7 programa'!L157,'8 programa'!L155,'9 programa'!I190,'10 programa'!L258) -> 31912.07 | M27: =SUM('1 programa '!M199,'2 programa '!M341,'3 programa'!M71,'4 programa'!M116,'5 programa'!M78,'6 programa'!M276,'7 programa'!M157,'8 programa'!M155,'9 programa'!J190,'10 programa'!M258) -> 32723.06 | O27: =H27+H34 -> 28131.185 | P27: 38159.615 | Q27: =K27+K34+K36+K37 -> 38778.342
F28: 1.1.1. Aplinkos apsaugos rėmimo specialiosios programos lėšos | H28: ='7 programa'!H158+'8 programa'!H156 -> 58 | I28: =K28/H28-1 -> 1.2125345 | K28: =SUM('7 programa'!K158,'7 programa'!K159,'8 programa'!K156,'8 programa'!K157,) -> 128.327 | L28: =SUM('7 programa'!L158,'7 programa'!L159,'8 programa'!L156,'8 programa'!L157,) -> 58 | M28: =SUM('7 programa'!M158,'7 programa'!M159,'8 programa'!M156,'8 programa'!M157,) -> 58 | P28: =Q27-P27 -> 618.727 | Q28: =P28-K28 -> 490.4
F29: 1.2. Lietuvos Respublikos valstybės biudžeto dotacijos, iš jų: | H29: =SUM('1 programa '!H200,,'2 programa '!H342,'3 programa'!H72,'4 programa'!H117,'5 programa'!H79,'6 programa'!H277,'7 programa'!H160,'8 programa'!H158,'9 programa'!E191,'10 programa'!H259) -> 13182.072 | I29: =K29/H29-1 -> 0.18327847 | J29: =SUM('1 programa '!J200,,'2 programa '!J342,'3 programa'!J72,'4 programa'!J117,'5 programa'!J79,'6 programa'!J277,'7 programa'!J160,'8 programa'!J158,'9 programa'!G191,'10 programa'!J259) -> 3321.327 | K29: =SUM('1 programa '!K200,,'2 programa '!K342,'3 programa'!K72,'4 programa'!K117,'5 programa'!K79,'6 programa'!K277,'7 programa'!K160,'8 programa'!K158,'9 programa'!H191,'10 programa'!K259) -> 15598.062 | L29: =SUM('1 programa '!L200,,'2 programa '!L342,'3 programa'!L72,'4 programa'!L117,'5 programa'!L79,'6 programa'!L277,'7 programa'!L160,'8 programa'!L158,'9 programa'!I191,'10 programa'!L259) -> 15981.689 | M29: =SUM('1 programa '!M200,,'2 programa '!M342,'3 programa'!M72,'4 programa'!M117,'5 programa'!M79,'6 programa'!M277,'7 programa'!M160,'8 programa'!M158,'9 programa'!J191,'10 programa'!M259) -> 16605.389
F30: 1.2.1. Valstybinės (valstybės perduotos savivaldybėms) funkcijos (D) | K30: =SUM('1 programa '!K201,'6 programa'!K278,'7 programa'!K160,'9 programa'!H192,) -> 2617.127 | L30: =SUM('1 programa '!L201,'6 programa'!L278,'7 programa'!L160,'9 programa'!I192,) -> 2620.827 | M30: =SUM('1 programa '!M201,'6 programa'!M278,'7 programa'!M160,'9 programa'!J192,) -> 2624.527
F31: Ugdymo reikmėms finansuoti (MK) | K31: =SUM('2 programa '!K343,'3 programa'!K73) -> 10540 | L31: =SUM('2 programa '!L343,'3 programa'!L73) -> 11187 | M31: =SUM('2 programa '!M343,'3 programa'!M73) -> 11807 | P31: =K30+K31+K32+K33 -> 15598.062 | Q31: =L30+L31+L32+L33 -> 15981.689 | R31: =M30+M31+M32+M33 -> 16605.389
F32: 1.1.2. Savivaldybių mokykloms (klasėms arba grupėms), skirtoms šalies (regiono) mokiniams, turintiems specialiųjų ugdymosi poreikių, ir kitoms savivaldybėms perduotoms įstaigoms išlaikyti | K32: =SUM('2 programa '!K344) -> 40.2 | L32: =SUM('2 programa '!L344) -> 40.2 | M32: =SUM('2 programa '!M344) -> 40.2
F33: 1.1.3. Valstybės biudžeto lėšos ir kitos dotacijos (SD) | K33: =SUM('1 programa '!K202,'2 programa '!K345,'4 programa'!K117,'5 programa'!K79,'6 programa'!K279,'9 programa'!H193,'10 programa'!K259) -> 2400.735 | L33: =SUM('1 programa '!L202,'2 programa '!L345,'4 programa'!L117,'5 programa'!L79,'6 programa'!L279,'9 programa'!I193,'10 programa'!L259) -> 2133.662 | M33: =SUM('1 programa '!M202,'2 programa '!M345,'4 programa'!M117,'5 programa'!M79,'6 programa'!M279,'9 programa'!J193,'10 programa'!M259) -> 2133.662
F34: 1.3. Pajamų įmokos ir kitos pajamos | H34: =SUM('1 programa '!H203,'2 programa '!H346,'3 programa'!H74,'4 programa'!H119,'5 programa'!H80,'6 programa'!H280,'7 programa'!H161,'8 programa'!H159,'9 programa'!E194,'10 programa'!H260) -> 1550 | I34: =K34/H34-1 -> 0.12055161 | J34: =SUM('1 programa '!J203,'2 programa '!J346,'3 programa'!J74,'4 programa'!J119,'5 programa'!J80,'6 programa'!J280,'7 programa'!J161,'8 programa'!J159,'9 programa'!G194,'10 programa'!J260) -> 969.843 | K34: =SUM('1 programa '!K203,'2 programa '!K346,'3 programa'!K74,'4 programa'!K119,'5 programa'!K80,'6 programa'!K280,'7 programa'!K161,'8 programa'!K159,'9 programa'!H194,'10 programa'!K260) -> 1736.855 | L34: =SUM('1 programa '!L203,'2 programa '!L346,'3 programa'!L74,'4 programa'!L119,'5 programa'!L80,'6 programa'!L280,'7 programa'!L161,'8 programa'!L159,'9 programa'!I194,'10 programa'!L260) -> 1795.5 | M34: =SUM('1 programa '!M203,'2 programa '!M346,'3 programa'!M74,'4 programa'!M119,'5 programa'!M80,'6 programa'!M280,'7 programa'!M161,'8 programa'!M159,'9 programa'!J194,'10 programa'!M260) -> 1906 | N34: be kiku2io | O34: =H27+H34+H36+H37 -> 33835.091
F35: 1.4. Europos Sąjungos ir kitos tarptautinės finansinės paramos lėšos (ES, EGDAP) | H35: =SUM('1 programa '!H204,'2 programa '!H347,'3 programa'!H75,'4 programa'!H120,'5 programa'!H81,'6 programa'!H281,'7 programa'!H162,'8 programa'!H160,'9 programa'!E195,'10 programa'!H261) -> 4637.918 | I35: =K35/H35-1 -> 1.0864188 | J35: =SUM('1 programa '!J204,'2 programa '!J347,'3 programa'!J75,'4 programa'!J120,'5 programa'!J81,'6 programa'!J281,'7 programa'!J162,'8 programa'!J160,'9 programa'!G195,'10 programa'!J261) -> 9050.3027 | K35: =SUM('1 programa '!K204,'2 programa '!K347,'3 programa'!K75,'4 programa'!K120,'5 programa'!K81,'6 programa'!K281,'7 programa'!K162,'8 programa'!K160,'9 programa'!H195,'10 programa'!K261) -> 9676.6394 | L35: =SUM('1 programa '!L204,'2 programa '!L347,'3 programa'!L75,'4 programa'!L120,'5 programa'!L81,'6 programa'!L281,'7 programa'!L162,'8 programa'!L160,'9 programa'!I195,'10 programa'!L261) -> 11318.328 | M35: =SUM('1 programa '!M204,'2 programa '!M347,'3 programa'!M75,'4 programa'!M120,'5 programa'!M81,'6 programa'!M281,'7 programa'!M162,'8 programa'!M160,'9 programa'!J195,'10 programa'!M261) -> 6587.9536 | P35: Biudžetas 2026 | Q35: SVP 2026
F36: 1.5. Skolintos lėšos | H36: =SUM('1 programa '!H205,'2 programa '!H348,'3 programa'!H76,'4 programa'!H121,'5 programa'!H82,'6 programa'!H282,'7 programa'!H163,'8 programa'!H161,'9 programa'!E196,'10 programa'!H262) -> 325.057 | I36: =K36/H36-1 -> -0.91936799 | J36: =SUM('1 programa '!J205,'2 programa '!J348,'3 programa'!J76,'4 programa'!J121,'5 programa'!J82,'6 programa'!J282,'7 programa'!J163,'8 programa'!J161,'9 programa'!G196,'10 programa'!J262) -> 26.214 | K36: =SUM('1 programa '!K205,'2 programa '!K348,'3 programa'!K76,'4 programa'!K121,'5 programa'!K82,'6 programa'!K282,'7 programa'!K163,'8 programa'!K161,'9 programa'!H196,'10 programa'!K262) -> 26.21 | L36: =SUM('1 programa '!L205,'2 programa '!L348,'3 programa'!L76,'4 programa'!L121,'5 programa'!L82,'6 programa'!L282,'7 programa'!L163,'8 programa'!L161,'9 programa'!I196,'10 programa'!L262) -> 1306.97 | M36: =SUM('1 programa '!M205,'2 programa '!M348,'3 programa'!M76,'4 programa'!M121,'5 programa'!M82,'6 programa'!M282,'7 programa'!M163,'8 programa'!M161,'9 programa'!J196,'10 programa'!M262) -> 1320.1 | P36: 35425.06 | Q36: =SUM(L27,L34,L36,L37) -> 35933.06
F37: 1.6. Ankstesnių metų likučiai | H37: =SUM('1 programa '!H206,'2 programa '!H349,'3 programa'!H77,'4 programa'!H122,'5 programa'!H83,'6 programa'!H283,'7 programa'!H164,'8 programa'!H162,'9 programa'!E197,'10 programa'!H263) -> 5378.849 | I37: =K37/H37-1 -> 0.43107754 | J37: =SUM('1 programa '!J206,'2 programa '!J349,'3 programa'!J77,'4 programa'!J122,'5 programa'!J83,'6 programa'!J283,'7 programa'!J164,'8 programa'!J162,'9 programa'!G197,'10 programa'!J263) -> 2415.402 | K37: =SUM('1 programa '!K206,'2 programa '!K349,'3 programa'!K77,'4 programa'!K122,'5 programa'!K83,'6 programa'!K283,'7 programa'!K164,'8 programa'!K162,'9 programa'!H197,'10 programa'!K263) -> 7697.55 | L37: =SUM('1 programa '!L206,'2 programa '!L349,'3 programa'!L77,'4 programa'!L122,'5 programa'!L83,'6 programa'!L283,'7 programa'!L164,'8 programa'!L162,'9 programa'!I197,'10 programa'!L263) -> 918.52 | M37: =SUM('1 programa '!M206,'2 programa '!M349,'3 programa'!M77,'4 programa'!M122,'5 programa'!M83,'6 programa'!M283,'7 programa'!M164,'8 programa'!M162,'9 programa'!J197,'10 programa'!M263) -> 0 | O37: =H27+H34+H36+H37 -> 33835.091 | P37: =Q36-P36 -> 508 | Q37: =P37-L28 -> 450
F38: 2. Kiti šaltiniai (Europos Sąjungos finansinė parama projektams įgyvendinti ir kitos teisėtai gautos lėšos, nurodant atskirus šaltinius) | H38: =SUM('1 programa '!H207,'2 programa '!H350,'3 programa'!H78,'4 programa'!H123,'5 programa'!H84,'6 programa'!H284,'7 programa'!H165,'8 programa'!H163,'9 programa'!E198,'10 programa'!H264) -> 6892.322 | I38: =K38/H38-1 -> 0.094390396 | J38: =SUM('1 programa '!J207,'2 programa '!J350,'3 programa'!J78,'4 programa'!J123,'5 programa'!J84,'6 programa'!J284,'7 programa'!J165,'8 programa'!J163,'9 programa'!G198,'10 programa'!J264) -> 7542.891 | K38: =SUM('1 programa '!K207,'2 programa '!K350,'3 programa'!K78,'4 programa'!K123,'5 programa'!K84,'6 programa'!K284,'7 programa'!K165,'8 programa'!K163,'9 programa'!H198,'10 programa'!K264) -> 7542.891 | L38: =SUM('1 programa '!L207,'2 programa '!L350,'3 programa'!L78,'4 programa'!L123,'5 programa'!L84,'6 programa'!L284,'7 programa'!L165,'8 programa'!L163,'9 programa'!I198,'10 programa'!L264) -> 7534.97 | M38: =SUM('1 programa '!M207,'2 programa '!M350,'3 programa'!M78,'4 programa'!M123,'5 programa'!M84,'6 programa'!M284,'7 programa'!M165,'8 programa'!M163,'9 programa'!J198,'10 programa'!M264) -> 7534.97 | O38: =O37-P37 -> 33327.091
F39: IŠ VISO programai finansuoti pagal finansavimo šaltinius (1 ir 2 punktai) | H39: =SUM('1 programa '!H208,'2 programa '!H351,'3 programa'!H79,'4 programa'!H124,'5 programa'!H85,'6 programa'!H285,'7 programa'!H166,'8 programa'!H164,'9 programa'!E199,'10 programa'!H265) -> 58547.403 | I39: =K39/H39-1 -> 0.22287123 | J39: =SUM('1 programa '!J208,'2 programa '!J351,'3 programa'!J79,'4 programa'!J124,'5 programa'!J85,'6 programa'!J285,'7 programa'!J166,'8 programa'!J164,'9 programa'!G199,'10 programa'!J265) -> 53094.319 | K39: =SUM('1 programa '!K208,'2 programa '!K351,'3 programa'!K79,'4 programa'!K124,'5 programa'!K85,'6 programa'!K285,'7 programa'!K166,'8 programa'!K164,'9 programa'!H199,'10 programa'!K265) -> 71595.934 | L39: =SUM('1 programa '!L208,'2 programa '!L351,'3 programa'!L79,'4 programa'!L124,'5 programa'!L85,'6 programa'!L285,'7 programa'!L166,'8 programa'!L164,'9 programa'!I199,'10 programa'!L265) -> 70768.047 | M39: =SUM('1 programa '!M208,'2 programa '!M351,'3 programa'!M79,'4 programa'!M124,'5 programa'!M85,'6 programa'!M285,'7 programa'!M166,'8 programa'!M164,'9 programa'!J199,'10 programa'!M265) -> 66677.473 | O39: =O38-P38 -> 33327.091 | P39: Biudžetas 2027 | Q39: SVP 2027
F40: Iš jų: regioninių pažangos priemonių lėšos (RP) | H40: =SUM('1 programa '!H209,'2 programa '!H352,'3 programa'!H80,'4 programa'!H125,'5 programa'!H86,'6 programa'!H286,'7 programa'!H167,'8 programa'!H165,'9 programa'!E200,'10 programa'!H266) -> 3553.578 | I40: =K40/H40-1 -> 1.4954753 | J40: =SUM('1 programa '!J209,'2 programa '!J352,'3 programa'!J80,'4 programa'!J125,'5 programa'!J86,'6 programa'!J286,'7 programa'!J167,'8 programa'!J165,'9 programa'!G200,'10 programa'!J266) -> 9282.576 | K40: =SUM('1 programa '!K209,'2 programa '!K352,'3 programa'!K80,'4 programa'!K125,'5 programa'!K86,'6 programa'!K286,'7 programa'!K167,'8 programa'!K165,'9 programa'!H200,'10 programa'!K266) -> 8867.866 | L40: =SUM('1 programa '!L209,'2 programa '!L352,'3 programa'!L80,'4 programa'!L125,'5 programa'!L86,'6 programa'!L286,'7 programa'!L167,'8 programa'!L165,'9 programa'!I200,'10 programa'!L266) -> 10623.704 | M40: =SUM('1 programa '!M209,'2 programa '!M352,'3 programa'!M80,'4 programa'!M125,'5 programa'!M86,'6 programa'!M286,'7 programa'!M167,'8 programa'!M165,'9 programa'!J200,'10 programa'!M266) -> 5219.379 | P40: 35401.16 | Q40: =SUM(M27,M34,M36,M37,) -> 35949.16
F41: Asignavimų ir kitų lėšų pokytis, palyginti su ankstesnių metų patvirtintų asignavimų ir kitų lėšų planu | K41: =K39/H39-1 -> 0.22287123 | L41: =L39/K39-1 -> -0.011563332 | M41: =M39/L39-1 -> -0.05780256 | P41: =Q40-P40 -> 548 | Q41: =P41-M28 -> 490
G42: n – pirmieji planuojamieji metai, n + 1 – antrieji planuojamieji metai ir n + 2 – tretieji planuojamieji metai.

Sheet 1 programa 
A1: Valdymo tobulinimo programa (01)
A2: Programos tikslas - įgyvendinti Lietuvos Respublikos Konstitucijos ir įstatymų nustatytas, Lietuvos Respublikos vietos savivaldos įstatymo reglamentuotas savarankiškąsias savivaldybės bei valstybines (valstybės perduotas savivaldybei) funkcijas. Siekiant užtikrinti, kad minėtos funkcijos būtų vykdomos kokybiškai, ypatingas dėmesys skiriamas šiuolaikiniams vadybos metodams ir informacinėms technologijoms diegti savivaldybėje; vykdomų procedūrų viešumui ir skaidrumui; kontroliuoti ir prižiūrėti, ar teisėtai, efektyviai, ekonomiškai ir rezultatyviai valdomas ir naudojamas savivaldybės turtas ir patikėjimo teise valdomas valstybės turtas, kaip vykdomas savivaldybės biudžetas ir naudojami kiti piniginiai ištekliai. Efektyviai savivaldybės veiklai būtinas racionalus finansinių, materialinių ir žmogiškųjų išteklių paskirstymas, sistemingas veiklos planavimas
A3: =A18 -> 01.01.01. (T) | B3: =B18 -> Gerinti teikiamų paslaugų kokybę, didinti jų prieinamumą ir patrauklumą, tinkamai organizuojant savivaldybės administravimo subjektams priskirtų funkcijų įgyvendinimą
A4: =A36 -> 01.01.02 (T) | B4: =B36 -> Užtikrinti valstybinių (valstybės perduotų savivaldybėms) funkcijų vykdymą
A5: =A95 -> 01.01.03 (T) | B5: =B95 -> Užtikrinti efektyvų savivaldybei nuosavybės teise priklausančio nekilnojamojo turto naudojimą, įmonių bei įstaigų valdymą
A6: =A117 -> 01.01.04. (T) | B6: =B117 -> Sudaryti sąlygas iš anksto negalimoms suplanuoti priemonėms vykdyti bei savivaldybės finansiniams įsipareigojimams įgyvendinti
A7: =A128 -> 01.01.05. (T) | B7: =B128 -> Įgyvendinti Visagino savivaldybės korupcijos prevencijos 2025-2027 metų veiksmų planą
A8: =A131 -> 01.02.02. (T) | B8: =B131 -> Gerinti visuomenei teikiamų paslaugų kokybę, didinant jų atitiktį visuomenės poreikiams
A9: =A173 -> 01.02.03. (T) | B9: =B173 -> Organizuoti savivaldybės veiklą vadovaujantis šiuolaikiniais vadybos metodais
A10: =A179 -> 01.02.04. (T) | B10: =B179 -> Informuoti visuomenę apie savivaldybės veiklą ir formuoti teigiamą savivaldybės įvaizdį, plėtoti dalykinius santykius ir ryšius su tarptautinėmis ir vietinėmis institucijomis ir organizacijomis
A12: Programos įgyvendinimo laikotarpis 2025-2027 m.
A13: Programos įgyvendinimo koordinatorė Jolita Kriaučiūnaitė, jolita.kriauciunaite@visaginas.lt, tel. (0 386) 36 008
A15: 4 lentelė. Valdymo tobulinimo programos (01) uždaviniai, priemonės, asignavimai ir kitos lėšos (tūkst.eurų) ir jų stebėsenos rodikliai
A16: Programos uždavinio, priemonės kodas ir požymis | B16: Uždavinio, priemonės pavadinimas, finansavimo šaltiniai | C16: Asignavimų valdytojo kodas | D16: Finansavimo šaltinis | E16: 2023 m. asignavimų planas | F16: Asignavimų pasikeitimas | G16: 2024 m.asignavimų poreikis | H16: 2024 m.asignavimai ir kitos lėšos, tūkst. Eur | I16: Pokytis proc. | J16: 2025 m. asignavimų ir kitų lėšų poreikis , tūkst. Eur | K16: 2025 m. asignavimai ir kitos lėšos, tūkst. Eur | L16: 2026 m.asignavimai ir kitos lėšos, tūkst. Eur | M16: 2027 m.asignavimai ir kitos lėšos, tūkst. Eur | N16: Savivaldybės strateginio plėtros plano priemonės kodas | O16: Trumpas priemonės įgyvendinimo aprašymas | P16: Stebėsenos rodiklio kodas | Q16: Stebėsenos rodiklio pavadinimas (matavimo vnt.) | R16: Siektinos stebėsenos rodiklių reikšmės | V16: Savivaldybės strateginio plėtros plano rodiklis
R17: 2024 | S17: 2025 | T17: 2026 | U17: 2027
A18: 01.01.01. (T) | B18: Gerinti teikiamų paslaugų kokybę, didinti jų prieinamumą ir patrauklumą, tinkamai organizuojant savivaldybės administravimo subjektams priskirtų funkcijų įgyvendinimą | D18: Iš viso: | E18: =SUM(E23,E31,E33,E35,) -> 3181.359 | F18: =H18/E18-1 -> 0.20598776 | G18: =SUM(G23,G31,G33,G35,) -> 3611.437 | H18: =SUM(H23,H31,H33,H35,) -> 3836.68 | J18: =SUM(J23,J31,J33,J35,) -> 4281.522 | K18: =SUM(K23,K31,K33,K35,) -> 4056.804 | L18: =SUM(L23,L31,L33,L35,) -> 4049.47 | M18: =SUM(M23,M31,M33,M35,) -> 4220.99 | N18: 2.8.-1 | P18: E-01-01-01 | Q18: Gyventojų, per paskutinius 12 mėnesių dalyvavusių sprendžiant viešuosius vietos reikalus, dalis proc. | R18: 30 | S18: 40 | T18: 50 | U18: 50 | V18: Gyventojų, per paskutinius 12 mėnesių dalyvavusių sprendžiant viešuosius vietos reikalus, dalis proc.
A19: 01.01.01.01 (TP) | B19: Savivaldybės institucijų funkcijų įgyvendinimas | C19: 188711925 | D19: SB | E19: =E25+E26 -> 2778.6 | F19: =H19/E19-1 -> 0.19604117 | G19: =SUM(G24:G26) -> 3075.995 | H19: =SUM(H24:H26) -> 3323.32 | I19: =K19/H19-1 -> 0.067432567 | J19: 3777.18 | K19: =SUM(K24,K25,K26,K29) -> 3547.42 | L19: =SUM(L24,L25,L26,) -> 3558.07 | M19: =SUM(M24,M25,M26,) -> 3724.11 | N19: 2.8.-1-1 | O19: Įgyvendinant šią priemonę planuojama užtikrinti Visagino savivaldybės merui, administracijai bei Visagino savivaldybės tarybai priskirtų funkcijų įgyvendinimą. | P19: R-01-01-01-01 | Q19: Savivaldybės administracinių paslaugų, teikiamų elektroniniu būdu ne žemesniu kaip 4 brandos lygiu, dalis nuo visų savivaldybės teikiamų administracinių paslaugų (proc.) | R19: 30 | S19: 40 | T19: 40 | U19: 40 | V19: Savivaldybės administracinių paslaugų, teikiamų elektroniniu būdu ne žemesniu kaip 4 brandos lygiu, dalis nuo visų savivaldybės teikiamų administracinių paslaugų (proc.) | W19: pasikeitė pavadinimas
D20: ĮP | E20: 12.269 | F20: =H20/E20-1 -> 0.41005787 | G20: =SUM(G27) -> 15.45 | H20: 17.3 | I20: =K20/H20-1 -> 0.020231214 | J20: =J27 -> 17.65 | K20: =K27 -> 17.65 | L20: =L27 -> 2 | M20: =M27 -> 2
D21: ĮP (L) | K21: =K28 -> 2.564
D22: VB | H22: 0 | J22: 0 | K22: 0 | L22: 0 | M22: 0
D23: Iš viso: | E23: =SUM(E19:E22) -> 2790.869 | F23: =H23/E23-1 -> 0.19698202 | G23: =SUM(G19:G22) -> 3091.445 | H23: =SUM(H19:H22) -> 3340.62 | I23: =K23/H23-1 -> 0.067955649 | J23: =SUM(J19:J22) -> 3794.83 | K23: =SUM(K19:K22) -> 3567.634 | L23: =SUM(L19:L22) -> 3560.07 | M23: =SUM(M19:M22) -> 3726.11
B24: Mero ir politinio pasitikėjimo valstybės tarnautojai | D24: SB | E24: 0 | F24: =(H24-E24)/E24 -> #DIV/0! | G24: 339.725 | H24: 374.45 | J24: 353.61 | K24: 342.841 | L24: 342.84 | M24: 359.01
B25: Savivaldybės tarybos darbo organizavimas | D25: SB | E25: 210.07 | F25: =(H25-E25)/E25 -> -1 | G25: 0 | H25: 0
B26: Savivaldybės administracijos veiklos organizavimas | D26: SB | E26: 2568.53 | F26: =(H26-E26)/E26 -> 0.14807692 | G26: 2736.27 | H26: =2949.39-0.52 -> 2948.87 | J26: 3204.18 | K26: 3204.179 | L26: =3215.74-0.51 -> 3215.23 | M26: 3365.1
D27: SB (ĮP) | E27: 12.269 | F27: =(H27-E27)/E27 -> 0.41005787 | G27: 15.45 | H27: 17.3 | J27: 17.65 | K27: 17.65 | L27: 2 | M27: 2
B28: finansinis turtas | D28: ĮP (L) | K28: 2.564
K29: 0.4
A30: 01.01.01.02 (TP) | B30: Tarybos narių veiklos organizavimas | C30: 188711925 | D30: SB | E30: =138+12 -> 150 | F30: =H30/E30-1 -> 1.5506 | G30: =397.316+18 -> 415.316 | H30: =364.59+18 -> 382.59 | I30: =K30/H30-1 -> -0.043623723 | J30: 362 | K30: 365.9 | L30: 365.9 | M30: 365.9 | N30: 2.7.-3-1 | O30: Įgyvendinant šią priemonę bus užtikrinamas Lietuvos Respublikos vietos savivaldos įstatymo 12 straipsnis, kuris numato, kad savivaldybės tarybos nariams už darbą atliekant savivaldybės tarybos nario pareigas yra atlyginama (apmokama). | P30: R-01-01-01-02 | Q30: Įvykusių tarybos posėdžių skaičius /organizuotų rinkimų skaičius | R30: 12/3 | S30: 12/0 | T30: 12/0 | U30: 12/0 | V30: Veikiančių savivaldos institucijų skaičius
D31: Iš viso: | E31: =E30 -> 150 | F31: =(H31-E31)/E31 -> 1.5506 | G31: =G30 -> 415.316 | H31: =H30 -> 382.59 | I31: =K31/H31-1 -> -0.043623723 | J31: =J30 -> 362 | K31: =K30 -> 365.9 | L31: =L30 -> 365.9 | M31: =M30 -> 365.9 | Q31: Priimtų teisės aktų skaičius | R31: 360 | S31: 360 | T31: 360 | U31: 360
A32: 01.01.01.03 (TP) | B32: Visagino savivaldybės 2024 metų konsoliduotųjų ataskaitų rinkinio, savivaldybės lėšų ir turto naudojimo, savivaldybės rinkliavų veiklos ir viešojo sektoriaus subjekto/įmonės veiklos auditai | C32: 188701436 | D32: SB | E32: 100.96 | F32: =H32/E32-1 -> 0.12391046 | G32: 104.676 | H32: 113.47 | I32: =K32/H32-1 -> 0.08636644 | J32: 124.692 | K32: 123.27 | L32: =122.99+0.51 -> 123.5 | M32: 128.98 | N32: 2.7.-3-1 | O32: Įgyvendinant šią priemonę bus užtikrinama Lietuvos Respublikos vietos savivaldos įstatymo 67 straipsnio 3 dalis, kuri numato, kad savivaldybės taryba savivaldybės biudžete nustato savivaldybės kontrolės ir audito tarnybai skiriamų asignavimų dydį. | P32: R-01-01-01-03 | Q32: Atliktų Visagino savivaldybės konsoliduotųjų ataskaitų rinkinio, savivaldybės biudžeto ir turto naudojimo, savivaldybės nuosavybės teise valdomo nekilnojamojo turto valdymo, naudojimo ir disponavimo juo efektyvumo auditų skaičius | R32: 4 | S32: 4 | T32: 3 | U32: 3
D33: Iš viso: | E33: =E32 -> 100.96 | F33: =(H33-E33)/E33 -> 0.12391046 | G33: =G32 -> 104.676 | H33: =H32 -> 113.47 | I33: =K33/H33-1 -> 0.08636644 | J33: =J32 -> 124.692 | K33: =K32 -> 123.27 | L33: =L32 -> 123.5 | M33: =M32 -> 128.98
A34: 01.01.01.04 (TP) | B34: Savivaldybės tarybos mero ir sekretoriato darbo organizavimas | C34: 188701436 | D34: SB | E34: 139.53 | F34: =(H34-E34)/E34 -> -1 | I34: =K34/H34-1 -> #DIV/0! | O34: Ši priemonė nebus įgyvendinama.
D35: Iš viso: | E35: =E34 -> 139.53 | F35: =(H35-E35)/E35 -> -1 | G35: =G34 -> 0 | H35: =H34 -> 0 | I35: =K35/H35-1 -> #DIV/0! | K35: =K34 -> 0 | L35: =L34 -> 0 | M35: =M34 -> 0
A36: 01.01.02 (T) | B36: Užtikrinti valstybinių (valstybės perduotų savivaldybėms) funkcijų vykdymą | E36: =SUM(E40,E50,E52,E54,E56,E58,E61,E66,E69,E71,E73,E76,E79,E81,E84,E86,E88,E91,E47,E64) -> 491.016 | F36: =H36/E36-1 -> 0.14479773 | G36: =SUM(G40,G50,G52,G54,G56,G58,G61,G66,G69,G71,G73,G76,G79,G81,G84,G86,G88,G91,G47) -> 525.471 | H36: =SUM(H40,H50,H52,H54,H56,H58,H61,H66,H69,H71,H73,H76,H79,H81,H84,H86,H88,H91,H47,H64) -> 562.114 | I36: =K36/H36-1 -> 0.046218383 | J36: =SUM(J40,J50,J52,J54,J56,J58,J61,J66,J69,J71,J73,J76,J79,J81,J84,J86,J88,J91,J47,J64) -> 386.423 | K36: =SUM(K40,K50,K52,K54,K56,K58,K61,K66,K69,K71,K73,K76,K79,K81,K84,K86,K88,K91,K47,K64) -> 588.094 | L36: =SUM(L40,L50,L52,L54,L56,L58,L61,L66,L69,L71,L73,L76,L79,L81,L84,L86,L88,L91,L47,L64) -> 589.544 | M36: =SUM(M40,M50,M52,M54,M56,M58,M61,M66,M69,M71,M73,M76,M79,M81,M84,M86,M88,M91,M47,M64) -> 604.434 | N36: 2.8.-1 | P36: E-01-01-02 | Q36: Gyventojų, per paskutinius 12 mėnesių dalyvavusių sprendžiant viešuosius vietos reikalus, dalis proc. | R36: 30 | S36: 40 | T36: 40 | U36: 40 | V36: Gyventojų, per paskutinius 12 mėnesių dalyvavusių sprendžiant viešuosius vietos reikalus, dalis proc.
A37: 01.01.02.01 (TP) | B37: Valstybinės kalbos vartojimo ir taisyklingumo kontrolė | C37: 188711925 | D37: SB (D) | E37: 20 | F37: =H37/E37-1 -> 0 | G37: =G41 -> 19.395 | H37: 20 | I37: =K37/H37-1 -> 0 | J37: 20 | K37: 20 | L37: 20 | M37: 20 | N37: 2.1.-5-3 | O37: Lietuvos Respublikos vietos savivaldos įstatymo 7 straipsnio 12 punkto įgyvendinimas. | P37: R-01-01-02-01 | Q37: Atliktų įmonių ir įstaigų, interneto svetainių, spaudos leidinių ir reklamos objektų patikrinimų skaičius, vienetai | R37: 31 | S37: 32 | T37: 33 | U37: 33 | V37: Įgyvendintų priemonių skaičius proc., nuo visų suplanuotų įgyvendinti
D38: SB | E38: 22.96 | F38: =H38/E38-1 -> 0.24172474 | G38: =G42+G43 -> 27.315 | H38: =H42 -> 28.51 | I38: =K38/H38-1 -> -0.6597685 | J38: 8.205 | K38: 9.7 | L38: 9.71 | M38: 10.19
D39: SB (ĮP) | E39: 0.626 | F39: =H39/E39-1 -> -1 | G39: =G44 -> 0 | H39: =H44 -> 0 | Q39: Parengtų ir savivaldybės interneto svetainėje paskelbtų atmintinių ir rekomendacijų skaičius, vienetai | R39: 6 | S39: 6 | T39: 6 | U39: 6
D40: Iš viso: | E40: =SUM(E37:E39) -> 43.586 | F40: =(H40-E40)/E40 -> 0.11297206 | G40: =SUM(G37:G39) -> 46.71 | H40: =SUM(H37:H39) -> 48.51 | I40: =K40/H40-1 -> -0.3877551 | J40: =SUM(J37:J39) -> 28.205 | K40: =SUM(K37:K39) -> 29.7 | L40: =SUM(L37:L39) -> 29.71 | M40: =SUM(M37:M39) -> 30.19
B41: Visagino savivaldybės administracija | C41: 188711925 | D41: SB (D) | G41: 19.395 | H41: 0 | I41: =K41/H41-1 -> #DIV/0! | K41: 0 | L41: 0 | M41: 0
D42: SB | G42: 27.315 | H42: 28.51 | I42: =K42/H42-1 -> -1 | K42: 0 | L42: 0 | M42: 0
...

Sheet 2 programa 
A1: Švietimo paslaugų plėtros programa (02)
A2: Švietimas – prioritetinė valstybės remiama Lietuvos Respublikos raidos sritis. Švietimas turi įtakos Visagino kultūrinei, socialinei ir ekonominei pažangai. Šia programa siekiama laiduoti valstybės ir Visagino savivaldybės švietimo politikos įgyvendinimą, ugdymo kokybę, išsilavinimo standartus atitinkantį išsilavinimą, vaikų socialinį ir psichologinį saugumą, skatinti ir remti besimokančiųjų užimtumą; įgyvendinti priemones, numatytas Visagino savivaldybės strateginiame plėtros plane, Lietuvos Respublikos Vyriausybės bei ministerijų teisės aktuose.
A4: =A15 -> 02.01.01. (T) | B4: =B15 -> Sudaryti sąlygas ugdyti vaikus ikimokyklinio, bendrojo ugdymo ir neformalaus švietimo įstaigose pagal patvirtintas ugdymo programas, teikti pedagoginę, psichologinę, metodinę, aprūpinimo transportu ir kitą pagalbą mokiniams, mokytojams ir mokykloms
A5: =A161 -> 02.01.02. (T) | B5: =B161 -> Įgyvendinti priemones turinčias įtakos, ugdymo proceso kokybei, skirtas tęstiniam mokymuisi
A6: =A245 -> 02.01.03. (P) | B6: =B245 -> Sukurti įtraukias, tinklaveiką ir socialines inovacijas skatinančias, kiekvieno mokinio geresnius pasiekimus lemiančias ir šiuolaikiškas kokybiško ugdymo(si) sąlygas
A7: =A331 -> 02.02.01. (T) | B7: =B331 -> Didinti vaikų ir jaunimo socioedukacinių veiklų, socialiai prasmingo užimtumo, profesinio mokymo, saviraiškos bei švietimo pagalbos įvairovę ir prieinamumą
A9: Programos įgyvendinimo laikotarpis 2025-2027 m.
A10: Programos įgyvendinimo koordinatorė Monika Gutė, monika.gute@visaginas.lt, tel. (0 386) 36 016
A12: 5 lentelė.Švietimo paslaugų plėtros programos (02) uždaviniai, priemonės, asignavimai ir kitos lėšos (tūkst.eurų) ir jų stebėsenos rodikliai
A13: Programos uždavinio, priemonės kodas ir požymis | B13: Uždavinio, priemonės pavadinimas, finansavimo šaltiniai | C13: Asignavimų valdytojo kodas | D13: Finansavimo šaltinis | E13: 2023 m. asignavimų planas | F13: Asignavimų pasikeitimas | G13: 2024 m. asignavimų poreikis | H13: 2024 m. asignavimai ir kitos lėšos, tūkst. Eur | I13: Pokytis proc. | J13: 2025 m. asignavimų ir kitų lėšų poreikis , tūkst. Eur | K13: 2025 m. asignavimai ir kitos lėšos, tūkst. Eur | L13: 2026 m.asignavimai ir kitos lėšos, tūkst. Eur | M13: 2027 m.asignavimai ir kitos lėšos, tūkst. Eur | N13: Savivaldybės strateginio plėtros plano priemonės kodas | O13: Trumpas priemonės įgyvendinimo aprašymas | Q13: Stebėsenos rodiklio kodas | R13: Stebėsenos rodiklio pavadinimas (matavimo vnt.) | S13: Siektinos stebėsenos rodiklių reikšmės | W13: Savivaldybės strateginio plėtros plano rodiklis
S14: 2024 | T14: 2025 | U14: 2026 | V14: 2027
A15: 02.01.01. (T) | B15: Sudaryti sąlygas ugdyti vaikus ikimokyklinio, bendrojo ugdymo ir neformalaus švietimo įstaigose pagal patvirtintas ugdymo programas, teikti pedagoginę, psichologinę, metodinę, aprūpinimo transportu ir kitą pagalbą mokiniams, mokytojams ir mokykloms | E15: =SUM(E21,E84) -> 14896.322 | F15: =(H15-E15)/E15 -> 0.029956589 | G15: =SUM(G21,G84) -> 14280.704 | H15: =SUM(H21,H84) -> 15342.565 | K15: =SUM(K21,K84) -> 18501.634 | L15: =SUM(L21,L84) -> 19354.747 | M15: =SUM(M21,M84) -> 20358.336 | N15: 2.1.-1 | Q15: E-02-01-01 | R15: Visagino savivaldybės švietimo stebėsenos rodiklių sąraše, patvirtintame 2022-03-14 Visagino savivaldybės administracijos direktoriaus įsakymu Nr. ĮV-E- 123 "Dėl Visagino savivaldybės švietimo stebėsenos rodiklių sąrašo patvirtinimo" įgyvendintų rodiklių skaičius | S15: 34 | T15: 34 | U15: 34 | V15: 34 | W15: Parengtų planų skaičius (vnt.) Įgyvendintų priemonių skaičius proc., nuo visų suplanuotų įgyvendinti
A16: 02.01.01.01. (TP) | B16: Švietimo įstaigų veiklos organizavimas | C16: Įstaigos | D16: SB | E16: =SUM(E22,E26,E31,E36,E41,E46,E51,E55,E60,E66,E71,E75) -> 5936.51 | F16: =H16/E16-1 -> -0.13804575 | G16: =SUM(G22,G26,G31,G36,G41,G46,G51,G55,G60,G66,G71,G75) -> 4657.003 | H16: =SUM(H22,H26,H31,H36,H41,H46,H51,H55,H60,H66,H71,H75) -> 5117 | I16: =K16/H16-1 -> 0.29691616 | J16: =SUM(J22,J26,J31,J36,J41,J46,J51,J55,J60,J66,J71,J75) -> 5557.47 | K16: =SUM(K22,K26,K31,K36,K41,K46,K51,K55,K60,K66,K71,K75) -> 6636.32 | L16: =SUM(L22,L26,L31,L36,L41,L46,L51,L55,L60,L66,L71,L75) -> 6659.42 | M16: =SUM(M22,M26,M31,M36,M41,M46,M51,M55,M60,M66,M71,M75) -> 6973.699 | N16: 2.1.-5-3 | O16: Lopšelio-darželio „Auksinis gaidelis“, vaikų lopšelių-darželių „Auksinis raktelis“, „Ąžuoliukas“, „Gintarėlis“, „Kūlverstukas“, „Verdenės“ gimnazijos, „Žiburio“ pagrindinės mokyklos, „Atgimimo“ gimnazijos, Draugystės ir „Gerosios vilties“ progimnazijų, Visagino kūrybos ir menų akademijos, Švietimo pagalbos tarnybos veiklos organizavimas ir paslaugų užtikrinimas. Priemonės įgyvendinimui stebėti stebėsenos rodikliai patvirtinti Visagino savivaldybės švietimo stebėsenos rodiklių sąraše, patvirtintame 2022-03-14 Visagino savivaldybės administracijos direktoriaus įsakymu Nr. ĮV-E- 123 „Dėl Visagino savivaldybės švietimo stebėsenos rodiklių sąrašo patvirtinimo" . | Q16: R-02-01-01-01 | R16: Įstaigų, kurioms užtikrinamas veiklos finansavimas, skaičius | S16: 12 | T16: 12 | U16: 12 | V16: 12
D17: SB (ĮP) | E17: =SUM(E23,E27,E32,E37,E42,E47,E52,E56,E61,E67,E72,E76) -> 774.452 | F17: =H17/E17-1 -> 0.046933832 | G17: =SUM(G23,G27,G32,G37,G42,G47,G52,G56,G61,G67,G72,G76) -> 804.845 | H17: =SUM(H23,H27,H32,H37,H42,H47,H52,H56,H61,H67,H72,H76) -> 810.8 | I17: =K17/H17-1 -> -0.13579181 | J17: =SUM(J23,J27,J32,J37,J42,J47,J52,J56,J61,J67,J72,J76) -> 755.05 | K17: =SUM(K23,K27,K32,K37,K42,K47,K52,K56,K61,K67,K72,K76) -> 700.7 | L17: =SUM(L23,L27,L32,L37,L42,L47,L52,L56,L61,L67,L72,L76) -> 740.4 | M17: =SUM(M23,M27,M32,M37,M42,M47,M52,M56,M61,M67,M72,M76) -> 780.6
