Workbook

Sheet ATASKAITOS
B2: 6 | D2: TŪKSTANČIAI EURŲ TŪKSTANČIAI EURŲ
B3: 2020 ∑3 | C3: STRAIPSNIAI | D3: 2016 | E3: =D3+1 -> 2017 | F3: =E3+1 -> 2018 | G3: =F3+1 -> 2019 | H3: =G3+1 -> 2020 | I3: =H3+1 -> 2021 | J3: =I3+1 -> 2022 | K3: =J3+1 -> 2023 | L3: =K3+1 -> 2024
B4: Sutrumpinta pelno (nuostolių) ataskaita - PNA Sutrumpinta pelno (nuostolių) ataskaita - PNA
B5: 1095081 | C5: Pardavimai | D5: 1746431 | E5: 1840853 | F5: 1958435 | G5: 2282937 | H5: =IF(ISERROR(ROUND((B5*(12/B2)+B5*(12/B2)*KOREKCIJOS!I11+KOREKCIJOS!I12),0)),0,ROUND((B5*(12/B2)+B5*(12/B2)*KOREKCIJOS!I11+KOREKCIJOS!I12),0)) -> 2190162 | I5: =ROUND((H5+H5*KOREKCIJOS!J9+H5*KOREKCIJOS!J11+KOREKCIJOS!J12),0) -> 2310621 | J5: =ROUND((I5+I5*KOREKCIJOS!K9+I5*KOREKCIJOS!K11+KOREKCIJOS!K12),0) -> 2437705 | K5: =ROUND((J5+J5*KOREKCIJOS!L9+J5*KOREKCIJOS!L11+KOREKCIJOS!L12),0) -> 2571779 | L5: =ROUND((K5+K5*KOREKCIJOS!M9+K5*KOREKCIJOS!M11+KOREKCIJOS!M12),0) -> 2713227
B6: 884582 | C6: Savikaina | D6: 1214375 | E6: 1444305 | F6: 1548652 | G6: 1732496 | H6: =IF(ISERROR(ROUND((H5*((B6-B29)/B5+KOREKCIJOS!I23)+KOREKCIJOS!I24)+H29,0)),0,ROUND((H5*((B6-B29)/B5+KOREKCIJOS!I23)+KOREKCIJOS!I24)+H29,0)) -> 1769164 | I6: =IF(ISERROR(ROUND((I5*((H6-H29)/H5+KOREKCIJOS!J23)+KOREKCIJOS!J24)+I29,0)),0,ROUND((I5*((H6-H29)/H5+KOREKCIJOS!J23)+KOREKCIJOS!J24)+I29,0)) -> 1866468 | J6: =IF(ISERROR(ROUND((J5*((I6-I29)/I5+KOREKCIJOS!K23)+KOREKCIJOS!K24)+J29,0)),0,ROUND((J5*((I6-I29)/I5+KOREKCIJOS!K23)+KOREKCIJOS!K24)+J29,0)) -> 1969124 | K6: =IF(ISERROR(ROUND((K5*((J6-J29)/J5+KOREKCIJOS!L23)+KOREKCIJOS!L24)+K29,0)),0,ROUND((K5*((J6-J29)/J5+KOREKCIJOS!L23)+KOREKCIJOS!L24)+K29,0)) -> 2077426 | L6: =IF(ISERROR(ROUND((L5*((K6-K29)/K5+KOREKCIJOS!M23)+KOREKCIJOS!M24)+L29,0)),0,ROUND((L5*((K6-K29)/K5+KOREKCIJOS!M23)+KOREKCIJOS!M24)+L29,0)) -> 2191685
B7: 267967 | C7: Veiklos sąnaudos | D7: =SUM(140931+411015+2) -> 551948 | E7: =SUM(146119+381857+120) -> 528096 | F7: 461283 | G7: 483264 | H7: =IF(ISERROR(ROUND(H5*(B7/B5+KOREKCIJOS!I37)+KOREKCIJOS!I38,0)),0,ROUND(H5*(B7/B5+KOREKCIJOS!I37)+KOREKCIJOS!I38,0)) -> 535934 | I7: =IF(ISERROR(ROUND(I5*(H7/H5+KOREKCIJOS!J37)+KOREKCIJOS!J38,0)),0,ROUND(I5*(H7/H5+KOREKCIJOS!J37)+KOREKCIJOS!J38,0)) -> 565410 | J7: =IF(ISERROR(ROUND(J5*(I7/I5+KOREKCIJOS!K37)+KOREKCIJOS!K38,0)),0,ROUND(J5*(I7/I5+KOREKCIJOS!K37)+KOREKCIJOS!K38,0)) -> 596508 | K7: =IF(ISERROR(ROUND(K5*(J7/J5+KOREKCIJOS!L37)+KOREKCIJOS!L38,0)),0,ROUND(K5*(J7/J5+KOREKCIJOS!L37)+KOREKCIJOS!L38,0)) -> 629316 | L7: =IF(ISERROR(ROUND(L5*(K7/K5+KOREKCIJOS!M37)+KOREKCIJOS!M38,0)),0,ROUND(L5*(K7/K5+KOREKCIJOS!M37)+KOREKCIJOS!M38,0)) -> 663928
B8: =B5-B6-B7 -> -57468 | C8: VEIKLOS PELNAS | D8: =D5-D6-D7 -> -19892 | E8: =E5-E6-E7 -> -131548 | F8: =F5-F6-F7 -> -51500 | G8: =G5-G6-G7 -> 67177 | H8: =H5-H6-H7 -> -114936 | I8: =I5-I6-I7 -> -121257 | J8: =J5-J6-J7 -> -127927 | K8: =K5-K6-K7 -> -134963 | L8: =L5-L6-L7 -> -142386
B9: 120572 | C9: Kita veikla | D9: 60789 | E9: 130398 | F9: 96985 | G9: -19657 | H9: =IF(ISERROR(ROUND(H5*(B9/B5+KOREKCIJOS!I44)+KOREKCIJOS!I45,0)),0,ROUND(H5*(B9/B5+KOREKCIJOS!I44)+KOREKCIJOS!I45,0)) -> 241144 | I9: =IF(ISERROR(ROUND(I5*(H9/H5+KOREKCIJOS!J44)+KOREKCIJOS!J45,0)),0,ROUND(I5*(H9/H5+KOREKCIJOS!J44)+KOREKCIJOS!J45,0)) -> 254407 | J9: =IF(ISERROR(ROUND(J5*(I9/I5+KOREKCIJOS!K44)+KOREKCIJOS!K45,0)),0,ROUND(J5*(I9/I5+KOREKCIJOS!K44)+KOREKCIJOS!K45,0)) -> 268399 | K9: =IF(ISERROR(ROUND(K5*(J9/J5+KOREKCIJOS!L44)+KOREKCIJOS!L45,0)),0,ROUND(K5*(J9/J5+KOREKCIJOS!L44)+KOREKCIJOS!L45,0)) -> 283161 | L9: =IF(ISERROR(ROUND(L5*(K9/K5+KOREKCIJOS!M44)+KOREKCIJOS!M45,0)),0,ROUND(L5*(K9/K5+KOREKCIJOS!M44)+KOREKCIJOS!M45,0)) -> 298735
B10: 4728 | C10: FIN veikla | D10: 16649 | E10: 17316 | F10: 15924 | G10: 14650 | H10: =IF(ISERROR(ROUND(H5*(B10+B30)/B5+KOREKCIJOS!I56,0)-H30),0,ROUND(H5*(B10+B30)/B5+KOREKCIJOS!I56,0)-H30) -> 9456 | I10: =IF(ISERROR(ROUND(I5*(H10+H30)/H5+KOREKCIJOS!J56,0)-I30),0,ROUND(I5*(H10+H30)/H5+KOREKCIJOS!J56,0)-I30) -> 9976 | J10: =IF(ISERROR(ROUND(J5*(I10+I30)/I5+KOREKCIJOS!K56,0)-J30),0,ROUND(J5*(I10+I30)/I5+KOREKCIJOS!K56,0)-J30) -> 10525 | K10: =IF(ISERROR(ROUND(K5*(J10+J30)/J5+KOREKCIJOS!L56,0)-K30),0,ROUND(K5*(J10+J30)/J5+KOREKCIJOS!L56,0)-K30) -> 11104 | L10: =IF(ISERROR(ROUND(L5*(K10+K30)/K5+KOREKCIJOS!M56,0)-L30),0,ROUND(L5*(K10+K30)/K5+KOREKCIJOS!M56,0)-L30) -> 11715
B11: 0 | C11: Pelno mokestis | D11: 18017 | E11: 16527 | F11: 1381 | G11: 10046 | H11: =ROUND(IF((H8+H9+H10)*KOREKCIJOS!I1<0,0,(H8+H9+H10)*KOREKCIJOS!I1),0) -> 20350 | I11: =ROUND(IF((I8+I9+I10)*KOREKCIJOS!J1<0,0,(I8+I9+I10)*KOREKCIJOS!J1),0) -> 21469 | J11: =ROUND(IF((J8+J9+J10)*KOREKCIJOS!K1<0,0,(J8+J9+J10)*KOREKCIJOS!K1),0) -> 22650 | K11: =ROUND(IF((K8+K9+K10)*KOREKCIJOS!L1<0,0,(K8+K9+K10)*KOREKCIJOS!L1),0) -> 23895 | L11: =ROUND(IF((L8+L9+L10)*KOREKCIJOS!M1<0,0,(L8+L9+L10)*KOREKCIJOS!M1),0) -> 25210
B12: =B5-B6-B7+B9+B10-B11 -> 67832 | C12: GRYNASIS PELNAS | D12: =D5-D6-D7+D9+D10-D11 -> 39529 | E12: =E5-E6-E7+E9+E10-E11 -> -361 | F12: =F5-F6-F7+F9+F10-F11 -> 60028 | G12: =G5-G6-G7+G9+G10-G11 -> 52124 | H12: =H5-H6-H7+H9+H10-H11 -> 115314 | I12: =I5-I6-I7+I9+I10-I11 -> 121657 | J12: =J5-J6-J7+J9+J10-J11 -> 128347 | K12: =K5-K6-K7+K9+K10-K11 -> 135407 | L12: =L5-L6-L7+L9+L10-L11 -> 142854
B13: =B12+B11+B30+B29 -> 67832 | C13: EBIDTA | D13: =D12+D11+D30+D29 -> 211211 | E13: =E12+E11+E30+E29 -> 131099 | F13: =F12+F11+F30+F29 -> 170469 | G13: =G12+G11+G30+G29 -> 170334 | H13: =H12+H11+H30+H29 -> 135664 | I13: =I12+I11+I30+I29 -> 143126 | J13: =J12+J11+J30+J29 -> 150997 | K13: =K12+K11+K30+K29 -> 159302 | L13: =L12+L11+L30+L29 -> 168064
B15: Sutrumpinta balansinė ataskaita - BA Sutrumpinta balansinė ataskaita - BA
B16: 1271522 | C16: Ilgalaikis turtas | D16: 828622 | E16: 1129467 | F16: 1370374 | G16: 1314557 | H16: =ROUND((B16-(H29-B29))+KOREKCIJOS!I105-KOREKCIJOS!I106+KOREKCIJOS!I107,0) -> 1271522 | I16: =ROUND(H16-I29+KOREKCIJOS!J105-KOREKCIJOS!J106+KOREKCIJOS!J107,0) -> 1271522 | J16: =ROUND(I16-J29+KOREKCIJOS!K105-KOREKCIJOS!K106+KOREKCIJOS!K107,0) -> 1271522 | K16: =ROUND(J16-K29+KOREKCIJOS!L105-KOREKCIJOS!L106+KOREKCIJOS!L107,0) -> 1271522 | L16: =ROUND(K16-L29+KOREKCIJOS!M105-KOREKCIJOS!M106+KOREKCIJOS!M107,0) -> 1271522
B17: 145492 | C17: Atsargos | D17: 101906 | E17: 86459 | F17: 111374 | G17: 116980 | H17: =IF(ISERROR(ROUND(H5*(B17/(B5*12/B2)*365+KOREKCIJOS!I93)/365+KOREKCIJOS!I94,0)),0,ROUND(H5*(B17/(B5*12/B2)*365+KOREKCIJOS!I93)/365+KOREKCIJOS!I94,0)) -> 145492 | I17: =IF(ISERROR(ROUND(I5*(H17/H5*365+KOREKCIJOS!J93)/365+KOREKCIJOS!J94,0)),0,ROUND(I5*(H17/H5*365+KOREKCIJOS!J93)/365+KOREKCIJOS!J94,0)) -> 153494 | J17: =IF(ISERROR(ROUND(J5*(I17/I5*365+KOREKCIJOS!K93)/365+KOREKCIJOS!K94,0)),0,ROUND(J5*(I17/I5*365+KOREKCIJOS!K93)/365+KOREKCIJOS!K94,0)) -> 161936 | K17: =IF(ISERROR(ROUND(K5*(J17/J5*365+KOREKCIJOS!L93)/365+KOREKCIJOS!L94,0)),0,ROUND(K5*(J17/J5*365+KOREKCIJOS!L93)/365+KOREKCIJOS!L94,0)) -> 170842 | L17: =IF(ISERROR(ROUND(L5*(K17/K5*365+KOREKCIJOS!M93)/365+KOREKCIJOS!M94,0)),0,ROUND(L5*(K17/K5*365+KOREKCIJOS!M93)/365+KOREKCIJOS!M94,0)) -> 180238
B18: 528504 | C18: Gautinos sumos | D18: 407278 | E18: 490011 | F18: 394204 | G18: 290348 | H18: =IF(ISERROR(ROUND(H5*(B18/(B5*12/B2)*365+KOREKCIJOS!I99)/365+KOREKCIJOS!I100,0)),0,ROUND(H5*(B18/(B5*12/B2)*365+KOREKCIJOS!I99)/365+KOREKCIJOS!I100,0)) -> 528504 | I18: =IF(ISERROR(ROUND(I5*(H18/H5*365+KOREKCIJOS!J99)/365+KOREKCIJOS!J100,0)),0,ROUND(I5*(H18/H5*365+KOREKCIJOS!J99)/365+KOREKCIJOS!J100,0)) -> 557572 | J18: =IF(ISERROR(ROUND(J5*(I18/I5*365+KOREKCIJOS!K99)/365+KOREKCIJOS!K100,0)),0,ROUND(J5*(I18/I5*365+KOREKCIJOS!K99)/365+KOREKCIJOS!K100,0)) -> 588238 | K18: =IF(ISERROR(ROUND(K5*(J18/J5*365+KOREKCIJOS!L99)/365+KOREKCIJOS!L100,0)),0,ROUND(K5*(J18/J5*365+KOREKCIJOS!L99)/365+KOREKCIJOS!L100,0)) -> 620591 | L18: =IF(ISERROR(ROUND(L5*(K18/K5*365+KOREKCIJOS!M99)/365+KOREKCIJOS!M100,0)),0,ROUND(L5*(K18/K5*365+KOREKCIJOS!M99)/365+KOREKCIJOS!M100,0)) -> 654724
B19: 602550 | C19: Kitas trumpalaikis turtas | D19: 658214 | E19: 300192 | F19: 200000 | G19: 499900 | H19: =IF(ISERROR(ROUND((G19+(B19-G19)*12/B2)+KOREKCIJOS!I88,0)),0,ROUND((G19+(B19-G19)*12/B2)+KOREKCIJOS!I88,0)) -> 705200 | I19: =ROUND(H19+KOREKCIJOS!J88,0) -> 705200 | J19: =ROUND(I19+KOREKCIJOS!K88,0) -> 705200 | K19: =ROUND(J19+KOREKCIJOS!L88,0) -> 705200 | L19: =ROUND(K19+KOREKCIJOS!M88,0) -> 705200
B20: 2197779 | C20: Pinigai | D20: =SUM(1874747+6013) -> 1880760 | E20: 2428683 | F20: 2867889 | G20: 2393042 | H20: =G20+H44 -> 2201628 | I20: =H20+I44 -> 2289270 | J20: =I20+J44 -> 2381732 | K20: =J20+K44 -> 2479280 | L20: =K20+L44 -> 2582192
B21: =SUM(B16:B20) -> 4745847 | C21: T U R T A S | D21: =SUM(D16:D20) -> 3876780 | E21: =SUM(E16:E20) -> 4434812 | F21: =SUM(F16:F20) -> 4943841 | G21: =SUM(G16:G20) -> 4614827 | H21: =SUM(H16:H20) -> 4852346 | I21: =SUM(I16:I20) -> 4977058 | J21: =SUM(J16:J20) -> 5108628 | K21: =SUM(K16:K20) -> 5247435 | L21: =SUM(L16:L20) -> 5393876
B22: 3420672 | C22: Nuosavas kapitalas | D22: 2471468 | E22: 2995727 | F22: 3350234 | G22: 3355320 | H22: =ROUND(G22+H12+KOREKCIJOS!I67-KOREKCIJOS!I68,0) -> 3470634 | I22: =ROUND(H22+I12+KOREKCIJOS!J67-KOREKCIJOS!J68,0) -> 3592291 | J22: =ROUND(I22+J12+KOREKCIJOS!K67-KOREKCIJOS!K68,0) -> 3720638 | K22: =ROUND(J22+K12+KOREKCIJOS!L67-KOREKCIJOS!L68,0) -> 3856045 | L22: =ROUND(K22+L12+KOREKCIJOS!M67-KOREKCIJOS!M68,0) -> 3998899
B23: 157071 | C23: Finansinės skolos | D23: 74303 | E23: 97386 | F23: 140302 | G23: 147603 | H23: =IF(ISERROR(ROUND((G23+(B23-G23)*12/B2)+KOREKCIJOS!I73-KOREKCIJOS!I74,0)),0,ROUND((G23+(B23-G23)*12/B2)+KOREKCIJOS!I73-KOREKCIJOS!I74,0)) -> 166539 | I23: =ROUND(H23+KOREKCIJOS!J73-KOREKCIJOS!J74,0) -> 166539 | J23: =ROUND(I23+KOREKCIJOS!K73-KOREKCIJOS!K74,0) -> 166539 | K23: =ROUND(J23+KOREKCIJOS!L73-KOREKCIJOS!L74,0) -> 166539 | L23: =ROUND(K23+KOREKCIJOS!M73-KOREKCIJOS!M74,0) -> 166539
B24: 55541 | C24: Prekybinės skolos | D24: 25944 | E24: 77897 | F24: 138833 | G24: 46410 | H24: =IF(ISERROR(ROUND(H5*(B24/(B5*12/B2)*365+KOREKCIJOS!I79)/365+KOREKCIJOS!I80,0)),0,ROUND(H5*(B24/(B5*12/B2)*365+KOREKCIJOS!I79)/365+KOREKCIJOS!I80,0)) -> 55541 | I24: =IF(ISERROR(ROUND(I5*(H24/H5*365+KOREKCIJOS!J79)/365+KOREKCIJOS!J80,0)),0,ROUND(I5*(H24/H5*365+KOREKCIJOS!J79)/365+KOREKCIJOS!J80,0)) -> 58596 | J24: =IF(ISERROR(ROUND(J5*(I24/I5*365+KOREKCIJOS!K79)/365+KOREKCIJOS!K80,0)),0,ROUND(J5*(I24/I5*365+KOREKCIJOS!K79)/365+KOREKCIJOS!K80,0)) -> 61819 | K24: =IF(ISERROR(ROUND(K5*(J24/J5*365+KOREKCIJOS!L79)/365+KOREKCIJOS!L80,0)),0,ROUND(K5*(J24/J5*365+KOREKCIJOS!L79)/365+KOREKCIJOS!L80,0)) -> 65219 | L24: =IF(ISERROR(ROUND(L5*(K24/K5*365+KOREKCIJOS!M79)/365+KOREKCIJOS!M80,0)),0,ROUND(L5*(K24/K5*365+KOREKCIJOS!M79)/365+KOREKCIJOS!M80,0)) -> 68806
B25: 1112563 | C25: Kitos skolos | D25: 1305065 | E25: 1263802 | F25: 1314472 | G25: 1065494 | H25: =IF(ISERROR(ROUND((G25+(B25-G25)*12/B2)+KOREKCIJOS!I84,0)),0,ROUND((G25+(B25-G25)*12/B2)+KOREKCIJOS!I84,0)) -> 1159632 | I25: =ROUND(H25+KOREKCIJOS!J84,0) -> 1159632 | J25: =ROUND(I25+KOREKCIJOS!K84,0) -> 1159632 | K25: =ROUND(J25+KOREKCIJOS!L84,0) -> 1159632 | L25: =ROUND(K25+KOREKCIJOS!M84,0) -> 1159632
B26: =SUM(B22:B25) -> 4745847 | C26: K A P I T A L A S | D26: =SUM(D22:D25) -> 3876780 | E26: =SUM(E22:E25) -> 4434812 | F26: =SUM(F22:F25) -> 4943841 | G26: =SUM(G22:G25) -> 4614827 | H26: =SUM(H22:H25) -> 4852346 | I26: =SUM(I22:I25) -> 4977058 | J26: =SUM(J22:J25) -> 5108628 | K26: =SUM(K22:K25) -> 5247435 | L26: =SUM(L22:L25) -> 5393876
B28: Papildomų įmonės finansinių dydžių lentelė Papildomų įmonės finansinių dydžių lentelė
B29: 0 | C29: Nusidėvėjimas ir amortizacija | D29: 149593 | E29: 112084 | F29: 107241 | G29: 106206 | H29: =IF(ISERROR(ROUND((B29*12/B2)+KOREKCIJOS!I30-KOREKCIJOS!I31+KOREKCIJOS!I29,0)),0,ROUND((B29*12/B2)+KOREKCIJOS!I30-KOREKCIJOS!I31+KOREKCIJOS!I29,0)) -> 0 | I29: =IF(ISERROR(ROUND((H16/(H16/H29))+KOREKCIJOS!J30-KOREKCIJOS!J31+KOREKCIJOS!J29,0)),0,ROUND((H16/(H16/H29))+KOREKCIJOS!J30-KOREKCIJOS!J31+KOREKCIJOS!J29,0)) -> 0 | J29: =IF(ISERROR(ROUND((I16/(I16/I29))+KOREKCIJOS!K30-KOREKCIJOS!K31+KOREKCIJOS!K29,0)),0,ROUND((I16/(I16/I29))+KOREKCIJOS!K30-KOREKCIJOS!K31+KOREKCIJOS!K29,0)) -> 0 | K29: =IF(ISERROR(ROUND((J16/(J16/J29))+KOREKCIJOS!L30-KOREKCIJOS!L31+KOREKCIJOS!L29,0)),0,ROUND((J16/(J16/J29))+KOREKCIJOS!L30-KOREKCIJOS!L31+KOREKCIJOS!L29,0)) -> 0 | L29: =IF(ISERROR(ROUND((K16/(K16/K29))+KOREKCIJOS!M30-KOREKCIJOS!M31+KOREKCIJOS!M29,0)),0,ROUND((K16/(K16/K29))+KOREKCIJOS!M30-KOREKCIJOS!M31+KOREKCIJOS!M29,0)) -> 0
B30: 0 | C30: Sumokėtos palūkanos | D30: 4072 | E30: 2849 | F30: 1819 | G30: 1958 | H30: =IF(ISERROR(ROUND(((B30*12/B2)/B23+KOREKCIJOS!I62)*H23+KOREKCIJOS!I63,0)),0,ROUND(((B30*12/B2)/B23+KOREKCIJOS!I62)*H23+KOREKCIJOS!I63,0)) -> 0 | I30: =IF(ISERROR(ROUND((H30/H23+KOREKCIJOS!J62)*I23+KOREKCIJOS!J63,0)),0,ROUND((H30/H23+KOREKCIJOS!J62)*I23+KOREKCIJOS!J63,0)) -> 0 | J30: =IF(ISERROR(ROUND((I30/I23+KOREKCIJOS!K62)*J23+KOREKCIJOS!K63,0)),0,ROUND((I30/I23+KOREKCIJOS!K62)*J23+KOREKCIJOS!K63,0)) -> 0 | K30: =IF(ISERROR(ROUND((J30/J23+KOREKCIJOS!L62)*K23+KOREKCIJOS!L63,0)),0,ROUND((J30/J23+KOREKCIJOS!L62)*K23+KOREKCIJOS!L63,0)) -> 0 | L30: =IF(ISERROR(ROUND((K30/K23+KOREKCIJOS!M62)*L23+KOREKCIJOS!M63,0)),0,ROUND((K30/K23+KOREKCIJOS!M62)*L23+KOREKCIJOS!M63,0)) -> 0
B32: Mini pinigų srautų modelio ataskaita - PS Mini pinigų srautų modelio ataskaita - PS
B33: =(B5-B6-B7) -> -57468 | C33: Veiklos pelnas | E33: =(E5-E6-E7) -> -131548 | F33: =(F5-F6-F7) -> -51500 | G33: =(G5-G6-G7) -> 67177 | H33: =(H5-H6-H7) -> -114936 | I33: =(I5-I6-I7) -> -121257 | J33: =(J5-J6-J7) -> -127927 | K33: =(K5-K6-K7) -> -134963 | L33: =(L5-L6-L7) -> -142386
B34: =B29 -> 0 | C34: Amortizacija ir nusidėvėjimas | E34: =E29 -> 112084 | F34: =F29 -> 107241 | G34: =G29 -> 106206 | H34: =H29 -> 0 | I34: =I29 -> 0 | J34: =J29 -> 0 | K34: =K29 -> 0 | L34: =L29 -> 0
B35: =B9 -> 120572 | C35: Kita veikla | E35: =E9 -> 130398 | F35: =F9 -> 96985 | G35: =G9 -> -19657 | H35: =H9 -> 241144 | I35: =I9 -> 254407 | J35: =J9 -> 268399 | K35: =K9 -> 283161 | L35: =L9 -> 298735
B36: =(G19-B19) -> -102650 | C36: Kito įmonės turto pokytis | E36: =(D19-E19) -> 358022 | F36: =(E19-F19) -> 100192 | G36: =(F19-G19) -> -299900 | H36: =(G19-H19) -> -205300 | I36: =(H19-I19) -> 0 | J36: =(I19-J19) -> 0 | K36: =(J19-K19) -> 0 | L36: =(K19-L19) -> 0
B37: =(G17-B17)+(G18-B18)+(B24-G24)+(B25-G25) -> -210468 | C37: NWC pokytis | E37: =(D17-E17)+(D18-E18)+(E24-D24)+(E25-D25) -> -56596 | F37: =(E17-F17)+(E18-F18)+(F24-E24)+(F25-E25) -> 182498 | G37: =(F17-G17)+(F18-G18)+(G24-F24)+(G25-F25) -> -243151 | H37: =(G17-H17)+(G18-H18)+(H24-G24)+(H25-G25) -> -163399 | I37: =(H17-I17)+(H18-I18)+(I24-H24)+(I25-H25) -> -34015 | J37: =(I17-J17)+(I18-J18)+(J24-I24)+(J25-I25) -> -35885 | K37: =(J17-K17)+(J18-K18)+(K24-J24)+(K25-J25) -> -37859 | L37: =(K17-L17)+(K18-L18)+(L24-K24)+(L25-K25) -> -39942
B38: =B10 -> 4728 | C38: FIN veikla | E38: =E10 -> 17316 | F38: =F10 -> 15924 | G38: =G10 -> 14650 | H38: =H10 -> 9456 | I38: =I10 -> 9976 | J38: =J10 -> 10525 | K38: =K10 -> 11104 | L38: =L10 -> 11715
B39: =-B11 -> 0 | C39: Pelno mokestis | E39: =-E11 -> -16527 | F39: =-F11 -> -1381 | G39: =-G11 -> -10046 | H39: =-H11 -> -20350 | I39: =-I11 -> -21469 | J39: =-J11 -> -22650 | K39: =-K11 -> -23895 | L39: =-L11 -> -25210
B40: =SUM(B33:B39) -> -245286 | C40: Veiklos pinigų srautas | E40: =SUM(E33:E39) -> 413149 | F40: =SUM(F33:F39) -> 449959 | G40: =SUM(G33:G39) -> -384721 | H40: =SUM(H33:H39) -> -253385 | I40: =SUM(I33:I39) -> 87642 | J40: =SUM(J33:J39) -> 92462 | K40: =SUM(K33:K39) -> 97548 | L40: =SUM(L33:L39) -> 102912
B41: =(G16-B16)-B29 -> 43035 | C41: Turto investicijos | E41: =(D16-E16)-E29 -> -412929 | F41: =E16-F16-F29 -> -348148 | G41: =F16-G16-G29 -> -50389 | H41: =G16-H16-H29 -> 43035 | I41: =H16-I16-I29 -> 0 | J41: =I16-J16-J29 -> 0 | K41: =J16-K16-K29 -> 0 | L41: =K16-L16-L29 -> 0
B42: =B23-G23 -> 9468 | C42: Finansinių skolų pokytis | E42: =E23-D23 -> 23083 | F42: =F23-E23 -> 42916 | G42: =G23-F23 -> 7301 | H42: =H23-G23 -> 18936 | I42: =I23-H23 -> 0 | J42: =J23-I23 -> 0 | K42: =K23-J23 -> 0 | L42: =L23-K23 -> 0
B43: =B22-G22-B12 -> -2480 | C43: Nuosavo kapitalo pokytis | E43: =E22-D22-E12 -> 524620 | F43: =F22-E22-F12 -> 294479 | G43: =G22-F22-G12 -> -47038 | H43: =H22-G22-H12 -> 0 | I43: =I22-H22-I12 -> 0 | J43: =J22-I22-J12 -> 0 | K43: =K22-J22-K12 -> 0 | L43: =L22-K22-L12 -> 0
B44: =SUM(B33:B39)+SUM(B41:B43) -> -195263 | C44: Grynųjų pinigų srautas | E44: =SUM(E33:E39)+SUM(E41:E43) -> 547923 | F44: =SUM(F33:F39)+SUM(F41:F43) -> 439206 | G44: =SUM(G33:G39)+SUM(G41:G43) -> -474847 | H44: =SUM(H33:H39)+SUM(H41:H43) -> -191414 | I44: =SUM(I33:I39)+SUM(I41:I43) -> 87642 | J44: =SUM(J33:J39)+SUM(J41:J43) -> 92462 | K44: =SUM(K33:K39)+SUM(K41:K43) -> 97548 | L44: =SUM(L33:L39)+SUM(L41:L43) -> 102912
...

Sheet KOREKCIJOS
B1: Pelno mokestis | I1: 0.15 | J1: 0.15 | K1: 0.15 | L1: 0.15 | M1: 0.15
B2: Infliacija SVKI ( Fin.Min.) | J2: 0.005 | K2: 0.005 | L2: 0.005 | M2: 0.005
B3: BVP augimas ( Fin.Min.) | J3: 0.05 | K3: 0.05 | L3: 0.05 | M3: 0.05
B5: RODIKLIAI | E5: =ATASKAITOS!D3 -> 2016 | F5: =ATASKAITOS!E3 -> 2017 | G5: =ATASKAITOS!F3 -> 2018 | H5: =ATASKAITOS!G3 -> 2019 | I5: =ATASKAITOS!H3 -> 2020 | J5: =ATASKAITOS!I3 -> 2021 | K5: =ATASKAITOS!J3 -> 2022 | L5: =ATASKAITOS!K3 -> 2023 | M5: =ATASKAITOS!L3 -> 2024
B7: Pardavimai, Eur | E7: =ATASKAITOS!D5 -> 1746431 | F7: =ATASKAITOS!E5 -> 1840853 | G7: =ATASKAITOS!F5 -> 1958435 | H7: =ATASKAITOS!G5 -> 2282937 | I7: =ATASKAITOS!H5 -> 2190162 | J7: =ATASKAITOS!I5 -> 2310621 | K7: =ATASKAITOS!J5 -> 2437705 | L7: =ATASKAITOS!K5 -> 2571779 | M7: =ATASKAITOS!L5 -> 2713227
B8: Pardavimų augimo tempas (PAT) | F8: =IF(ISERROR(F7/E7-1),"-",F7/E7-1) -> 0.054065692 | G8: =IF(ISERROR(G7/F7-1),"-",G7/F7-1) -> 0.06387365 | H8: =IF(ISERROR(H7/G7-1),"-",H7/G7-1) -> 0.16569455 | I8: =IF(ISERROR(I7/H7-1),"-",I7/H7-1) -> -0.040638441 | J8: =IF(ISERROR(J7/I7-1),"-",J7/I7-1) -> 0.055000041 | K8: =IF(ISERROR(K7/J7-1),"-",K7/J7-1) -> 0.054999933 | L8: =IF(ISERROR(L7/K7-1),"-",L7/K7-1) -> 0.055000092 | M8: =IF(ISERROR(M7/L7-1),"-",M7/L7-1) -> 0.05500006
B9: Pradinis PAT | I9: =IF(ISERROR(ATASKAITOS!B5*(12/ATASKAITOS!B2)/ATASKAITOS!G5-1),"-",ATASKAITOS!B5*(12/ATASKAITOS!B2)/ATASKAITOS!G5-1) -> -0.040638441 | J9: =J2+J3 -> 0.055 | K9: =K2+K3 -> 0.055 | L9: =L2+L3 -> 0.055 | M9: =M2+M3 -> 0.055
B10: Pardavimai - Pradiniai pardavimai, Eur | I10: =IF(ISERROR(I7-ROUND(H7+H7*I9,0)),"-",I7-ROUND(H7+H7*I9,0)) -> 0 | J10: =J7-ROUND(I7+I7*J9,0) -> 0 | K10: =K7-ROUND(J7+J7*K9,0) -> 0 | L10: =L7-ROUND(K7+K7*L9,0) -> 0 | M10: =M7-ROUND(L7+L7*M9,0) -> 0
B11: 1) koeficiento didinimas (mažinimas) | I11: 0 | J11: 0 | K11: 0 | L11: 0 | M11: 0
B12: 2) didinimas (mažinimas) Eur | I12: 0 | J12: 0 | K12: 0 | L12: 0 | M12: 0
B14: Savikaina, Eur | E14: =ATASKAITOS!D6 -> 1214375 | F14: =ATASKAITOS!E6 -> 1444305 | G14: =ATASKAITOS!F6 -> 1548652 | H14: =ATASKAITOS!G6 -> 1732496 | I14: =ATASKAITOS!H6 -> 1769164 | J14: =ATASKAITOS!I6 -> 1866468 | K14: =ATASKAITOS!J6 -> 1969124 | L14: =ATASKAITOS!K6 -> 2077426 | M14: =ATASKAITOS!L6 -> 2191685
B15: Savikaina / Pardavimai rodiklis | D15: Pardavimų Savikaina % | E15: =IF(ISERROR(ATASKAITOS!D6/ATASKAITOS!D5),"-",ATASKAITOS!D6/ATASKAITOS!D5) -> 0.69534668 | F15: =IF(ISERROR(ATASKAITOS!E6/ATASKAITOS!E5),"-",ATASKAITOS!E6/ATASKAITOS!E5) -> 0.78458465 | G15: =IF(ISERROR(ATASKAITOS!F6/ATASKAITOS!F5),"-",ATASKAITOS!F6/ATASKAITOS!F5) -> 0.79075997 | H15: =IF(ISERROR(ATASKAITOS!G6/ATASKAITOS!G5),"-",ATASKAITOS!G6/ATASKAITOS!G5) -> 0.7588891 | I15: =IF(ISERROR(ATASKAITOS!H6/ATASKAITOS!H5),"-",ATASKAITOS!H6/ATASKAITOS!H5) -> 0.80777769 | J15: =IF(ISERROR(ATASKAITOS!I6/ATASKAITOS!I5),"-",ATASKAITOS!I6/ATASKAITOS!I5) -> 0.80777765 | K15: =IF(ISERROR(ATASKAITOS!J6/ATASKAITOS!J5),"-",ATASKAITOS!J6/ATASKAITOS!J5) -> 0.80777781 | L15: =IF(ISERROR(ATASKAITOS!K6/ATASKAITOS!K5),"-",ATASKAITOS!K6/ATASKAITOS!K5) -> 0.80777781 | M15: =IF(ISERROR(ATASKAITOS!L6/ATASKAITOS!L5),"-",ATASKAITOS!L6/ATASKAITOS!L5) -> 0.80777797
B16: Pradinis Savikaina / Pardavimai rodiklis | D16: Pardavimų Savikaina % | I16: =IF(ISERROR(ATASKAITOS!B6/ATASKAITOS!B5),"-",ATASKAITOS!B6/ATASKAITOS!B5) -> 0.80777769 | J16: =IF(ISERROR(ATASKAITOS!H6/ATASKAITOS!H5),"-",ATASKAITOS!H6/ATASKAITOS!H5) -> 0.80777769 | K16: =IF(ISERROR(ATASKAITOS!I6/ATASKAITOS!I5),"-",ATASKAITOS!I6/ATASKAITOS!I5) -> 0.80777765 | L16: =IF(ISERROR(ATASKAITOS!J6/ATASKAITOS!J5),"-",ATASKAITOS!J6/ATASKAITOS!J5) -> 0.80777781 | M16: =IF(ISERROR(ATASKAITOS!K6/ATASKAITOS!K5),"-",ATASKAITOS!K6/ATASKAITOS!K5) -> 0.80777781
B17: Savikaina - Pradinė savikaina, Eur | I17: =IF(ISERROR(I14-ROUND(I7*I16,0)),"-",I14-ROUND(I7*I16,0)) -> 0 | J17: =IF(ISERROR(J14-ROUND(J7*J16,0)),"-",J14-ROUND(J7*J16,0)) -> 0 | K17: =IF(ISERROR(K14-ROUND(K7*K16,0)),"-",K14-ROUND(K7*K16,0)) -> 0 | L17: =IF(ISERROR(L14-ROUND(L7*L16,0)),"-",L14-ROUND(L7*L16,0)) -> 0 | M17: =IF(ISERROR(M14-ROUND(M7*M16,0)),"-",M14-ROUND(M7*M16,0)) -> 0
B19: Savikaina -NIRA (S-NIRA), Eur | E19: =ATASKAITOS!D6-ATASKAITOS!D29 -> 1064782 | F19: =ATASKAITOS!E6-ATASKAITOS!E29 -> 1332221 | G19: =ATASKAITOS!F6-ATASKAITOS!F29 -> 1441411 | H19: =ATASKAITOS!G6-ATASKAITOS!G29 -> 1626290 | I19: =ATASKAITOS!H6-ATASKAITOS!H29 -> 1769164 | J19: =ATASKAITOS!I6-ATASKAITOS!I29 -> 1866468 | K19: =ATASKAITOS!J6-ATASKAITOS!J29 -> 1969124 | L19: =ATASKAITOS!K6-ATASKAITOS!K29 -> 2077426 | M19: =ATASKAITOS!L6-ATASKAITOS!L29 -> 2191685
B20: S-NIRA / Pardavimai rodiklis | D20: Pardavimų Savikaina % | E20: =IF(ISERROR((ATASKAITOS!D6-ATASKAITOS!D29)/ATASKAITOS!D5),"-",(ATASKAITOS!D6-ATASKAITOS!D29)/ATASKAITOS!D5) -> 0.60969028 | F20: =IF(ISERROR((ATASKAITOS!E6-ATASKAITOS!E29)/ATASKAITOS!E5),"-",(ATASKAITOS!E6-ATASKAITOS!E29)/ATASKAITOS!E5) -> 0.72369766 | G20: =IF(ISERROR((ATASKAITOS!F6-ATASKAITOS!F29)/ATASKAITOS!F5),"-",(ATASKAITOS!F6-ATASKAITOS!F29)/ATASKAITOS!F5) -> 0.73600145 | H20: =IF(ISERROR((ATASKAITOS!G6-ATASKAITOS!G29)/ATASKAITOS!G5),"-",(ATASKAITOS!G6-ATASKAITOS!G29)/ATASKAITOS!G5) -> 0.71236745 | I20: =IF(ISERROR((ATASKAITOS!H6-ATASKAITOS!H29)/ATASKAITOS!H5),"-",(ATASKAITOS!H6-ATASKAITOS!H29)/ATASKAITOS!H5) -> 0.80777769 | J20: =IF(ISERROR((ATASKAITOS!I6-ATASKAITOS!I29)/ATASKAITOS!I5),"-",(ATASKAITOS!I6-ATASKAITOS!I29)/ATASKAITOS!I5) -> 0.80777765 | K20: =IF(ISERROR((ATASKAITOS!J6-ATASKAITOS!J29)/ATASKAITOS!J5),"-",(ATASKAITOS!J6-ATASKAITOS!J29)/ATASKAITOS!J5) -> 0.80777781 | L20: =IF(ISERROR((ATASKAITOS!K6-ATASKAITOS!K29)/ATASKAITOS!K5),"-",(ATASKAITOS!K6-ATASKAITOS!K29)/ATASKAITOS!K5) -> 0.80777781 | M20: =IF(ISERROR((ATASKAITOS!L6-ATASKAITOS!L29)/ATASKAITOS!L5),"-",(ATASKAITOS!L6-ATASKAITOS!L29)/ATASKAITOS!L5) -> 0.80777797
B21: Pradinis S-NIRA / Pardavimai rodiklis | D21: Pardavimų Savikaina % | I21: =IF(ISERROR((ATASKAITOS!B6-ATASKAITOS!B29)/ATASKAITOS!B5),"-",(ATASKAITOS!B6-ATASKAITOS!B29)/ATASKAITOS!B5) -> 0.80777769 | J21: =IF(ISERROR((ATASKAITOS!H6-ATASKAITOS!H29)/ATASKAITOS!H5),"-",(ATASKAITOS!H6-ATASKAITOS!H29)/ATASKAITOS!H5) -> 0.80777769 | K21: =IF(ISERROR((ATASKAITOS!I6-ATASKAITOS!I29)/ATASKAITOS!I5),"-",(ATASKAITOS!I6-ATASKAITOS!I29)/ATASKAITOS!I5) -> 0.80777765 | L21: =IF(ISERROR((ATASKAITOS!J6-ATASKAITOS!J29)/ATASKAITOS!J5),"-",(ATASKAITOS!J6-ATASKAITOS!J29)/ATASKAITOS!J5) -> 0.80777781 | M21: =IF(ISERROR((ATASKAITOS!K6-ATASKAITOS!K29)/ATASKAITOS!K5),"-",(ATASKAITOS!K6-ATASKAITOS!K29)/ATASKAITOS!K5) -> 0.80777781
B22: S-NIRA - Pradinis S-NIRA, Eur | I22: =IF(ISERROR(I19-ROUND(I7*I21,0)),"-",I19-ROUND(I7*I21,0)) -> 0 | J22: =IF(ISERROR(J19-ROUND(J7*J21,0)),"-",J19-ROUND(J7*J21,0)) -> 0 | K22: =IF(ISERROR(K19-ROUND(K7*K21,0)),"-",K19-ROUND(K7*K21,0)) -> 0 | L22: =IF(ISERROR(L19-ROUND(L7*L21,0)),"-",L19-ROUND(L7*L21,0)) -> 0 | M22: =IF(ISERROR(M19-ROUND(M7*M21,0)),"-",M19-ROUND(M7*M21,0)) -> 0
B23: 1) koeficiento didinimas (mažinimas) | I23: 0 | J23: 0 | K23: 0 | L23: 0 | M23: 0
B24: 2) didinimas (mažinimas) Eur | I24: 0 | J24: 0 | K24: 0 | L24: 0 | M24: 0
B26: Nusidėvėjimas ir amortizacija (NIRA), Eur | E26: =ATASKAITOS!D29 -> 149593 | F26: =ATASKAITOS!E29 -> 112084 | G26: =ATASKAITOS!F29 -> 107241 | H26: =ATASKAITOS!G29 -> 106206 | I26: =ATASKAITOS!H29 -> 0 | J26: =ATASKAITOS!I29 -> 0 | K26: =ATASKAITOS!J29 -> 0 | L26: =ATASKAITOS!K29 -> 0 | M26: =ATASKAITOS!L29 -> 0
B27: NIRA / Savikaina, rodiklis | E27: =IF(ISERROR(ATASKAITOS!D29/ATASKAITOS!D6),"-",ATASKAITOS!D29/ATASKAITOS!D6) -> 0.12318518 | F27: =IF(ISERROR(ATASKAITOS!E29/ATASKAITOS!E6),"-",ATASKAITOS!E29/ATASKAITOS!E6) -> 0.077604107 | G27: =IF(ISERROR(ATASKAITOS!F29/ATASKAITOS!F6),"-",ATASKAITOS!F29/ATASKAITOS!F6) -> 0.069247965 | H27: =IF(ISERROR(ATASKAITOS!G29/ATASKAITOS!G6),"-",ATASKAITOS!G29/ATASKAITOS!G6) -> 0.061302306 | I27: =IF(ISERROR(ATASKAITOS!H29/ATASKAITOS!H6),"-",ATASKAITOS!H29/ATASKAITOS!H6) -> 0 | J27: =IF(ISERROR(ATASKAITOS!I29/ATASKAITOS!I6),"-",ATASKAITOS!I29/ATASKAITOS!I6) -> 0 | K27: =IF(ISERROR(ATASKAITOS!J29/ATASKAITOS!J6),"-",ATASKAITOS!J29/ATASKAITOS!J6) -> 0 | L27: =IF(ISERROR(ATASKAITOS!K29/ATASKAITOS!K6),"-",ATASKAITOS!K29/ATASKAITOS!K6) -> 0 | M27: =IF(ISERROR(ATASKAITOS!L29/ATASKAITOS!L6),"-",ATASKAITOS!L29/ATASKAITOS!L6) -> 0
B28: IT - Pradinis IT, Eur
B29: 1) kita įtaka didinimas (mažinimas), Eur | I29: 0 | J29: 0 | K29: 0 | L29: 0 | M29: 0
B30: investicijų įtaka Eur | I30: 0 | J30: 0 | K30: 0 | L30: =ROUND(L105/5,0) -> 0 | M30: =ROUND(M105/5,0) -> 0
B31: pardavimų įtaka Eur | I31: =ROUND(I106/5,0) -> 0 | J31: =ROUND(J106/5,0) -> 0 | K31: =ROUND(K106/5,0) -> 0 | L31: =ROUND(L106/5,0) -> 0 | M31: =ROUND(M106/5,0) -> 0
B33: Veiklos sąnaudos (VS), Eur | E33: =ATASKAITOS!D7 -> 551948 | F33: =ATASKAITOS!E7 -> 528096 | G33: =ATASKAITOS!F7 -> 461283 | H33: =ATASKAITOS!G7 -> 483264 | I33: =ATASKAITOS!H7 -> 535934 | J33: =ATASKAITOS!I7 -> 565410 | K33: =ATASKAITOS!J7 -> 596508 | L33: =ATASKAITOS!K7 -> 629316 | M33: =ATASKAITOS!L7 -> 663928
B34: VS / Pardavimai rodiklis | D34: Pardavimų Savikaina % | E34: =IF(ISERROR(ATASKAITOS!D7/ATASKAITOS!D5),"-",ATASKAITOS!D7/ATASKAITOS!D5) -> 0.31604341 | F34: =IF(ISERROR(ATASKAITOS!E7/ATASKAITOS!E5),"-",ATASKAITOS!E7/ATASKAITOS!E5) -> 0.2868757 | G34: =IF(ISERROR(ATASKAITOS!F7/ATASKAITOS!F5),"-",ATASKAITOS!F7/ATASKAITOS!F5) -> 0.23553654 | H34: =IF(ISERROR(ATASKAITOS!G7/ATASKAITOS!G5),"-",ATASKAITOS!G7/ATASKAITOS!G5) -> 0.21168521 | I34: =IF(ISERROR(ATASKAITOS!H7/ATASKAITOS!H5),"-",ATASKAITOS!H7/ATASKAITOS!H5) -> 0.24470062 | J34: =IF(ISERROR(ATASKAITOS!I7/ATASKAITOS!I5),"-",ATASKAITOS!I7/ATASKAITOS!I5) -> 0.24470045 | K34: =IF(ISERROR(ATASKAITOS!J7/ATASKAITOS!J5),"-",ATASKAITOS!J7/ATASKAITOS!J5) -> 0.24470065 | L34: =IF(ISERROR(ATASKAITOS!K7/ATASKAITOS!K5),"-",ATASKAITOS!K7/ATASKAITOS!K5) -> 0.24470065 | M34: =IF(ISERROR(ATASKAITOS!L7/ATASKAITOS!L5),"-",ATASKAITOS!L7/ATASKAITOS!L5) -> 0.2447005
B35: Pradinis VS / Pardavimai rodiklis | D35: Pardavimų Savikaina % | I35: =IF(ISERROR(ATASKAITOS!B7/ATASKAITOS!B5),"-",ATASKAITOS!B7/ATASKAITOS!B5) -> 0.24470062 | J35: =IF(ISERROR(ATASKAITOS!H7/ATASKAITOS!H5),"-",ATASKAITOS!H7/ATASKAITOS!H5) -> 0.24470062 | K35: =IF(ISERROR(ATASKAITOS!I7/ATASKAITOS!I5),"-",ATASKAITOS!I7/ATASKAITOS!I5) -> 0.24470045 | L35: =IF(ISERROR(ATASKAITOS!J7/ATASKAITOS!J5),"-",ATASKAITOS!J7/ATASKAITOS!J5) -> 0.24470065 | M35: =IF(ISERROR(ATASKAITOS!K7/ATASKAITOS!K5),"-",ATASKAITOS!K7/ATASKAITOS!K5) -> 0.24470065
B36: VS - Pradinės VS, Eur | I36: =IF(ISERROR(I33-ROUND(I7*I35,0)),"-",I33-ROUND(I7*I35,0)) -> 0 | J36: =IF(ISERROR(J33-ROUND(J7*J35,0)),"-",J33-ROUND(J7*J35,0)) -> 0 | K36: =IF(ISERROR(K33-ROUND(K7*K35,0)),"-",K33-ROUND(K7*K35,0)) -> 0 | L36: =IF(ISERROR(L33-ROUND(L7*L35,0)),"-",L33-ROUND(L7*L35,0)) -> 0 | M36: =IF(ISERROR(M33-ROUND(M7*M35,0)),"-",M33-ROUND(M7*M35,0)) -> 0
B37: 1) koeficiento didinimas (mažinimas) | I37: 0 | J37: 0 | K37: 0 | L37: 0 | M37: 0
B38: 2) didinimas (mažinimas) Eur | I38: 0 | J38: 0 | K38: 0 | L38: 0 | M38: 0
B40: Kitos veiklos rezultatas (KVR), Eur | E40: =ATASKAITOS!D9 -> 60789 | F40: =ATASKAITOS!E9 -> 130398 | G40: =ATASKAITOS!F9 -> 96985 | H40: =ATASKAITOS!G9 -> -19657 | I40: =ATASKAITOS!H9 -> 241144 | J40: =ATASKAITOS!I9 -> 254407 | K40: =ATASKAITOS!J9 -> 268399 | L40: =ATASKAITOS!K9 -> 283161 | M40: =ATASKAITOS!L9 -> 298735
B41: KVR / Pardavimai rodiklis | D41: Pardavimų Savikaina % | E41: =IF(ISERROR(ATASKAITOS!D9/ATASKAITOS!D5),"-",ATASKAITOS!D9/ATASKAITOS!D5) -> 0.034807559 | F41: =IF(ISERROR(ATASKAITOS!E9/ATASKAITOS!E5),"-",ATASKAITOS!E9/ATASKAITOS!E5) -> 0.07083564 | G41: =IF(ISERROR(ATASKAITOS!F9/ATASKAITOS!F5),"-",ATASKAITOS!F9/ATASKAITOS!F5) -> 0.049521684 | H41: =IF(ISERROR(ATASKAITOS!G9/ATASKAITOS!G5),"-",ATASKAITOS!G9/ATASKAITOS!G5) -> -0.0086103997 | I41: =IF(ISERROR(ATASKAITOS!H9/ATASKAITOS!H5),"-",ATASKAITOS!H9/ATASKAITOS!H5) -> 0.11010327 | J41: =IF(ISERROR(ATASKAITOS!I9/ATASKAITOS!I5),"-",ATASKAITOS!I9/ATASKAITOS!I5) -> 0.1101033 | K41: =IF(ISERROR(ATASKAITOS!J9/ATASKAITOS!J5),"-",ATASKAITOS!J9/ATASKAITOS!J5) -> 0.11010315 | L41: =IF(ISERROR(ATASKAITOS!K9/ATASKAITOS!K5),"-",ATASKAITOS!K9/ATASKAITOS!K5) -> 0.11010316 | M41: =IF(ISERROR(ATASKAITOS!L9/ATASKAITOS!L5),"-",ATASKAITOS!L9/ATASKAITOS!L5) -> 0.11010321
B42: Pradinis KVR / Pardavimai rodiklis | D42: Pardavimų Savikaina % | I42: =IF(ISERROR(ATASKAITOS!B9/ATASKAITOS!B5),"-",ATASKAITOS!B9/ATASKAITOS!B5) -> 0.11010327 | J42: =IF(ISERROR(ATASKAITOS!H9/ATASKAITOS!H5),"-",ATASKAITOS!H9/ATASKAITOS!H5) -> 0.11010327 | K42: =IF(ISERROR(ATASKAITOS!I9/ATASKAITOS!I5),"-",ATASKAITOS!I9/ATASKAITOS!I5) -> 0.1101033 | L42: =IF(ISERROR(ATASKAITOS!J9/ATASKAITOS!J5),"-",ATASKAITOS!J9/ATASKAITOS!J5) -> 0.11010315 | M42: =IF(ISERROR(ATASKAITOS!K9/ATASKAITOS!K5),"-",ATASKAITOS!K9/ATASKAITOS!K5) -> 0.11010316
B43: KVR - Pradinis KVR, Eur | I43: =IF(ISERROR(I40-ROUND(I7*I42,0)),"-",I40-ROUND(I7*I42,0)) -> 0 | J43: =IF(ISERROR(J40-ROUND(J7*J42,0)),"-",J40-ROUND(J7*J42,0)) -> 0 | K43: =IF(ISERROR(K40-ROUND(K7*K42,0)),"-",K40-ROUND(K7*K42,0)) -> 0 | L43: =IF(ISERROR(L40-ROUND(L7*L42,0)),"-",L40-ROUND(L7*L42,0)) -> 0 | M43: =IF(ISERROR(M40-ROUND(M7*M42,0)),"-",M40-ROUND(M7*M42,0)) -> 0
B44: 1) koeficiento didinimas (mažinimas) | I44: 0 | J44: 0 | K44: 0 | L44: 0 | M44: 0
B45: 2) didinimas (mažinimas) Eur | I45: 0 | J45: 0 | K45: 0 | L45: 0 | M45: 0
B47: FIN veiklos rezultatas (FVR), Eur | E47: =ATASKAITOS!D10 -> 16649 | F47: =ATASKAITOS!E10 -> 17316 | G47: =ATASKAITOS!F10 -> 15924 | H47: =ATASKAITOS!G10 -> 14650 | I47: =ATASKAITOS!H10 -> 9456 | J47: =ATASKAITOS!I10 -> 9976 | K47: =ATASKAITOS!J10 -> 10525 | L47: =ATASKAITOS!K10 -> 11104 | M47: =ATASKAITOS!L10 -> 11715
B48: FVR / Finansinės skolos rodiklis | D48: Pardavimų Savikaina % | E48: =IF(ISERROR(ATASKAITOS!D10/ATASKAITOS!D23),"-",ATASKAITOS!D10/ATASKAITOS!D23) -> 0.22406901 | F48: =IF(ISERROR(ATASKAITOS!E10/ATASKAITOS!E23),"-",ATASKAITOS!E10/ATASKAITOS!E23) -> 0.1778079 | G48: =IF(ISERROR(ATASKAITOS!F10/ATASKAITOS!F23),"-",ATASKAITOS!F10/ATASKAITOS!F23) -> 0.11349803 | H48: =IF(ISERROR(ATASKAITOS!G10/ATASKAITOS!G23),"-",ATASKAITOS!G10/ATASKAITOS!G23) -> 0.099252725 | I48: =IF(ISERROR(ATASKAITOS!H10/ATASKAITOS!H23),"-",ATASKAITOS!H10/ATASKAITOS!H23) -> 0.056779493 | J48: =IF(ISERROR(ATASKAITOS!I10/ATASKAITOS!I23),"-",ATASKAITOS!I10/ATASKAITOS!I23) -> 0.059901885 | K48: =IF(ISERROR(ATASKAITOS!J10/ATASKAITOS!J23),"-",ATASKAITOS!J10/ATASKAITOS!J23) -> 0.06319841 | L48: =IF(ISERROR(ATASKAITOS!K10/ATASKAITOS!K23),"-",ATASKAITOS!K10/ATASKAITOS!K23) -> 0.066675073 | M48: =IF(ISERROR(ATASKAITOS!L10/ATASKAITOS!L23),"-",ATASKAITOS!L10/ATASKAITOS!L23) -> 0.070343883
...

Sheet mini atmintinė
B2: PRGmini skirta greitai ir patogiai pasiskaičiuoti grynųjų pinigų srautus keliems metams į preikį.
B3: Tam mes naudojame turimą finansinę atskaitomybę, bei čia pat prognozuojame ją ateinantiems laikotarpiams.
B4: Kad būtų patogu ir greita mes naudojame sustambintą veiklos apskaitos dydžių grupavimą.
B5: Kad galima būtų vienodai suprasti mes stengiamės naudoti dydžius naudojamus VAS patvirtintose ataskaitose.
B6: Mini pinigų srautų modelio paskirtis gauti grynųjų pinigų srautų prognozę nerengiant pilnos pinigų srautų ataskaitos prognozės.
B8: Norint žinoti tikėtiną pinigų poreikį ar perteklių ateityje reikia žinoti įmonės finansinius rodiklius perspektyvoje.
B9: Kadangi mūsų tikslas gauti skaičius greitai ir taupiai, bet pakankamai tiksliai, tam mes naudojame supaprastintas finansines formas ir skaičiuotes.
B10: Ar nebūtų paprasčiau įvesti iš karto planuojamą skaičių? Ne. Taip mes prarastume galimybę varijuoti rezultatu, dabar mes galime taikyti mini modeliavimą.
B13: Prognozės rengimas.
B14: Prognozės rengimas susideda iš trijų etapų. 1) Pradinių duomenų suvedimas ir pirminės prognozės sugenravimas 2) Pirminės prognozės analizė ir Pirminės prognozės korekcija.
B16: 1 Pradinių duomenų suvedimas. (lapas ATASKAITOS)
B17: Kad pradėti prognozės procesą turime suvesti pradinius duomenis. Tai mes padarome lape ATASKAITOS.
... B20: Nepamirškime, tam, kad vyktų prognozė B stulpelio 2 eilutėje įvesti mėnesių skaičių už kuriuos įvesti einamųjų metų duomenys.
A21: 1254 | B21: Duomenis reikia įrašyti į violetinius (purpurinius) laukus, kur jie matomi geltonai. Kaip parodyta šios eilutės A stulpelyje.
B22: Šie laukai skirti įvesti informaciją apie Jūsų įmonės esamus finansinius rodiklius.
A23: 4475 | B23: Duomenys šviesiai pilkame lauke, kurie jie matomi juodai suskaičiuojami ar parodomi panaudojant formules. Šiuose laukuose informacija esamus Jūsų įmonės finansinius rodiklius.
A24: 1945 | B24: Duomenys šviesiai žalsvame lauke, kurie jie matomi juodai suskaičiuojami ar parodomi panaudojant formules. Šiuose laukuose informacija būsimus Jūsų įmonės finansinius rodiklius.
B26: Suvedus pradinius duomenis automatiškai gaunama pirminė prognozė (detaliau apie prileidas jos parengimui pridedamame word faile).
B28: 3. Prognozės korekcija. (lapas KOREKCIJA)
B29: Pirminė prognozė apima tik labai apibendrintas prielaidas, kurios tikrai pilnai neatspindi Jūsų verslo specifikos.
B30: Pirminės prognozės korekcija vykdoma naudojant absoliučius skaičius ir santykinių rodiklių pokyčius. Tai darom lape KOREKCIJOS
B33: PNA apima šiuos dydžius iš pilnos pelno (nuostolių) ataskaitos:
B34: Pardavimai - pardavimo pajamos, PNA Eil. nr. I.
B35: Savikaina - pardavimo pajamos, PNA Eil. nr. II.
B36: Veiklos sąnaudos - veiklos sąnaudos, PNA Eil. nr. IV.
B37: Veiklos pelnas - tipinės veiklos pelnas (nuostoliai), PNA Eil. nr. V.
B38: Kita veikla - kita veikla plius pagautė minus netekimai, PNA Eil. nr. VI. + IX. - X.
B39: FIN veikla - finansinė ir investicinė veikla, PNA Eil. nr. VII.
B40: Pelno mokestis - pelno mokestis, PNA Eil. nr. XII.
... B73: Grynųjų pinigų srautas tai Veiklos piningų srauto, Finansinių skolų pokyčio ir Nuosavo kapitalo pokyčio suma.

Sheet info-1

Sheet info-2
