Workbook
Name _Hlk122275804: 'II skyrius'!$U$126
Name _Hlk219881047: 'VI skyrius VŠĮ+UAB rodikliai'!$C$195
Name _Hlk89418331: 'VI skyrius VŠĮ+UAB rodikliai'!#REF!
Name _Hlk92374825: 'VI skyrius VŠĮ+UAB rodikliai'!#REF!
Name _Hlk92374960: 'VI skyrius VŠĮ+UAB rodikliai'!$C$22
Name _Hlk92375563: 'VI skyrius VŠĮ+UAB rodikliai'!$C$35
Name _Hlk92375700: 'VI skyrius VŠĮ+UAB rodikliai'!$C$69
Name _Hlk92375786: 'VI skyrius VŠĮ+UAB rodikliai'!#REF!
Name _Hlk92376639: 'VI skyrius VŠĮ+UAB rodikliai'!$C$47
Name _Toc123901348: 'VII skyrius. Kita svarbi info'!#REF!
Name _Toc123901357: 'VII skyrius. Kita svarbi info'!#REF!
Name _Toc123901359: 'VI skyrius VŠĮ+UAB rodikliai'!$C$162
Name _Toc506024955: 'Vertinimo kriterijai'!$A$1
Name Excel_BuiltIn__FilterDatabase_2: #REF!

Sheet I skyrius 
H1: PATVIRTINTA Visagino savivaldybės tarybos 2026 m. vasario ___ d. sprendimu Nr. TS-_____ PROJEKTAS
B4: VISAGINO SAVIVALDYBĖS 2026-2028 METŲ STRATEGINIS VEIKLOS PLANAS
B7: I SKYRIUS SAVIVALDYBĖS MISIJA IR VEIKLOS PRIORITETAI
B9: MISIJA
B11: Sėkmingai plėtoti ir įgyvendinti savivaldos teisę, užtikrinti subalansuotą plėtrą bei kokybiškai vykdyti viešojo administravimo ir viešųjų paslaugų teikimo funkcijas, tenkinant Visagino savivaldybės bendruomenės viešuosius poreikius ir interesus
B17: SAVIVALDYBĖS PRIORITETAI
B19: 1. Konkurencingo verslo skatinimas ir vietinės ekonomikos tvari plėtra 2. Socialinės gerovės kūrimas sumaniai, pažangiai, besimokančiai, moderniai ir laimingai bendruomenei 3. Tvarus, subalansuotas savivaldybės aplinkos vystymas ir plėtra

Sheet II skyrius
B3: II SKYRIUS
B4: SAVIVALDYBĖS PLĖTROS TIKSLAI, UŽDAVINIAI IR JŲ STEBĖSENOS RODIKLIAI
C6: 1 lentelė. Tikslai, uždaviniai ir jų stebėsenos rodikliai
C7: SSPP tikslų ir uždavinių kodas | D7: SSPP tikslai ir uždaviniai | E7: Stebėsenos rodiklis (matavimo vnt.) | F7: Pradinė stebėsenos rodiklio reikšmė (2022) | G7: Siektinos stebėsenos rodiklio reikšmės | L7: Faktinė stebėsenos rodiklio reikšmė (2023) | M7: Faktinė stebėsenos rodiklio reikšmė (2024) | N7: Faktinė stebėsenos rodiklio reikšmė (2025) | O7: Siekiama stebėsenos rodiklio reikšmė (2030)
G8: 2024 metai | H8: 2025 metai | I8: 2026 metai | J8: 2027 metai | K8: 2028 metai
C9: 1 | D9: 2 | E9: 3 | F9: 4 | G9: 5 | H9: 6 | I9: 7 | J9: 7 | K9: 7 | L9: 8 | M9: 8 | N9: 8 | O9: 9
C10: 1.1. | D10: Gerinti investicinės aplinkos patrauklumą ir didinti ekonominį potencialą | E10: E-1.1-1 Dirbančiųjų skaičius (tūkst. asm.) | F10: 7470 | G10: 7450 | H10: 8000 | I10: 8000 | J10: 8000 | K10: 8000 | L10: 7470 | M10: 8000 (2024) | N10: 8000 (2024) | O10: 8000 (2030)
C11: 1.1.-1 | D11: Pagerinti investicijų pritraukimo ir verslo plėtros sąlygas | E11: Materialinės investicijos, tenkančios 1-am gyventojui (Eur) | F11: 1116 Eur (2020) | G11: 889 | H11: 1475 | I11: 1475 | J11: 1475 | K11: 1475 | L11: 1116 Eur (2020) | M11: 1475 Eur (2023)* | N11: 1475 Eur (2023)* | O11: Ne mažiau kaip 1200 Eur (2030 )
E12: Pritraukta naujų tiesioginių užsienio investicijų, tenkančių 1-am gyventojui (Eur) | F12: 571 Eur (2020) | G12: 739 | H12: 908 | I12: 908 | J12: 908 | K12: 908 | L12: 571 Eur (2020) | M12: 908 Eur (2023)* | N12: 908 Eur (2023)* | O12: 800 Eur (2030 m)
C13: 1.1.-2 | D13: Skatinti gyventojų verslumą ir ekonominį mobilumą | E13: Verslumo lygis (veikiančių SVV įmonių skaičius, tenkantis 1000 gyv., koef.) | F13: 15,5 (2022) | G13: 14.78 | H13: 17.71 | I13: 17.71 | J13: 17.71 | K13: 17.71 | L13: 15,5 (2022) | M13: 17,71 (2024) | N13: 17,71 (2024) | O13: Ne mažiau kaip 20 (2030)
E14: Gyventojų aktyvumas, vykdant individualią veiklą (gyventojų, besiverčiančių veikla pagal individualios veiklos pažymą ir verslo liudijimus, skaičius, tenkantis 1000-iui gyv., koef.) | F14: 1,52 (2022) | G14: 19.55 | H14: 11.28 | I14: 11.28 | J14: 11.28 | K14: 11.28 | L14: 1,52 (2022) | M14: 11,28 (2023)* | N14: 11,28 (2023)* | O14: Ne mažiau kaip 5 (2030)
E15: Sukurti ir įgyvendinti verslumo skatinimo programą | F15: 0 (2022) | G15: 1 | H15: 0 | I15: 0 | J15: 0 | K15: 0 | L15: 0 (2022) | M15: 1 (2024) | N15: 1 (2024) | O15: 1 (2030)
E16: Bendradarbystės centro „Spiečius“ narių skaičius | F16: 15 (2022) | G16: 25 | H16: 35 | I16: 45 | J16: 45 | K16: 45 | L16: 15 (2022) | M16: 20 (2024) | N16: 20 (2024) | O16: 45 (2026)
C17: 1.1.-3 | D17: Sukurti tinkamas sąlygas strateginėms verslo kryptims plėtotis Visagino savivaldybėje | E17: Strateginėse verslo kryptyse veikiančių verslo subjektų skaičius | F17: 2 (2022) | G17: 2 | H17: 2 | I17: 3 | J17: 3 | K17: 3 | L17: 2 (2022) | M17: 3 (2024) | N17: 3 (2024) | O17: 4 (2030)
C18: 1.2. | D18: Didinti turistinį savivaldybės patrauklumą, teikiant viešąsias paslaugas bei plėtojant viešąją turizmo infrastruktūrą | E18: Nakvynių skaičius apgyvendinimo įstaigose, vnt. | F18: 506 (2022) | G18: 7855 | H18: 6200 | I18: 6600 | J18: 7000 | K18: 7000 | L18: 506 (2022) | M18: 6196 (2024) | N18: 6196 (2024) | O18: 700 (2030)
C19: 1.2.-1 | D19: Skatinti turizmo konkurencingumą, teikiant viešąsias ir verslo paslaugas bei vykdant aktyvią paslaugų rinkodarą | E19: Turistų, apsilankiusių VTPC, dalis sezono metu (gegužės–rugpjūčio mėn.), palyginti su bendruoju metiniu turistų skaičiumi (proc.) | F19: 72 (2022) | G19: 72 | H19: 55 | I19: 54 | J19: 53 | K19: 53 | L19: 72 (2022) | M19: 56 (2024) | N19: 56 (2024) | O19: 50 (2030)
C20: 1.2.-2 | D20: Visagino turizmo, gamtos ir kultūros objektų pritaikymas lankymui, modernizuojant viešąją turizmo infrastruktūrą | E20: Suformuotų turistų traukos objektų skaičius (vnt.) | F20: 0 (2022) | G20: 4 | H20: 1 | I20: 1 | J20: 1 | K20: 1 | L20: 0 (2022) | M20: 1 (2024) | N20: 1 (2024) | O20: 3 (2030)
C21: 1.2.-3 | D21: Visagino kaip monoindustrinio miesto urbanistikos, daugiatautį kultūros paveldą ir tradicijas perdavimas per turizmo ir edukacines veiklas | E21: Asmenų, dalyvavusių perduodant Visagino daugiataučio kultūros paveldo ir tradicijų per turizmo ir edukacines veiklas, skaičius | F21: 0 (2022) | G21: 50 | H21: 1500 | I21: 1600 | J21: 1700 | K21: 1700 | L21: 0 (2022) | M21: 1478 (2024) | N21: 1478 (2024) | O21: 700 (2030)
C22: 2.1 | D22: Tikslingai naudojant švietimui skirtas lėšas bei kryptingai tobulinant darbuotojų kompetencijas, kiekvienam besimokančiajam sukurti lygiavertes ir šiuolaikiškas kokybiško ugdymo(si) sąlygas, lemiančias geresnius mokinių pasiekimus, optimalią, integracinę, darniai ir racionaliai veikiančią, nuolat atsinaujinančią savivaldybės švietimo sistemą | E22: Visagino savivaldybės bendrojo ugdymo mokyklų tinklo pertvarkos 2022–2026 metų bendrojo plano kokybinių pokyčių / priemonių įgyvendinimas, proc. | F22: 0 (2022) | G22: 50 | H22: 70 | I22: 100 | J22: 10 (naujas planas) | K22: 10 (naujas planas) | L22: 0 (2022) | M22: 50 (2024) | N22: 50 (2024) | O22: 75 (2030)
C23: 2.1.-1 | D23: Padidinti ugdymo paslaugų prieinamumą ir įtrauktį kuriant naujas ikimokyklinio ugdymo vietas ir efektyviai veikiančių mokyklų infrastruktūrą pritaikant vaikams su negalia bei bendriesiems ugdymo poreikiams gerinti | E23: Ikimokyklinio ugdymo įstaigų talpumas (vietų skaičius), vnt. | F23: 895 (2022) | G23: 895 | H23: 670 | I23: 658 | J23: 638 | K23: 638 | L23: 895 (2022) | M23: 895 (2022) | N23: 895 (2022) | O23: 983 (2027)
E24: Mokyklų, kuriose buvo įdiegtos universalaus dizaino ir kitos inžinerinės priemonės, aplinką pritaikant asmenims, turintiems negalią, dalis nuo visų mokyklų | F24: 0 (2022) | G24: 0 | H24: 40 | I24: 40 | J24: 40 | K24: 40 | L24: 20 (2023) | M24: 20 (2024) | N24: 20 (2024) | O24: 40 (2023)
C25: 2.1.-2 | D25: Plėtoti įvairialypį švietimą vykdant visos dienos mokyklų veiklą | E25: Neformaliojo vaikų švietimo galimybėmis pasinaudojusių mokinių dalis (išskyrus ikimokykliniame ir priešmokykliniame ugdyme dalyvaujančius vaikus) (proc.) | F25: 0 (2022) | G25: 0 | H25: 83 | I25: 84 | J25: 84 | K25: 84 | L25: 69 (2023) | M25: 83 (2024) | N25: 83 (2024) | O25: 85 (2027)
C26: 2.1.-3 | D26: Stiprinti mokyklas įgalinant dirbti su įvairių galių ir gebėjimų mokiniais, kurie mokyklų pedagogų, mokymosi aplinkos padedami ir motyvuojami įveikia barjerus ir pasiekia maksimalų savo individualių galimybių mokymosi rezultatą | E26: Visagino savivaldybės ugdymo įstaigų, dalyvavusių "Tūkstantmečio mokyklų" programos veiklose, skaičius | F26: 0 (2022) | G26: 3 | H26: 3 | I26: 0 | J26: 0 | K26: 0 | L26: 3 (2023) | M26: 3 (2024) | N26: 3 (2024) | O26: 3 (2030)
C27: 2.1.-4 | D27: Skatinti mokinių domėjimąsi gamtos mokslais, matematika, technologijomis ir kt. veiklomis, išbandant save įvairiose praktinėse-tiriamosiose veiklose | E27: Pasirašytų bendradarbiavimo sutarčių su verslo atstovais skaičius | F27: 0 (2022) | G27: 1 | H27: 1 | I27: 1 | J27: 1 | K27: 1 | L27: 0 (2022) | M27: 0 (2024) | N27: 0 (2024) | O27: 3 (2030)
C28: 2.1.-5 | D28: Skatinti kokybinę kaitą bei lyderystės raišką švietimo įstaigose išbandant / taikant inovatyvius mokymo(si) modelius, aktyviai dalyvaujant projektinėje veikloje | E28: Įgyvendintų projektų skaičius | F28: 1(2022) | G28: 0 | H28: 1 | I28: 1 | J28: 1 | K28: 1 | L28: 1 (2023) | M28: 1 (2024) | N28: 1 (2024) | O28: 5 (2030)
C29: 2.1.-6 | D29: Siekti, kad visi turėtų lanksčių kvalifikacijos kėlimo ir persikvalifikavimo galimybių, atsižvelgiant į verslumo ir skaitmeninius įgūdžius, geriau numatyti pokyčius ir naujų įgūdžių reikalavimus, grindžiamus darbo rinkos poreikiais, sudaryti palankesnes sąlygas keisti profesinę veiklą ir skatinti profesinį judumą | E29: Asmenų, kurie dalyvavę mokymuose įgijo kompetenciją, dalis proc. nuo visų besimokančiųjų VTVPMC | F29: 0 (2022) | G29: 80 | H29: 82 | I29: 85 | J29: 85 | K29: 85 | L29: 0 (2022) | M29: 82 (2024) | N29: 82 (2024) | O29: 98 (2030)
C30: 2.2. | D30: Sudaryti sąlygas visų amžiaus grupių ir galimybių visaginiečiams jų sveikai gyvensenai, fiziniam aktyvumui, sportavimui bei siekti, kad tai taptų savivaldybės bendruomenės gyvensenos dalimi | E30: Veikiančių atvirų sporto erdvių skaičius (vnt.) | F30: 10 (2022) | G30: 12 | H30: 12 | I30: 13 | J30: 14 | K30: 14 | L30: 10 (2022) | M30: 12 (2024) | N30: 12 (2025) | O30: 21 (2030)
C31: 2.2-1 | D31: Didinti fizinio aktyvumo lygį visose savivaldybės gyventojų amžiaus grupėse, plėsti galimybes bendruomenės fiziniam aktyvumui ir sveikatinimo veikloms | E31: Sporto varžybose ir sveikatingumo renginiuose dalyvavusių asmenų skaičius, vnt. per metus | F31: 2466 (2021) | G31: 3000 | H31: 3200 | I31: 3250 | J31: 3300 | K31: 3300 | L31: 2466 (2021) | M31: 3133 (2024) | N31: 3200 (2025) | O31: Kasmet didėjantis ne mažiau kaip 20 proc.
C32: 2.2-2 | D32: Vykdyti talentingų sportininkų atranką, sudaryti jiems tinkamas sąlygas meistriškumui didinti | E32: Aukšto meistriškumo sportininkų dalis nuo visų sportininkų Visagino savivaldybėje (proc.) | F32: 20 (2022) | G32: 20 | H32: 26 | I32: 27 | J32: 27 | K32: 27 | L32: 20 (2022) | M32: 26 (2024) | N32: 26 (2024) | O32: 40 (2030)
C33: 2.2-3 | D33: Gerinti sporto ir fizinio aktyvumo specialistų kvalifikaciją ir pritraukti naujus specialistus, kurių kompetencijos reikalingos bendruomenės poreikiams tenkinti, sporto ir fizinio aktyvumo paslaugų plėtrai ir kokybės užtikrinimui | E33: Kvalifikaciją patobulinusių sportinio ugdymo specialistų, dirbančių Visagino savivaldybės įstaigose, skaičius (proc.) | F33: 30 (2022) | G33: 30 | H33: 32 skaičius, 76 proc. | I33: 32 skaičius, 76 proc. | J33: 33 skaičius, 80 proc. | K33: 33 skaičius, 80 proc. | L33: 30 (2022) | M33: 31 (2024) skaičius, 75,6 proc. | N33: 32 (2025) skaičius, 76 proc. | O33: 80 (2030)
C34: 2.2-4 | D34: Didinti visuomenės informuotumą apie fizinio aktyvumo naudą ir vykdyti sporto informacijos sklaidą | E34: Informacinėmis priemonėmis pasiektų asmenų dalis proc. nuo visų gyventojų | F34: 0 (2022) | G34: 40 | H34: 50 | I34: 55 | J34: 60 | K34: 60 | L34: 0 (2022) | M34: 50 (2024) | N34: 53 (2025) | O34: 98 (2030)
C35: 2.2-5 | D35: Plėtoti ir atnaujinti sporto infrastruktūrą, aprūpinti poreikius atitinkančia įranga ir inventoriumi sudarant tinkamas sąlygas bendruomenės fiziniam aktyvumui, aukšto meistriškumo sportininkų rengimui bei varžybų nuo savivaldybės lygmens iki tarptautinių vykdymui | E35: Asmenų, dalyvavusių aukšto lygio sporto varžybose dalis proc. nuo visų gyventojų | F35: 0 (2022) | G35: 1 | H35: 2 | I35: 2 | J35: 2.5 | K35: 2.5 | L35: 0 (2022) | M35: 2 (2024) | N35: 2 (2025) | O35: 5 (2030)
C36: 2.3. | D36: Įgyvendinti valstybinę kultūros politiką ir formuoti regioninį identitetą, stiprinti pilietiškumą ir bendruomenės į(si)traukimą į kūrybines, kultūrines veiklas | E36: Gyventojų, bent kartą per mėnesį besilankančių viešuose kultūros renginiuose, dalis proc. nuo bendro gyventojų skaičiaus | F36: 0 (2022) | G36: 40 | H36: 50 | I36: 60 | J36: 60 | K36: 60 | L36: 0 (2022) | M36: 30 (2024) | N36: 30 (2024) | O36: 70 (2030)
C37: 2.3.-1 | D37: Formuoti Visagino, kaip daugiakultūrio miesto, atviro kultūrinėms inovacijoms ir patrauklaus profesionalaus meno sklaidai, laukiančio svečių, reputaciją | E37: Kultūros renginiuose apsilankiusių asmenų skaičius proc. nuo bendro gyventojų skaičiaus | F37: 0 (2022) | G37: 20 | H37: 30 | I37: 40 | J37: 50 | K37: 50 | L37: 374,16 (2023) | M37: 267,84 (2024) | N37: 267,84 (2024) | O37: 80 (2030)
C38: 2.3.-2 | D38: Visagino savivaldybėje sukurti palankiausiais regione sąlygas menininkų kūrybai ir kūrybiniams verslams vystytis | E38: Naujai susikūrusių kūrybinių verslų skaičius | F38: 0 (2022) | G38: 1 | H38: 1 | I38: 2 | J38: 2 | K38: 2 | L38: 1 (2023) | M38: 2 (2024) | N38: 2 (2024) | O38: 8 (2030)
C39: 2.3.-3 | D39: Plėtoti / tobulinti pagal kintančius bendruomenės poreikius kultūros infrastruktūrą bei užtikrinti kultūros, laisvalaikio, kūrybos erdvių prieinamumą bendruomenei ir kūrėjams | E39: Naujai įkurtų erdvių, kuriose skatinamos meniškos ir meninės veiklos, skaičius | F39: 0 (2022) | G39: 0 | H39: 0 | I39: 1 | J39: 1 | K39: 1 | L39: 0 (2023) | M39: 3 (2024) | N39: 3 (2024) | O39: 5 (2030)
C40: 2.3.-4 | D40: Sudaryti palaikančias ir motyvuojančias sąlygas etninės kultūros sklaidai, Dainų švenčių tradicijos tęstinumui, senųjų tradicijų, papročių populiarinimui, jų gyvybingumo puoselėjimui | E40: Asmenų, dalyvavusių etninės kultūros renginiuose, dalis proc. nuo visų savivaldybės gyventojų | F40: 0 (2022) | G40: 10 | H40: 12 | I40: 12.5 | J40: 13 | K40: 13 | L40: 11,1 (2023) | M40: 11,5 (2024) | N40: 11,5 (2024) | O40: 15 (2030)
C41: 2.3.-5 | D41: Stiprinti įstaigų partnerystę / tinklaveiką, plėtoti projektinę veiklą | E41: Asmenų, dalyvavusių kultūros ir švietimo bendradarbiavimo veiklose, dalis proc. nuo visų savivaldybės gyventojų | F41: 0 (2022) | G41: 10 | H41: 15 | I41: 20 | J41: 20 | K41: 20 | L41: 14 (2023) | M41: 14 (2024) | N41: 14 (2024) | O41: 50 (2030)
C42: 2.3.-6 | D42: Ugdyti įvairiakalbę, kritiškai mąstančią Visagino bendruomenę, kurią jungia valstybinė kalba ir pagarba valstybei | E42: Gyventojų, dalyvavusių pilietinio ugdymo veiklose, dalis proc. nuo visų savivaldybės gyventojų | F42: 0 (2022) | G42: 3 | H42: 27 | I42: 28 | J42: 30 | K42: 30 | L42: 25 (2023) | M42: 25 (2024) | N42: 25 (2024) | O42: 50 (2030)
C43: 2.4. | D43: Stiprinti ir puoselėti gyventojų sveikatą | E43: Vidutinė tikėtina gyvenimo trukmė (metais) | F43: 76 (2020 m.) | G43: 75.47 | H43: 76 | I43: 76 | J43: 76 | K43: 76 | L43: 76 (2020 m.) | M43: 76 (2020 m.) | N43: 76 (2020 m.) | O43: 78,3 (2030)
...

Sheet III skyrius. 2023-2030  m. 
E3: III SKYRIUS. LĖŠŲ DALIS, TENKANTI 2026-2028 M. STRATEGINIAME VEIKLOS PLANE, SKIRTA 2023-2030 M. SAVIVALDYBĖS PLĖTROS PLANE NUMATYTIEMS PRIORITETINIAMS TIKSLAMS ĮGYVENDINTI
C9: 2 lentelė. Lėšų dalis, tenkanti 2026-2028 m. SVP 2023-2030 m. plėtros plano prioritetiniams tikslams įgyvendinti
C10: 2023-2030 m. plėtros plano prioritetiniai tikslai | R10: Įgyvendinamos programos pagal 2023-2030 m. plėtros plano prioritetinius tikslus | S10: Proc. nuo bendro poreikio tikslui įgyvendinti 2025 m. | T10: 2025 m. išlaidų planas, tūkst. Eur | U10: Proc. nuo bendro poreikio tikslui įgyvendinti 2026 m. | V10: 2026 m. išlaidų planas, tūkst. Eur | W10: Proc. nuo bendro poreikio tikslui įgyvendinti 2027 m. | X10: 2027 m. išlaidų planas, tūkst. Eur | Y10: Proc. nuo bendro poreikio tikslui įgyvendinti 2028 m. | Z10: 2028 m. išlaidų planas, tūkst. Eur
C11: I PRIORITETINIS TIKSLAS. KONKURENCINGO VERSLO SKATINIMAS IR VIETINĖS EKONOMIKOS TVARI PLĖTRA | R11: 9 programa | S11: =T11/T15 -> 0.039873823 | T11: =SUM('+9 programa'!H209) -> 2858.5157 | U11: =V11/V15 -> 0.042162148 | V11: =SUM('+9 programa'!I209) -> 3319.078 | W11: =X11/X15 -> 0.071421487 | X11: =SUM('+9 programa'!L209) -> 6253.946 | Y11: =Z11/Z15 -> 0.048971964 | Z11: ='+9 programa'!N209 -> 3741.811
C12: II PRIORITETINIS TIKSLAS. SOCIALINĖS GEROVĖS KŪRIMAS, SUMANIAI, PAŽANGIAI, BESIMOKANČIAI, MODERNIAI IR LAIMINGAI BENDRUOMENEI | R12: 1 programa 2 programa 3 programa 4 programa 5 programa 6 programa 7 programa | S12: =T12/T15 -> 0.76272554 | T12: =SUM('1 programa '!K218,'2 programa '!K371,'+3 programa'!K89,'4 programa'!K130,'+5 programa'!K114,'6 programa'!L289,'7 programa'!K177) -> 54679.054 | U12: =V12/V15 -> 0.75941915 | V12: =SUM('1 programa '!L218,'2 programa '!L371,'+3 programa'!L89,'4 programa'!L130,'+5 programa'!L114,'6 programa'!M289,'7 programa'!L177) -> 59782.803 | W12: =X12/X15 -> 0.63722973 | X12: =SUM('1 programa '!O218,'2 programa '!O371,'+3 programa'!O89,'4 programa'!O130,'+5 programa'!O114,'6 programa'!P289,'7 programa'!O177) -> 55798.339 | Y12: =Z12/Z15 -> 0.69702388 | Z12: =SUM('1 programa '!Q218,'2 programa '!Q371,'+3 programa'!Q89,'4 programa'!Q130,'+5 programa'!Q114,'6 programa'!R289,'7 programa'!Q177) -> 53257.649
C13: III PRIORITETINIS TIKSLAS. TVARUS, SUBALANSUOTAS SAVIVALDYBĖS APLINKOS VYSTYMAS IR PLĖTRA | R13: 8 programa 10 programa | S13: =T13/T15 -> 0.19740064 | T13: =SUM('8 programa'!K169,'10 programa'!K297) -> 14151.46 | U13: =V13/V15 -> 0.1984187 | V13: =SUM('8 programa'!L169,'10 programa'!L297) -> 15619.867 | W13: =X13/X15 -> 0.29134879 | X13: =SUM('8 programa'!O169,'10 programa'!O297) -> 25511.645 | Y13: =Z13/Z15 -> 0.25400415 | Z13: =SUM('8 programa'!Q169,'10 programa'!Q297) -> 19407.748
T15: =SUM(T11,T12,T13) -> 71689.029 | V15: =SUM(V11,V12,V13) -> 78721.748 | X15: =SUM(X11,X12,X13) -> 87563.929 | Z15: =SUM(Z11,Z12,Z13) -> 76407.208

Sheet IV skyrius
B3: IV SKYRIUS PLANUOJAMI PASIEKTI REZULTATAI
C5: Didinant įstaigų veiklos efektyvumą, atsakomybę ir viešumą, 2026-2028 m. planuojama gerinti valdymo struktūrą ir stiprinti valdymo kokybę, didinti viešojo administravimo efektyvumą, ekonomiškai ir rezultatyviai valdyti ir naudoti savivaldybės turtą, biudžetą ir kitus piniginius išteklius. Numatoma vykdyti priemones ugdymo, kūno kultūros ir fizinio aktyvumo, socialinių paslaugų kokybei gerinti ir jų įvairovei didinti. Siekti, kad gerėtų viešųjų erdvių kokybė, sudaryti sąlygas inžinerinės infrastruktūros ir susisiekimo komunikacijų gerinimui, jų plėtrai padidinant miesto viešųjų erdvių patrauklumą, užtikrinant švarą ir tvarką, teikti gyventojams kokybiškas komunalines paslaugas, prižiūrėti ir modernizuoti miesto inžinerinės ir rekreacinės infrastruktūros objektus, suformuoti efektyviai veikiančią verslo paramos sistemą, skleisti verslo informaciją, skatinti verslumą bei iniciatyvas. Taip pat bus siekiama vykdyti architektūros ir teritorijų planavimo veiklą, kurti palankią aplinką turizmui, plėsti turizmo, rekreacijos, poilsio ir paslaugų infrastruktūrą, užtikrinti turizmo informacijos sklaidą.
C6: Įgyvendinant Visagino savivaldybės 2026-2028 m. strateginį veiklos planą, vadovaujamasi 2023-2030 m. strateginiame plėtros plane numatytais prioritetais tikslais ir planuojamais pasiekti rezultatais:
B7: 1 prioritetas | C7: Konkurencingo verslo skatinimas ir vietinės ekonomikos tvari plėtra
B8: 1.1. tikslas | C8: ='[1]II skyrius'!D10 -> Gerinti investicinės aplinkos patrauklumą ir didinti ekonominį potencialą
C9: Investicijų pritraukimo ir verslumo skatinimo institucinės ekosistemos sukūrimas Visagino, Ignalinos ir Zarasų funkcinėje zonoje (VIZA funkcinės zonos strategijos įgyvendinimas)
C10: Investicijoms pritaikytos verslo ir gamybos pastatų bei žemės infrastruktūros, skatinant apleistų/nenaudojamų/neefektyviai naudojamų teritorijų ir pastatų konversiją ir pritaikymą ekonominei veiklai, sukūrimas
B11: 1.2. tikslas | C11: ='[1]II skyrius'!D18 -> Didinti turistinį savivaldybės patrauklumą, teikiant viešąsias paslaugas bei plėtojant viešąją turizmo infrastruktūrą
C12: Viešųjų paslaugų teikimas bei Visagino savivaldybės turizmo rinkodaros plėtojimas
C13: Žygių maršrutų sukūrimas, integracija į funkcinės zonos VIZA ir Utenos regiono bendrus turizmo maršrutus, priėjimų prie lankomų/gamtos objektų įrengimas, atokvėpio/stebėjimo vietų įrengimas
C14: Visagino kaip postbranduolinės erdvės paveldo išsaugojimas, aktualizavimas, pristatymas
B15: 2 prioritetas | C15: Socialinės gerovės kūrimas sumaniai, pažangiai, besimokančiai, moderniai ir laimingai bendruomenei
B16: 2.1. tikslas | C16: ='[1]II skyrius'!D22 -> Tikslingai naudojant švietimui skirtas lėšas bei kryptingai tobulinant darbuotojų kompetencijas, kiekvienam besimokančiajam sukurti lygiavertes ir šiuolaikiškas kokybiško ugdymo(si) sąlygas, lemiančias geresnius mokinių pasiekimus, optimalią, integracinę, darniai ir racionaliai veikiančią, nuolat atsinaujinančią savivaldybės švietimo sistemą
C17: Ikimokyklinio ugdymo įstaigų tinklo, kuriant naujas ugdymo vietas, stiprinimas
C18: Visagino progimnazijų erdvių pritaikymas negalią turinčių mokinių ugdymuisi įtraukiuoju būdu
C19: Visos dienos užimtumo erdvių sukūrimas Visagino bendrojo ugdymo mokyklose
C20: Robotikos ir dronų konstravimo ir pilotavimo kompetencijų ugdymas
C21: Iniciatyvų „Tvari mokykla 2030“ įgyvendinimas
C22: Visagino savivaldybės bendrojo ugdymo mokyklų tinklo pertvarkos priemonių planų kiekvienoje mokykloje įgyvendinimas
B23: 2.2. tikslas | C23: ='[1]II skyrius'!D30 -> Sudaryti sąlygas visų amžiaus grupių ir galimybių visaginiečiams jų sveikai gyvensenai, fiziniam aktyvumui, sportavimui bei siekti, kad tai taptų savivaldybės bendruomenės gyvensenos dalimi
C24: Visagino savivaldybės ugdymo įstaigų vidaus ir lauko sporto infrastruktūros - sporto salių, aikštelių, stadionų - atnaujinimas ir (ar) plėtra
C25: Aplinkos ir viešųjų erdvių fizinio aktyvumo užsiėmimams pritaikymas
B26: 2.3. tikslas | C26: ='[1]II skyrius'!D36 -> Įgyvendinti valstybinę kultūros politiką ir formuoti regioninį identitetą, stiprinti pilietiškumą ir bendruomenės į(si)traukimą į kūrybines, kultūrines veiklas
C27: Infrastruktūros, būtinos gyventojų kultūriniams poreikiams užtikrinti, esamos vidaus rekonstravimas ir/arba naujos statymas
C28: Visagino miesto muziejaus koncepcijos ir struktūros plėtojimas
B29: 2.4. tikslas | C29: ='[1]II skyrius'!D43 -> Stiprinti ir puoselėti gyventojų sveikatą
C30: Asmens sveikatos priežiūros įstaigų paslaugų infrastruktūros bei įrangos, siekiant didesnės ir aukštesnės paslaugų aprėpties, įvairovės ir kokybės, plėtojimas, modernizavimas ir atnaujinimas (Visagino sveikatos centro veiklos vystymas)
B31: 2.5. tikslas | C31: ='[1]II skyrius'!D47 -> Pagerinti ir plėsti socialinių paslaugų kokybę ir prieinamumą bei sukurti jų plėtrai reikalingą infrastruktūrą
C32: Socialinių paslaugų prieinamumo didinimas
C33: Socialinio ir savivaldybės būsto prieinamumo visų socialinių grupių atstovams didinimas
B34: 2.6. tikslas | C34: ='[1]II skyrius'!D49 -> Sudaryti galimybes jaunimui atvykti, dirbti ir gyventi Visagino savivaldybėje
C35: Jaunimo teikiamų projektų ir iniciatyvų finansavimas
B36: 2.7. tikslas | C36: ='[1]II skyrius'!D52 -> Gyventojų socialinio, pilietinio aktyvumo, dalyvavimo savanoriškoje, visuomeninėje veikloje, tarpusavio pasitikėjimo, bendruomenės socialinės atsakomybės ir įsitraukimo didinimas
C37: Vietos savivaldai priimant sprendimus integruotai ir tolygiai formuoti nevyriausybinių ir bendruomeninių organizacijų veiklai palankią aplinką savivaldybėje (Dalyvaujamojo biudžeto priemonių vykdymas )
C38: Viešosios naudos nevyriausybinių ir bendruomeninių organizacijų institucinio stiprinimo projektų (gebėjimai, lyderystė, sąlygos viešosios naudos organizacijų veiklos tvarumui užtikrinti, socialinis verslas ir kt. ) - vietos veiklos grupių strategijų įgyvendinimas
B39: 2.8. tikslas | C39: ='[1]II skyrius'!D56 -> Tobulinti viešojo valdymo sistemą, didinti jos efektyvumą ir atvirumą
C40: Inovatyvių sprendimų ir būdų, savivaldybėje ir jos įstaigose galinčių padidinti viešojo efektyvumo valdymo efektyvumą diegimas (miesto dvynio informacinės sistemos sukūrimas)
C41: Miesto vaizdo stebėjimo sistemos naujinimas ir plėtra
C42: Priedangų atsparumo stiprinimas ir pritaikymas riboto judumo asmenims (naujas)
B43: 3 prioritetas | C43: Tvarus, subalansuotas savivaldybės aplinkos vystymas ir plėtra
...

Sheet V skyrius. Programos
F3: V SKYRIUS PROGRAMOS
F4: Visagino savivaldybės 2026–2028 metų strateginį veiklos planą sudaro 10 įvairius savivaldybės veiklos sektorius apimančių programų. Kiekvienoje programoje iškelti trejų metų veiklos strateginiai uždaviniai, suformuluotos priemonės ir konkretizuoti rezultatų pasiekimo rodikliai. Programos buvo pasirinktos,susisteminus ir apibendrinus vietos savivaldos principus, savivaldybės instituciją ir jos kompetenciją, numatytas vykdyti funkcijas, savivaldybės mero, savivaldybės tarybos nario statusą, savivaldybių ūkinės ir finansinės veiklos pagrindus, taip pat išanalizavus viešojo administravimo sritis, viešojo administravimo subjektų sistemą ir administracinės procedūros organizavimo pagrindus.
F11: 3 lentelė. 2026-2028 metų asignavimų ir kitų lėšų pasiskirstymas pagal programas (tūkst. eurų)
F12: Eil. Nr. | G12: Programos kodas ir pavadinimas | H12: 2024 metų asignavimai ir kitos lėšos | I12: Pokytis proc. | J12: 2025 m. asignavimų ir kitų lėšų poreikis , tūkst. Eur | K12: 2025metų asignavimai ir kitos lėšos | L12: 2026 metų asignavimai ir kitos lėšos | N12: 2026 metų asignavimų ir kitų lėšų poreikis | O12: 2027 metų asignavimai ir kitos lėšos | P12: 2027 metų asignavimų ir kitų lėšų poreikis | Q12: 2028 metų asignavimai ir kitos lėšos | R12: 2028 metų asignavimų ir kitų lėšų poreikis | V12: 2025 | W12: 2026 | X12: 2027 | Y12: 2028
F13: 1 | G13: 2 | H13: 3 | K13: 4 | L13: 5 | N13: 5 | O13: 5 | P13: 5 | Q13: 5 | R13: 5 | U13: 1 | V13: =K14 -> 6147.301 | W13: =L14 -> 6754.748 | X13: =O14 -> 7219.5275 | Y13: =Q14 -> 7725.2132
F14: 1 | G14: Valdymo tobulinimo programa (01) | H14: =SUM('1 programa '!H218) -> 5799.304 | I14: =K14/H14-1 -> 0.060006684 | J14: =SUM('1 programa '!J218) -> 6358.191 | K14: =SUM('1 programa '!K218) -> 6147.301 | L14: =SUM('1 programa '!L218) -> 6754.748 | M14: =(L14-K14)/K14 -> 0.098815236 | N14: ='1 programa '!M218 -> 6571.295 | O14: =SUM('1 programa '!O218) -> 7219.5275 | P14: =SUM('1 programa '!P218) -> 6871.849 | Q14: ='1 programa '!Q218 -> 7725.2132 | R14: ='1 programa '!R218 -> 7005.524 | S14: =H14-'Suvestinė pagal FŠ'!DG7 -> -1420.2235 | U14: 2 | V14: =K15 -> 24211.255 | W14: =L15 -> 23592.529 | X14: =O15 -> 22234.658 | Y14: =Q15 -> 21967.733
F15: 2 | G15: Švietimo paslaugų plėtros programa (02) | H15: ='2 programa '!H371 -> 21438.919 | I15: =K15/H15-1 -> 0.12931324 | J15: ='2 programa '!J371 -> 11458.421 | K15: ='2 programa '!K371 -> 24211.255 | L15: ='2 programa '!L371 -> 23592.529 | M15: =(L15-K15)/K15 -> -0.025555305 | N15: ='2 programa '!M371 -> 21998.872 | O15: ='2 programa '!O371 -> 22234.658 | P15: ='2 programa '!P371 -> 13625.102 | Q15: ='2 programa '!Q371 -> 21967.733 | R15: ='2 programa '!R371 -> 20525.09 | S15: =H15-'Suvestinė pagal FŠ'!DG11 -> -795.73875 | U15: 3 | V15: =K16 -> 1836.461 | W15: =L16 -> 2423.064 | X15: =O16 -> 1986.515 | Y15: =Q16 -> 2074.5633
F16: 3 | G16: Fizinio aktyvumo ir sporto plėtros programa (03) | H16: ='+3 programa'!H89 -> 1600.845 | I16: =K16/H16-1 -> 0.14718227 | J16: ='+3 programa'!J89 -> 178 | K16: ='+3 programa'!K89 -> 1836.461 | L16: ='+3 programa'!L89 -> 2423.064 | M16: =(L16-K16)/K16 -> 0.31942034 | N16: ='+3 programa'!M89 -> 2857.244 | O16: ='+3 programa'!O89 -> 1986.515 | P16: ='+3 programa'!P89 -> 2496.28 | Q16: ='+3 programa'!Q89 -> 2074.5633 | R16: ='+3 programa'!R89 -> 2709.755 | S16: =H16-'Suvestinė pagal FŠ'!DG15 -> -385.67 | U16: 4 | V16: =K17 -> 2237.616 | W16: =L17 -> 2612.543 | X16: =O17 -> 2739.3395 | Y16: =Q17 -> 2956.5604
F17: 4 | G17: Gyventojų kultūrinio aktyvumo skatinimo ir identiteto stiprinimo programa (04) | H17: ='4 programa'!H130 -> 2002.157 | I17: =K17/H17-1 -> 0.11760267 | J17: ='4 programa'!J130 -> 1981.18 | K17: ='4 programa'!K130 -> 2237.616 | L17: ='4 programa'!L130 -> 2612.543 | M17: =(L17-K17)/K17 -> 0.16755645 | N17: ='4 programa'!M130 -> 2814.295 | O17: ='4 programa'!O130 -> 2739.3395 | P17: ='4 programa'!P130 -> 2759.735 | Q17: ='4 programa'!Q130 -> 2956.5604 | R17: ='4 programa'!R130 -> 2831.904 | S17: =H17-'Suvestinė pagal FŠ'!DG19 -> -737.1825 | U17: 5 | V17: =K18 -> 669.025 | W17: =L18 -> 760.43 | X17: =O18 -> 722.454 | Y17: =Q18 -> 560.704
F18: 5 | G18: Bendruomeniškumo skatinimo programa (05) | H18: ='+5 programa'!H114 -> 331.956 | I18: =K18/H18-1 -> 1.0154026 | J18: ='+5 programa'!J114 -> 792 | K18: ='+5 programa'!K114 -> 669.025 | L18: ='+5 programa'!L114 -> 760.43 | M18: =(L18-K18)/K18 -> 0.13662419 | N18: ='+5 programa'!M114 -> 804.03 | O18: ='+5 programa'!O114 -> 722.454 | P18: ='+5 programa'!P114 -> 682.454 | Q18: ='+5 programa'!Q114 -> 560.704 | R18: ='+5 programa'!R114 -> 574.704 | S18: =H18-'Suvestinė pagal FŠ'!DG23 -> -390.498 | U18: 6 | V18: =K19 -> 17768.559 | W18: =L19 -> 21427.353 | X18: =O19 -> 19970.692 | Y18: =Q19 -> 17253.614
F19: 6 | G19: Socialinės paramos programa (06) | H19: ='6 programa'!I289 -> 14477.562 | I19: =K19/H19-1 -> 0.22731707 | J19: ='6 programa'!K289 -> 16758.781 | K19: ='6 programa'!L289 -> 17768.559 | L19: ='6 programa'!M289 -> 21427.353 | M19: =(L19-K19)/K19 -> 0.20591394 | N19: ='6 programa'!N289 -> 20806.59 | O19: ='6 programa'!P289 -> 19970.692 | P19: ='6 programa'!Q289 -> 19456.853 | Q19: ='6 programa'!R289 -> 17253.614 | R19: ='6 programa'!S289 -> 16948.684 | S19: =H19-'Suvestinė pagal FŠ'!DG27 -> -5493.13 | U19: 7 | V19: =K20 -> 1808.8367 | W19: =L20 -> 2212.136 | X19: =O20 -> 925.153 | Y19: =Q20 -> 719.261
F20: 7 | G20: Sveikatos apsaugos paslaugų kokybės gerinimo programa (07) | H20: ='7 programa'!H177 -> #REF! | I20: =K20/H20-1 -> #REF! | J20: ='7 programa'!J177 -> 1621.9135 | K20: ='7 programa'!K177 -> 1808.8367 | L20: ='7 programa'!L177 -> 2212.136 | M20: =(L20-K20)/K20 -> 0.22296057 | N20: ='7 programa'!M177 -> 2028.989 | O20: ='7 programa'!O177 -> 925.153 | P20: ='7 programa'!P177 -> 916.86 | Q20: ='7 programa'!Q177 -> 719.261 | R20: ='7 programa'!R177 -> 710.968 | S20: =H20-'Suvestinė pagal FŠ'!DG31 -> #REF! | U20: 8 | V20: =K21 -> 5190.364 | W20: =L21 -> 6117.924 | X20: =O21 -> 6586.084 | Y20: =Q21 -> 5514.7175
F21: 8 | G21: Aplinkos apsaugos programa (08) | H21: ='8 programa'!H169 -> 4399.305 | I21: =K21/H21-1 -> 0.17981454 | J21: ='8 programa'!J169 -> 4476.937 | K21: ='8 programa'!K169 -> 5190.364 | L21: ='8 programa'!L169 -> 6117.924 | M21: =(L21-K21)/K21 -> 0.17870808 | N21: ='8 programa'!M169 -> 6110.083 | O21: ='8 programa'!O169 -> 6586.084 | P21: ='8 programa'!P169 -> 6463.618 | Q21: ='8 programa'!Q169 -> 5514.7175 | R21: ='8 programa'!R169 -> 5509.743 | S21: =H21-'Suvestinė pagal FŠ'!DG35 -> -2186.779 | U21: 9 | V21: =K22 -> 2858.5157 | W21: =L22 -> 3319.078 | X21: =O22 -> 6253.946 | Y21: =Q22 -> 3741.811
F22: 9 | G22: Ekonominės plėtros programa (09) | H22: =SUM('+9 programa'!E209) -> 2019.759 | I22: =K22/H22-1 -> 0.41527563 | J22: =SUM('+9 programa'!G209) -> 2169.125 | K22: =SUM('+9 programa'!H209) -> 2858.5157 | L22: =SUM('+9 programa'!I209) -> 3319.078 | M22: =(L22-K22)/K22 -> 0.16111939 | N22: ='+9 programa'!J209 -> 3239.701 | O22: =SUM('+9 programa'!L209) -> 6253.946 | P22: =SUM('+9 programa'!M209) -> 6193.447 | Q22: ='+9 programa'!N209 -> 3741.811 | R22: ='+9 programa'!O209 -> 3688.893 | S22: =H22-'Suvestinė pagal FŠ'!DG39 -> -4234.187 | U22: 10 | V22: =K23 -> 8961.096 | W22: =L23 -> 9501.943 | X22: =O23 -> 18925.561 | Y22: =Q23 -> 13893.03
F23: 10 | G23: Viešosios infrastruktūros programa (10) | H23: ='10 programa'!H297 -> #REF! | I23: =K23/H23-1 -> #REF! | J23: ='10 programa'!J297 -> 6900.271 | K23: ='10 programa'!K297 -> 8961.096 | L23: ='10 programa'!L297 -> 9501.943 | M23: =(L23-K23)/K23 -> 0.060355006 | N23: ='10 programa'!M297 -> 12741.474 | O23: ='10 programa'!O297 -> 18925.561 | P23: ='10 programa'!P297 -> 18532.589 | Q23: ='10 programa'!Q297 -> 13893.03 | R23: ='10 programa'!R297 -> 13807.419 | S23: =H23-'Suvestinė pagal FŠ'!DG43 -> #REF!
G24: Iš viso: | H24: =SUM(H14:H23) -> #REF! | I24: =K24/H24-1 -> #REF! | J24: =SUM(J14:J23) -> 52694.819 | K24: =SUM(K14:K23) -> 71689.029 | L24: =SUM(L14:L23) -> 78721.748 | M24: =(L24-K24)/K24 -> 0.098100346 | N24: =SUM(N14:N23) -> 79972.573 | O24: =SUM(O14:O23) -> 87563.929 | P24: =SUM(P14:P23) -> 77998.787 | Q24: =SUM(Q14:Q23) -> 76407.208 | R24: =SUM(R14:R23) -> 74312.684
F25: 1. Savivaldybės biudžetas (įskaitant skolintas lėšas) | H25: =SUM(H27,H29,H34,H35,H36,H37,) -> #REF! | J25: =SUM(J27,J29,J34,J35,J36,J37,) -> 45131.928 | K25: =SUM(K27,K29,K34,K35,K36,K37,) -> 64146.138 | L25: =SUM(L27,L29,L34,L35,L36,L37,) -> 70433.226 | M25: =(L25-K25)/K25 -> 0.098011942 | N25: =SUM(N27,N29,N34,N35,N36,N37,) -> 72097.87 | O25: =SUM(O27,O29,O34,O35,O36,O37,) -> 79108.208 | P25: =SUM(P27,P29,P34,P35,P36,P37,) -> 70329.674 | Q25: =SUM(Q27,Q29,Q34,Q35,Q36,Q37,) -> 68403.438 | R25: =SUM(R27,R29,R34,R35,R36,R37,) -> 66873.559
F26: Iš jo:
F27: 1.1. savivaldybės biudžeto lėšos (nuosavos, be ankstesnių metų likučio), iš jų: | H27: =SUM('1 programa '!H209,'2 programa '!H361,'+3 programa'!H80,'4 programa'!H122,'+5 programa'!H107,'6 programa'!I280,'7 programa'!H168,'8 programa'!H160,'+9 programa'!E200,'10 programa'!H290) -> #REF! | I27: =K27/H27-1 -> #REF! | J27: =SUM('1 programa '!J209,'2 programa '!J361,'+3 programa'!J80,'4 programa'!J122,'+5 programa'!J107,'6 programa'!K280,'7 programa'!J168,'8 programa'!J160,'+9 programa'!G200,'10 programa'!J290) -> 29348.84 | K27: =SUM('1 programa '!K209,'2 programa '!K361,'+3 programa'!K80,'4 programa'!K122,'+5 programa'!K107,'6 programa'!L280,'7 programa'!K168,'8 programa'!K160,'+9 programa'!H200,'10 programa'!K290) -> 29317.727 | L27: =SUM('1 programa '!L209,'2 programa '!L361,'+3 programa'!L80,'4 programa'!L122,'+5 programa'!L107,'6 programa'!M280,'7 programa'!L168,'8 programa'!L160,'+9 programa'!I200,'10 programa'!L290) -> 32017.37 | M27: =(L27-K27)/K27 -> 0.092082275 | N27: =SUM('1 programa '!M209,'2 programa '!M361,'+3 programa'!M80,'4 programa'!M122,'+5 programa'!M107,'6 programa'!N280,'7 programa'!M168,'8 programa'!M160,'+9 programa'!J200,'10 programa'!M290) -> 45626.143 | O27: =SUM('1 programa '!O209,'2 programa '!O361,'+3 programa'!O80,'4 programa'!O122,'+5 programa'!O107,'6 programa'!P280,'7 programa'!O168,'8 programa'!O160,'+9 programa'!L200,'10 programa'!O290) -> 47377.358 | P27: =SUM('1 programa '!P209,'2 programa '!P361,'+3 programa'!P80,'4 programa'!P122,'+5 programa'!P107,'6 programa'!Q280,'7 programa'!P168,'8 programa'!P160,'+9 programa'!M200,'10 programa'!P290) -> 42614.544 | Q27: =SUM('1 programa '!Q209,'2 programa '!Q361,'+3 programa'!Q80,'4 programa'!Q122,'+5 programa'!Q107,'6 programa'!R280,'7 programa'!Q168,'8 programa'!Q160,'+9 programa'!N200,'10 programa'!Q290) -> 46461.03 | R27: =SUM('1 programa '!R209,'2 programa '!R361,'+3 programa'!R80,'4 programa'!R122,'+5 programa'!R107,'6 programa'!S280,'7 programa'!R168,'8 programa'!R160,'+9 programa'!O200,'10 programa'!R290) -> 44778.562
F28: 1.1.1. Aplinkos apsaugos rėmimo specialiosios programos lėšos su ankstesnių metų likučiu | H28: ='7 programa'!H169+'8 programa'!H161 -> 58 | I28: =K28/H28-1 -> 1.2125345 | K28: =SUM('7 programa'!K169,'7 programa'!K170,'8 programa'!K161,'8 programa'!K162,) -> 128.327 | L28: =SUM('7 programa'!L169,'7 programa'!L170,'8 programa'!L161,'8 programa'!L162,) -> 92.87 | M28: =(L28-K28)/K28 -> -0.27630195 | N28: =SUM('8 programa'!M161,'8 programa'!M162,'7 programa'!M169,'7 programa'!M170,) -> 112.65 | O28: =SUM('7 programa'!O169,'7 programa'!O170,'8 programa'!O161,'8 programa'!O162,) -> 87.2 | P28: =SUM('7 programa'!O169,'7 programa'!O170,'8 programa'!O161,'8 programa'!O162,) -> 87.2 | Q28: =SUM('7 programa'!Q169,'7 programa'!Q170,'8 programa'!Q161,'8 programa'!Q162,) -> 87.2 | R28: =SUM('7 programa'!Q169,'7 programa'!Q170,'8 programa'!Q161,'8 programa'!Q162,) -> 87.2
F29: 1.2. Lietuvos Respublikos valstybės biudžeto dotacijos, iš jų: | H29: =SUM('1 programa '!H210,,'2 programa '!H362,'+3 programa'!H81,'4 programa'!H123,'+5 programa'!H108,'6 programa'!I281,'7 programa'!H171,'8 programa'!H163,'+9 programa'!E201,'10 programa'!H291) -> 13182.072 | I29: =K29/H29-1 -> 0.18299566 | J29: =SUM('1 programa '!J210,,'2 programa '!J362,'+3 programa'!J81,'4 programa'!J123,'+5 programa'!J108,'6 programa'!K281,'7 programa'!J171,'8 programa'!J163,'+9 programa'!G201,'10 programa'!J291) -> 3321.327 | K29: =SUM('1 programa '!K210,,'2 programa '!K362,'+3 programa'!K81,'4 programa'!K123,'+5 programa'!K108,'6 programa'!L281,'7 programa'!K171,'8 programa'!K163,'+9 programa'!H201,'10 programa'!K291) -> 15594.334 | L29: =SUM(L30,L31,L32,L33) -> 16302.987 | M29: =(L29-K29)/K29 -> 0.045442979 | N29: =SUM(N30,N31,N32,N33,) -> 15732.023 | O29: =SUM(O30,O31,O32,O33,) -> 16302.987 | P29: =SUM(P30,P31,P32,P33,) -> 14782.241 | Q29: =SUM(Q30,Q31,Q32,Q33,) -> 16302.987 | R29: =SUM(R30,R31,R32,R33,) -> 16743.878
F30: 1.2.1. Valstybinės (valstybės perduotos savivaldybėms) funkcijos (D) | K30: =SUM('1 programa '!K211,'6 programa'!L282,'7 programa'!K171,'+9 programa'!H202,) -> 2613.384 | L30: =SUM('1 programa '!L211,'6 programa'!M282,'7 programa'!L171,'+9 programa'!I202,) -> 3033.484 | M30: =(L30-K30)/K30 -> 0.16074943 | N30: =SUM('1 programa '!M211,'6 programa'!N282,'7 programa'!M171,'+9 programa'!J202,) -> 3160.157 | O30: =SUM('1 programa '!O211,'6 programa'!P282,'7 programa'!O171,'8 programa'!O163,'+9 programa'!L202) -> 3033.484 | P30: =SUM('1 programa '!P211,'6 programa'!Q282,'7 programa'!P171,'8 programa'!P163,'+9 programa'!M202) -> 3240.214 | Q30: =SUM('1 programa '!Q211,'6 programa'!R282,'7 programa'!Q171,'8 programa'!Q163,'+9 programa'!N202) -> 3033.484 | R30: =SUM('1 programa '!R211,'6 programa'!S282,'7 programa'!R171,'8 programa'!R163,'+9 programa'!O202) -> 3283.812
F31: Ugdymo reikmėms finansuoti (MK) | K31: =SUM('2 programa '!K363,'+3 programa'!K82) -> 10540 | L31: =SUM('2 programa '!L363,'+3 programa'!L82) -> 11317.7 | M31: =(L31-K31)/K31 -> 0.073785579 | N31: =SUM('2 programa '!M363,'+3 programa'!M82) -> 10697.185 | O31: =SUM('2 programa '!O363,'+3 programa'!O82) -> 11317.7 | P31: =SUM('2 programa '!P363,'+3 programa'!P81) -> 9758.34 | Q31: =SUM('2 programa '!Q363,'+3 programa'!Q82) -> 11317.7 | R31: =SUM('2 programa '!R363,'+3 programa'!R81) -> 11591.867
F32: 1.1.2. Savivaldybių mokykloms (klasėms arba grupėms), skirtoms šalies (regiono) mokiniams, turintiems specialiųjų ugdymosi poreikių, ir kitoms savivaldybėms perduotoms įstaigoms išlaikyti | K32: =SUM('2 programa '!K364) -> 40.2 | L32: =SUM('2 programa '!L364) -> 35.8 | M32: =(L32-K32)/K32 -> -0.10945274 | N32: =SUM('2 programa '!M364) -> 41.1 | O32: ='2 programa '!O364 -> 35.8 | P32: ='2 programa '!P364 -> 35.8 | Q32: ='2 programa '!Q364 -> 35.8 | R32: ='2 programa '!R364 -> 45.4 | U32: =L27+L37+L36 -> 43818.048
F33: 1.1.3. Valstybės biudžeto lėšos ir kitos dotacijos (SD) | K33: =SUM('1 programa '!K212,'2 programa '!K365,'4 programa'!K123,'+5 programa'!K108,'6 programa'!L283,'+9 programa'!H203,'10 programa'!K291) -> 2400.75 | L33: =SUM('1 programa '!L212,'2 programa '!L365,'4 programa'!L123,'+5 programa'!L108,'6 programa'!M283,'+9 programa'!I203,'10 programa'!L291,'+3 programa'!L83) -> 1916.003 | M33: =(L33-K33)/K33 -> -0.20191482 | N33: =SUM('1 programa '!M212,'2 programa '!M364,'+3 programa'!M83,'4 programa'!M124,'+5 programa'!M108,'6 programa'!N283,'+9 programa'!J203,'10 programa'!M291,) -> 1833.581 | O33: =SUM('1 programa '!O212,'2 programa '!O365,'+3 programa'!O83,'4 programa'!O123,'+5 programa'!O108,'6 programa'!P283,'+9 programa'!L203,'10 programa'!O291) -> 1916.003 | P33: =SUM('1 programa '!P212,'2 programa '!P364,'+3 programa'!P83,'4 programa'!P124,'+5 programa'!P108,'6 programa'!Q283,'+9 programa'!M203,'10 programa'!P291) -> 1747.887 | Q33: =SUM('1 programa '!Q212,'2 programa '!Q365,'+3 programa'!Q83,'4 programa'!Q123,'+5 programa'!Q108,'6 programa'!R283,'+9 programa'!N203,'10 programa'!Q291) -> 1916.003 | R33: =SUM('1 programa '!R212,'2 programa '!R365,'4 programa'!R123,'+5 programa'!R108,'6 programa'!S283,'+9 programa'!O203,'10 programa'!R291) -> 1822.799 | S33: ž
F34: 1.3. Pajamų įmokos ir kitos pajamos su ankstesnių metų likučiu | H34: =SUM('1 programa '!H213,'2 programa '!H366,'+3 programa'!H84,'4 programa'!H125,'+5 programa'!H109,'6 programa'!I284,'7 programa'!H172,'8 programa'!H164,'+9 programa'!E204,'10 programa'!H292) -> 1550 | I34: =K34/H34-1 -> 0.13990645 | J34: =SUM('1 programa '!J213,'2 programa '!J366,'+3 programa'!J84,'4 programa'!J125,'+5 programa'!J109,'6 programa'!K284,'7 programa'!J172,'8 programa'!J164,'+9 programa'!G204,'10 programa'!J292) -> 969.843 | K34: =SUM('1 programa '!K213,'2 programa '!K366,'+3 programa'!K84,'4 programa'!K125,'+5 programa'!K109,'6 programa'!L284,'7 programa'!K172,'8 programa'!K164,'+9 programa'!H204,'10 programa'!K292) -> 1766.855 | L34: =SUM('1 programa '!L213,'2 programa '!L366,'+3 programa'!L84,'4 programa'!L125,'+5 programa'!L109,'6 programa'!M284,'7 programa'!L172,'8 programa'!L164,'+9 programa'!I204,'10 programa'!L292) -> 1792.212 | M34: =(L34-K34)/K34 -> 0.014351489 | N34: =SUM('1 programa '!M213,'2 programa '!M366,'+3 programa'!M84,'4 programa'!M125,'+5 programa'!M109,'6 programa'!N284,'7 programa'!M172,'8 programa'!M164,'+9 programa'!J204,'10 programa'!M292) -> 1668.65 | O34: =SUM('1 programa '!O213,'2 programa '!O366,'4 programa'!O125,'+5 programa'!O109,'6 programa'!P284,'7 programa'!O172,'8 programa'!O164,'+9 programa'!L204,'10 programa'!O292) -> 1710.67 | P34: =SUM('1 programa '!P213,'2 programa '!P366,'4 programa'!P125,'+5 programa'!P109,'6 programa'!Q284,'7 programa'!P172,'8 programa'!P164,'+9 programa'!M204,'10 programa'!P292) -> 1710.67 | Q34: =SUM('1 programa '!Q213,'2 programa '!Q366,'4 programa'!Q125,'+5 programa'!Q109,'6 programa'!R284,'7 programa'!Q172,'8 programa'!Q164,'+9 programa'!N204,'10 programa'!Q292) -> 1745.87 | R34: =SUM('1 programa '!R213,'2 programa '!R366,'4 programa'!R125,'+5 programa'!R109,'6 programa'!S284,'7 programa'!R172,'8 programa'!R164,'+9 programa'!O204,'10 programa'!R292) -> 1745.87
F35: 1.4. Europos Sąjungos ir kitos tarptautinės finansinės paramos lėšos su ankstesnių metų likučiu (ES, EGDAP) | H35: =SUM('1 programa '!H214,'2 programa '!H367,'+3 programa'!H85,'4 programa'!H126,'+5 programa'!H110,'6 programa'!I285,'7 programa'!H173,'8 programa'!H165,'+9 programa'!E205,'10 programa'!H293) -> #REF! | I35: =K35/H35-1 -> #REF! | J35: =SUM('1 programa '!J214,'2 programa '!J367,'+3 programa'!J85,'4 programa'!J126,'+5 programa'!J110,'6 programa'!K285,'7 programa'!J173,'8 programa'!J165,'+9 programa'!G205,'10 programa'!J293) -> 9050.3027 | K35: =SUM('1 programa '!K214,'2 programa '!K367,'+3 programa'!K85,'4 programa'!K126,'+5 programa'!K110,'6 programa'!L285,'7 programa'!K173,'8 programa'!K165,'+9 programa'!H205,'10 programa'!K293) -> 9658.4624 | L35: =SUM('1 programa '!L214,'2 programa '!L367,'+3 programa'!L85,'4 programa'!L126,'+5 programa'!L110,'6 programa'!M285,'7 programa'!L173,'8 programa'!L165,'+9 programa'!I205,'10 programa'!L293) -> 8519.979 | M35: =(L35-K35)/K35 -> -0.11787419 | N35: =SUM('1 programa '!M214,'2 programa '!M367,'+3 programa'!M85,'4 programa'!M126,'+5 programa'!M110,'6 programa'!N285,'7 programa'!M173,'8 programa'!M165,'+9 programa'!J205,'10 programa'!M293) -> 9071.054 | O35: =SUM('1 programa '!O214,'2 programa '!O367,'+3 programa'!O85,'4 programa'!O126,'+5 programa'!O110,'6 programa'!P285,'7 programa'!O173,'8 programa'!O165,'+9 programa'!L205,'10 programa'!O293) -> 11608.651 | P35: =SUM('1 programa '!P214,'2 programa '!P367,'+3 programa'!P85,'4 programa'!P126,'+5 programa'!P110,'6 programa'!Q285,'7 programa'!P173,'8 programa'!P165,'+9 programa'!M205,'10 programa'!P293) -> 11222.219 | Q35: =SUM('1 programa '!Q214,'2 programa '!Q367,'+3 programa'!Q85,'4 programa'!Q126,'+5 programa'!Q110,'6 programa'!R285,'7 programa'!Q173,'8 programa'!Q165,'+9 programa'!N205,'10 programa'!Q293) -> 3605.249 | R35: =SUM('1 programa '!R214,'2 programa '!R367,'+3 programa'!R85,'4 programa'!R126,'+5 programa'!R110,'6 programa'!S285,'7 programa'!R173,'8 programa'!R165,'+9 programa'!O205,'10 programa'!R293) -> 3605.249
F36: 1.5. Skolintos lėšos | H36: =SUM('1 programa '!H215,'2 programa '!H368,'+3 programa'!H86,'4 programa'!H127,'+5 programa'!H111,'6 programa'!I286,'7 programa'!H174,'8 programa'!H166,'+9 programa'!E206,'10 programa'!H294) -> 325.057 | I36: =K36/H36-1 -> -0.91936799 | J36: =SUM('1 programa '!J215,'2 programa '!J368,'+3 programa'!J86,'4 programa'!J127,'+5 programa'!J111,'6 programa'!K286,'7 programa'!J174,'8 programa'!J166,'+9 programa'!G206,'10 programa'!J294) -> 26.214 | K36: =SUM('1 programa '!K215,'2 programa '!K368,'+3 programa'!K86,'4 programa'!K127,'+5 programa'!K111,'6 programa'!L286,'7 programa'!K174,'8 programa'!K166,'+9 programa'!H206,'10 programa'!K294) -> 26.21 | L36: =SUM('1 programa '!L215,'2 programa '!L368,'+3 programa'!L86,'4 programa'!L127,'+5 programa'!L111,'6 programa'!M286,'7 programa'!L174,'8 programa'!L166,'+9 programa'!I206,'10 programa'!L294,) -> 2525.344 | M36: =(L36-K36)/K36 -> 95.350401 | N36: =SUM('1 programa '!M215,'2 programa '!M368,'+3 programa'!M86,'4 programa'!M127,'+5 programa'!M111,'6 programa'!N286,'7 programa'!M174,'8 programa'!M166,'+9 programa'!J206,'10 programa'!M294) -> 0 | O36: =SUM('1 programa '!O215,'2 programa '!O368,'+3 programa'!O86,'4 programa'!O127,'+5 programa'!O111,'6 programa'!P286,'7 programa'!O174,'8 programa'!O166,'+9 programa'!L206,'10 programa'!O294,'+5 programa'!O77) -> 2108.542 | P36: =SUM('1 programa '!P215,'2 programa '!P368,'+3 programa'!P86,'4 programa'!P127,'+5 programa'!P111,'6 programa'!Q286,'7 programa'!P174,'8 programa'!P166,'+9 programa'!M206,'10 programa'!P294) -> 0 | Q36: =SUM('1 programa '!Q215,'2 programa '!Q368,'+3 programa'!Q86,'4 programa'!Q127,'+5 programa'!Q111,'6 programa'!R286,'7 programa'!Q174,'8 programa'!Q166,'+9 programa'!N206,'10 programa'!Q294,'+5 programa'!Q77) -> 288.302 | R36: =SUM('1 programa '!R215,'2 programa '!R368,'+3 programa'!R86,'4 programa'!R127,'+5 programa'!R111,'6 programa'!S286,'7 programa'!R174,'8 programa'!R166,'+9 programa'!O206,'10 programa'!R294) -> 0
F37: 1.6. Ankstesnių metų likučiai | H37: =SUM('1 programa '!H216,'2 programa '!H369,'+3 programa'!H87,'4 programa'!H128,'+5 programa'!H112,'6 programa'!I287,'7 programa'!H175,'8 programa'!H167,'+9 programa'!E207,'10 programa'!H295) -> #REF! | I37: =K37/H37-1 -> #REF! | J37: =SUM('1 programa '!J216,'2 programa '!J369,'+3 programa'!J87,'4 programa'!J128,'+5 programa'!J112,'6 programa'!K287,'7 programa'!J175,'8 programa'!J167,'+9 programa'!G207,'10 programa'!J295) -> 2415.402 | K37: =SUM('1 programa '!K216,'2 programa '!K369,'+3 programa'!K87,'4 programa'!K128,'+5 programa'!K112,'6 programa'!L287,'7 programa'!K175,'8 programa'!K167,'+9 programa'!H207,'10 programa'!K295) -> 7782.55 | L37: =SUM('1 programa '!L216,'2 programa '!L369,'+3 programa'!L87,'4 programa'!L128,'+5 programa'!L112,'6 programa'!M287,'7 programa'!L175,'8 programa'!L167,'+9 programa'!I207,'10 programa'!L295) -> 9275.334 | M37: =(L37-K37)/K37 -> 0.19181168 | N37: =SUM('1 programa '!M216,'2 programa '!M369,'+3 programa'!M87,'4 programa'!M128,'+5 programa'!M112,'6 programa'!N287,'7 programa'!M175,'8 programa'!M167,'+9 programa'!J207,'10 programa'!M295) -> 0 | O37: =SUM('1 programa '!O216,'2 programa '!O369,'+3 programa'!O87,'4 programa'!O128,'+5 programa'!O112,'6 programa'!P287,'7 programa'!O175,'8 programa'!O167,'+9 programa'!L207,'10 programa'!O295) -> 0 | P37: =SUM('1 programa '!P216,'2 programa '!P369,'+3 programa'!P87,'4 programa'!P128,'+5 programa'!P112,'6 programa'!Q287,'7 programa'!P175,'8 programa'!P167,'+9 programa'!M207,'10 programa'!P295) -> 0 | Q37: =SUM('1 programa '!Q216,'2 programa '!Q369,'+3 programa'!Q87,'4 programa'!Q128,'+5 programa'!Q112,'6 programa'!R287,'7 programa'!Q175,'8 programa'!Q167,'+9 programa'!N207,'10 programa'!Q295) -> 0 | R37: =SUM('1 programa '!R216,'2 programa '!R369,'+3 programa'!R87,'4 programa'!R128,'+5 programa'!R112,'6 programa'!S287,'7 programa'!R175,'8 programa'!R167,'+9 programa'!O207,'10 programa'!R295) -> 0 | T37: 9359.36
F38: 2. Kiti šaltiniai (Europos Sąjungos finansinė parama projektams įgyvendinti ir kitos teisėtai gautos lėšos, nurodant atskirus šaltinius) | H38: =SUM('1 programa '!H217,'2 programa '!H370,'+3 programa'!H88,'4 programa'!H129,'+5 programa'!H113,'6 programa'!I288,'7 programa'!H176,'8 programa'!H168,'+9 programa'!E208,'10 programa'!H296) -> 6892.322 | I38: =K38/H38-1 -> 0.094390396 | J38: =SUM('1 programa '!J217,'2 programa '!J370,'+3 programa'!J88,'4 programa'!J129,'+5 programa'!J113,'6 programa'!K288,'7 programa'!J176,'8 programa'!J168,'+9 programa'!G208,'10 programa'!J296) -> 7542.891 | K38: =SUM('1 programa '!K217,'2 programa '!K370,'+3 programa'!K88,'4 programa'!K129,'+5 programa'!K113,'6 programa'!L288,'7 programa'!K176,'8 programa'!K168,'+9 programa'!H208,'10 programa'!K296) -> 7542.891 | L38: =SUM('1 programa '!L217,'2 programa '!L370,'+3 programa'!L88,'4 programa'!L129,'+5 programa'!L113,'6 programa'!M288,'7 programa'!L176,'8 programa'!L168,'+9 programa'!I208,'10 programa'!L296) -> 8288.522 | M38: =(L38-K38)/K38 -> 0.098852151 | N38: =SUM('1 programa '!M217,'2 programa '!M370,'+3 programa'!M88,'4 programa'!M129,'+5 programa'!M113,'6 programa'!N288,'7 programa'!M176,'8 programa'!M168,'+9 programa'!J208,'10 programa'!M296) -> 7834.133 | O38: =SUM('1 programa '!O217,'2 programa '!O370,'+3 programa'!O88,'4 programa'!O129,'+5 programa'!O113,'6 programa'!P288,'7 programa'!O176,'8 programa'!O168,'+9 programa'!L208,'10 programa'!O296) -> 8455.721 | P38: =SUM('1 programa '!P217,'2 programa '!P370,'+3 programa'!P88,'4 programa'!P129,'+5 programa'!P113,'6 programa'!Q288,'7 programa'!P176,'8 programa'!P168,'+9 programa'!M208,'10 programa'!P296) -> 7532.057 | Q38: =SUM('1 programa '!Q217,'2 programa '!Q370,'+3 programa'!Q88,'4 programa'!Q129,'+5 programa'!Q113,'6 programa'!R288,'7 programa'!Q176,'8 programa'!Q168,'+9 programa'!N208,'10 programa'!Q296) -> 8003.77 | R38: =SUM('1 programa '!R217,'2 programa '!R370,'+3 programa'!R88,'4 programa'!R129,'+5 programa'!R113,'6 programa'!S288,'7 programa'!R176,'8 programa'!R168,'+9 programa'!O208,'10 programa'!R296) -> 7439.125 | T38: =T37-L37 -> 84.026
F39: IŠ VISO programoms finansuoti pagal finansavimo šaltinius (1 ir 2 punktai) | H39: =SUM('1 programa '!H218,'2 programa '!H371,'+3 programa'!H89,'4 programa'!H130,'+5 programa'!H114,'6 programa'!I289,'7 programa'!H177,'8 programa'!H169,'+9 programa'!E209,'10 programa'!H297) -> #REF! | I39: =K39/H39-1 -> #REF! | J39: =SUM('1 programa '!J218,'2 programa '!J371,'+3 programa'!J89,'4 programa'!J130,'+5 programa'!J114,'6 programa'!K289,'7 programa'!J177,'8 programa'!J169,'+9 programa'!G209,'10 programa'!J297) -> 52694.819 | K39: =SUM('1 programa '!K218,'2 programa '!K371,'+3 programa'!K89,'4 programa'!K130,'+5 programa'!K114,'6 programa'!L289,'7 programa'!K177,'8 programa'!K169,'+9 programa'!H209,'10 programa'!K297) -> 71689.029 | L39: =SUM('1 programa '!L218,'2 programa '!L371,'+3 programa'!L89,'4 programa'!L130,'+5 programa'!L114,'6 programa'!M289,'7 programa'!L177,'8 programa'!L169,'+9 programa'!I209,'10 programa'!L297) -> 78721.748 | M39: =(L39-K39)/K39 -> 0.098100346 | N39: =SUM(N27,N29,N34,N35,N36,N37,N38) -> 79932.003 | O39: =SUM('1 programa '!O218,'2 programa '!O371,'+3 programa'!O89,'4 programa'!O130,'+5 programa'!O114,'6 programa'!P289,'7 programa'!O177,'8 programa'!O169,'+9 programa'!L209,'10 programa'!O297) -> 87563.929 | P39: =SUM(P27,P29,P34,P35,P36,P37,P38) -> 77861.731 | Q39: =SUM(Q25+Q38) -> 76407.208 | R39: =SUM(R25+R38) -> 74312.684
F40: Iš jų: regioninių pažangos priemonių lėšos (RP) | H40: =SUM('1 programa '!H219,'2 programa '!H372,'+3 programa'!H90,'4 programa'!H131,'+5 programa'!H115,'6 programa'!I290,'7 programa'!H178,'8 programa'!H170,'+9 programa'!E210,'10 programa'!H298) -> 3553.578 | I40: =K40/H40-1 -> 1.4944903 | J40: =SUM('1 programa '!J219,'2 programa '!J372,'+3 programa'!J90,'4 programa'!J131,'+5 programa'!J115,'6 programa'!K290,'7 programa'!J178,'8 programa'!J170,'+9 programa'!G210,'10 programa'!J298) -> 9282.576 | K40: =SUM('1 programa '!K219,'2 programa '!K372,'+3 programa'!K90,'4 programa'!K131,'+5 programa'!K115,'6 programa'!L290,'7 programa'!K178,'8 programa'!K170,'+9 programa'!H210,'10 programa'!K298) -> 8864.366 | L40: =SUM('1 programa '!L219,'2 programa '!L372,'+3 programa'!L90,'4 programa'!L131,'+5 programa'!L115,'6 programa'!M290,'7 programa'!L178,'8 programa'!L170,'+9 programa'!I210,'10 programa'!L298) -> 9968.431 | M40: =(L40-K40)/K40 -> 0.12455093 | N40: =SUM('1 programa '!M219,'2 programa '!M372,'+3 programa'!M90,'4 programa'!M131,'+5 programa'!M115,'6 programa'!N290,'7 programa'!M178,'8 programa'!M170,'+9 programa'!J210,'10 programa'!M298) -> 9889.825 | O40: =SUM('1 programa '!O219,'2 programa '!O372,'+3 programa'!O90,'4 programa'!O131,'+5 programa'!O115,'6 programa'!P290,'7 programa'!O178,'8 programa'!O170,'+9 programa'!L210,'10 programa'!O298) -> 12589.158 | P40: =SUM('1 programa '!P219,'2 programa '!P372,'+3 programa'!P90,'4 programa'!P131,'+5 programa'!P115,'6 programa'!Q290,'7 programa'!P178,'8 programa'!P170,'+9 programa'!M210,'10 programa'!P298) -> 12227.535 | Q40: =SUM('1 programa '!Q219,'2 programa '!Q372,'+3 programa'!Q90,'4 programa'!Q131,'+5 programa'!Q115,'6 programa'!R290,'7 programa'!Q178,'8 programa'!Q170,'+9 programa'!N210,'10 programa'!Q298) -> 3351.089 | R40: =SUM('1 programa '!R219,'2 programa '!R372,'+3 programa'!R90,'4 programa'!R131,'+5 programa'!R115,'6 programa'!S290,'7 programa'!R178,'8 programa'!R170,'+9 programa'!O210,'10 programa'!R298) -> 3351.089
F41: Asignavimų ir kitų lėšų pokytis, palyginti su ankstesnių metų patvirtintų asignavimų ir kitų lėšų planu | K41: 0.22 | L41: =(L39-K39)/K39 -> 0.098100346 | O41: =(O39-L39)/L39 -> 0.11232196 | Q41: =(Q39-O39)/O39 -> -0.1274123 | S41: =T38 -> 84.026
G42: n – pirmieji planuojamieji metai, n + 1 – antrieji planuojamieji metai ir n + 2 – tretieji planuojamieji metai. | N42: =N24-N39 -> 40.57 | O42: =O24-O39 -> 0 | P42: =P24-P39 -> 137.056 | Q42: =Q24-Q39 -> 0 | R42: =R39-R24 -> 0
K44: =K24-K39 -> 0 | L44: =L24-L39 -> 0
S47: =U51 -> 0
K48: =L27+L36+L37 -> 43818.048 | L48: ='Suvestinė pagal FŠ'!G62 -> 43725.178
K50: =K48-L48 -> 92.87
G53: =K50-L28 -> 2.6147973e-12

Sheet 1 programa 
A1: Valdymo tobulinimo programa (01)
A2: Programos tikslas - įgyvendinti Lietuvos Respublikos Konstitucijos ir įstatymų nustatytas, Lietuvos Respublikos vietos savivaldos įstatymo reglamentuotas savarankiškąsias savivaldybės bei valstybines (valstybės perduotas savivaldybei) funkcijas. Siekiant užtikrinti, kad minėtos funkcijos būtų vykdomos kokybiškai, ypatingas dėmesys skiriamas šiuolaikiniams vadybos metodams ir informacinėms technologijoms diegti savivaldybėje; vykdomų procedūrų viešumui ir skaidrumui; kontroliuoti ir prižiūrėti, ar teisėtai, efektyviai, ekonomiškai ir rezultatyviai valdomas ir naudojamas savivaldybės turtas ir patikėjimo teise valdomas valstybės turtas, kaip vykdomas savivaldybės biudžetas ir naudojami kiti piniginiai ištekliai. Efektyviai savivaldybės veiklai būtinas racionalus finansinių, materialinių ir žmogiškųjų išteklių paskirstymas, sistemingas veiklos planavimas
A3: =A18 -> 01.01.01. (T) | B3: =B18 -> Gerinti teikiamų paslaugų kokybę, didinti jų prieinamumą ir patrauklumą, tinkamai organizuojant savivaldybės administravimo subjektams priskirtų funkcijų įgyvendinimą
A4: =A36 -> 01.01.02 (T) | B4: =B36 -> Užtikrinti valstybinių (valstybės perduotų savivaldybėms) funkcijų vykdymą
A5: =A95 -> 01.01.03 (T) | B5: =B95 -> Užtikrinti efektyvų savivaldybei nuosavybės teise priklausančio nekilnojamojo turto naudojimą, įmonių bei įstaigų valdymą
A6: =A118 -> 01.01.04. (T) | B6: =B118 -> Sudaryti sąlygas iš anksto negalimoms suplanuoti priemonėms vykdyti bei savivaldybės finansiniams įsipareigojimams įgyvendinti
A7: =A129 -> 01.01.05. (T) | B7: =B129 -> Įgyvendinti Visagino savivaldybės korupcijos prevencijos 2025-2027 metų veiksmų planą
A8: =A132 -> 01.02.02. (T) | B8: =B132 -> Gerinti visuomenei teikiamų paslaugų kokybę, didinant jų atitiktį visuomenės poreikiams
A9: =A183 -> 01.02.03. (T) | B9: =B183 -> Organizuoti savivaldybės veiklą vadovaujantis šiuolaikiniais vadybos metodais
A10: =A189 -> 01.02.04. (T) | B10: =B189 -> Informuoti visuomenę apie savivaldybės veiklą ir formuoti teigiamą savivaldybės įvaizdį, plėtoti dalykinius santykius ir ryšius su tarptautinėmis ir vietinėmis institucijomis ir organizacijomis
A12: Programos įgyvendinimo laikotarpis 2026-2028 m.
A13: Programos įgyvendinimo koordinatorė Jolita Kriaučiūnaitė, jolita.kriauciunaite@visaginas.lt, tel. (0 386) 36 008
A15: 4 lentelė. Valdymo tobulinimo programos (01) uždaviniai, priemonės, asignavimai ir kitos lėšos (tūkst.eurų) ir jų stebėsenos rodikliai
A16: Programos uždavinio, priemonės kodas ir požymis | B16: Uždavinio, priemonės pavadinimas, finansavimo šaltiniai | C16: Asignavimų valdytojo kodas | D16: Finansavimo šaltinis | E16: 2023 m. asignavimų planas | F16: Asignavimų pasikeitimas | G16: 2024 m.asignavimų poreikis | H16: 2024 m.asignavimai ir kitos lėšos, tūkst. Eur | I16: Pokytis proc. | J16: 2025 m. asignavimų ir kitų lėšų poreikis , tūkst. Eur | K16: 2025 m. asignavimai ir kitos lėšos, tūkst. Eur | L16: 2026 m.asignavimai ir kitos lėšos, tūkst. Eur | M16: 2026 m.asignavimai ir kitos lėšos, tūkst. Eur (poreikis) | O16: 2027 m.asignavimai ir kitos lėšos, tūkst. Eur | P16: 2027 m.asignavimai ir kitos lėšos, tūkst. Eur (poreikis) | Q16: 2028 m.asignavimai ir kitos lėšos, tūkst. Eur | R16: 2028 m.asignavimai ir kitos lėšos, tūkst. Eur (poreikis) | S16: Savivaldybės strateginio plėtros plano priemonės kodas | T16: Trumpas priemonės įgyvendinimo aprašymas | U16: Stebėsenos rodiklio kodas | V16: Stebėsenos rodiklio pavadinimas (matavimo vnt.) | W16: Siektinos stebėsenos rodiklių reikšmės | AB16: Savivaldybės strateginio plėtros plano rodiklis
N17: Didėja /mažėja lyginant su 2025 m. proc. | W17: 2024 | X17: 2025 | Y17: 2026 | Z17: 2027 | AA17: 2028
A18: 01.01.01. (T) | B18: Gerinti teikiamų paslaugų kokybę, didinti jų prieinamumą ir patrauklumą, tinkamai organizuojant savivaldybės administravimo subjektams priskirtų funkcijų įgyvendinimą | D18: Iš viso: | E18: =SUM(E23,E31,E33,E35,) -> 3181.359 | F18: =H18/E18-1 -> 0.20598776 | G18: =SUM(G23,G31,G33,G35,) -> 3611.437 | H18: =SUM(H23,H31,H33,H35,) -> 3836.68 | J18: =SUM(J23,J31,J33,J35,) -> 4281.522 | K18: =SUM(K23,K31,K33,K35,) -> 4056.804 | L18: =SUM(L23,L31,L33,L35,) -> 4658.782 | M18: =SUM(M23,M31,M33,M35,) -> 4401.892 | N18: =SUM(L18-K18)/K18 -> 0.14838725 | O18: =SUM(O23,O31,O33,O35,) -> 5045.542 | P18: =SUM(P23,P31,P33,P35,) -> 4585.744 | Q18: =SUM(Q23,Q31,Q33,Q35,) -> 5498.433 | R18: =SUM(R23,R31,R33,R35,) -> 4775.556 | S18: 2.8.-1 | U18: E-01-01-01 | V18: Gyventojų, per paskutinius 12 mėnesių dalyvavusių sprendžiant viešuosius vietos reikalus, dalis proc. | W18: 30 | X18: 40 | Y18: 30 | Z18: 40 | AA18: 45 | AB18: Gyventojų, per paskutinius 12 mėnesių dalyvavusių sprendžiant viešuosius vietos reikalus, dalis proc.
